BEGIN:VCALENDAR
VERSION:2.0
PRODID:-//Langley Chamber of Commerce - ECPv6.15.20//NONSGML v1.0//EN
CALSCALE:GREGORIAN
METHOD:PUBLISH
X-ORIGINAL-URL:https://visitlangley.com
X-WR-CALDESC:Events for Langley Chamber of Commerce
REFRESH-INTERVAL;VALUE=DURATION:PT1H
X-Robots-Tag:noindex
X-PUBLISHED-TTL:PT1H
BEGIN:VTIMEZONE
TZID:America/Los_Angeles
BEGIN:DAYLIGHT
TZOFFSETFROM:-0800
TZOFFSETTO:-0700
TZNAME:PDT
DTSTART:20240310T100000
END:DAYLIGHT
BEGIN:STANDARD
TZOFFSETFROM:-0700
TZOFFSETTO:-0800
TZNAME:PST
DTSTART:20241103T090000
END:STANDARD
BEGIN:DAYLIGHT
TZOFFSETFROM:-0800
TZOFFSETTO:-0700
TZNAME:PDT
DTSTART:20250309T100000
END:DAYLIGHT
BEGIN:STANDARD
TZOFFSETFROM:-0700
TZOFFSETTO:-0800
TZNAME:PST
DTSTART:20251102T090000
END:STANDARD
BEGIN:DAYLIGHT
TZOFFSETFROM:-0800
TZOFFSETTO:-0700
TZNAME:PDT
DTSTART:20260308T100000
END:DAYLIGHT
BEGIN:STANDARD
TZOFFSETFROM:-0700
TZOFFSETTO:-0800
TZNAME:PST
DTSTART:20261101T090000
END:STANDARD
END:VTIMEZONE
BEGIN:VEVENT
DTSTART;TZID=America/Los_Angeles:20250829T180000
DTEND;TZID=America/Los_Angeles:20250831T173000
DTSTAMP:20260424T083517
CREATED:20250826T195925Z
LAST-MODIFIED:20250826T200033Z
UID:10001825-1756490400-1756661400@visitlangley.com
SUMMARY:Oak Harbor Music Festival
DESCRIPTION:Free Music Festival on SE Pioneer Way in Oak Harbor\, WA. Aug 29-30-31\, 2025.\n3- stages with over 40 acts. Center stage kids area\, Arts and Craft booths\, food trucks\, 3- beer & wine gardens. \nMUSIC INSPIRES: The festival is dedicated to hosting a world-class\, 3-day event which contributes vibrancy to the local community\, brings our island neighbors together\, establishes lasting connections with visitors\, and encourages the expression of music in local young people. Our motivation is to provide an inspirational event that brings joy\, builds a sense of community\, generates revenue for Whidbey Island businesses\, and creates musical opportunities for local students by offering scholarships and sponsoring instrument programs designed to provide equal access to music—impacting generations to come.
URL:https://visitlangley.com/events/oak-harbor-music-festival-2
LOCATION:Oak Harbor Music Festival\, SE Pioneer Way\, Oak Harbor\, Washington\, 98277\, United States
CATEGORIES:Annual Events,Community Events,Live Music
ATTACH;FMTTYPE=image/jpeg:https://visitlangley.com/wp-content/uploads/2025/08/OH-Music-festival-2025.jpg
END:VEVENT
BEGIN:VEVENT
DTSTART;TZID=America/Los_Angeles:20250831T120000
DTEND;TZID=America/Los_Angeles:20250831T170000
DTSTAMP:20260424T083517
CREATED:20250805T213904Z
LAST-MODIFIED:20250805T213904Z
UID:10001806-1756641600-1756659600@visitlangley.com
SUMMARY:Whidbey Island Woodworkers Guild presents: Woodpalooza 2025
DESCRIPTION:The Whidbey Island Woodworkers Guild is pleased to announce the return of our “Art + Wood = Woodpalooza @ WICA” Exhibition – the 21st Annual Show of Whidbey’s Finest Woodwork at WICA (Whidbey Island Center for the Arts). This year’s show promises exceptional work by fifteen of Whidbey’s best!\n\nAugust 30 – September 1\, 2025. Exhibition (free). Open August 30th; 10AM – 5PM;  August 31st & September 1st Noon – 5PM.\nWhidbey Island Center for the Arts (WICA)\, Zech Hall\, 565 Camano Avenue\, Langley\, WA 98260 (360-221-8262 or www.WICAonline.com).\n\nDuring the Exhibition\, you are invited to spend quality time with woodworking artisans while you experience the beauty of their creations. You’ll learn firsthand the inspiration and process that go into each artist’s work\, while enjoying many scenic island views as you discover Langley.\n\nThe Guild seeks to support professional woodworkers as well as inspire and educate the budding amateur and provide awareness to the general public of the skills available locally from its talented members. In 2001 the Whidbey Island Woodworkers Guild was formed to bring together the woodworking community of Whidbey. Now in its twenty-fifth year\, the Guild includes makers of furniture\, cabinetry\, architectural woodwork\, turners\, sawyers\, carvers\, restorers\, musical instrument makers\, boat builders and refinishers. Please visit: www.woodpalooza.com for more information.
URL:https://visitlangley.com/events/whidbey-island-woodworkers-guild-presents-woodpalooza-2025
LOCATION:Whidbey Island Center for the Arts Zech Hall\, 565 Camano Avenue\, Langley\, 98260\, United States
CATEGORIES:Community Events
ATTACH;FMTTYPE=image/jpeg:https://visitlangley.com/wp-content/uploads/2025/08/Woodpalooza25-1-scaled.jpg
ORGANIZER;CN="Whidbey Island Woodworkers Guild":MAILTO:info@woodpalooza.com
END:VEVENT
BEGIN:VEVENT
DTSTART;TZID=America/Los_Angeles:20250831T180000
DTEND;TZID=America/Los_Angeles:20250831T210000
DTSTAMP:20260424T083517
CREATED:20250712T210408Z
LAST-MODIFIED:20250712T210408Z
UID:10001740-1756663200-1756674000@visitlangley.com
SUMMARY:Island Shakespeare Festival
DESCRIPTION:Island Shakespeare Fest Opens its 16th Season July 18!\nThis season\, fearless women defy the status quo\, rewrite the rules\, and prove that love and selfhood are not a choice—they’re a revolution.\n“Much Ado About Nothing”By: William Shakespeare\, Directed by: Chad “Dex” Kinsman\nEvent Date(s): July 18 – Aug. 31 \nIn Shakespeare’s “Much Ado About Nothing\,” words are weapons and wit is a shield. Beatrice refuses to be anything but fiercely independent—until she finds herself caught in a battle of the heart with the equally sharp-tongued Benedick. Meanwhile\, her cousin Hero’s gentle strength is tested by a world obsessed with female purity—making a whole lot of “ado” over nothing. Shakespeare’s “Much Ado” is a sparkling comedy of deception\, honor\, and unexpected love\, where women must carve their own paths amid a society eager to define them. \n“Anima (or Her Soul)” By: Amelia Pincherle Rosselli\, Directed by: Emily Lyon\nEvent Dates: July 26 – Aug 30\nOnce again\, we partner with Expand the Canon to bring a brilliant yet lesser-known classic to our audience’s attention. The art world is rarely considered the intersection of passion and propriety. But In Amelia Roselli’s “Anima” (translated to English as “Her Soul”)\, painter Olga de Velaris finds herself at just that crossroads\, testing the limits of how much she can express. In 1890’s Rome\, she is surrounded by women who must navigate the tightrope of reputation\, desire\, and survival. “Anima” is a powerful\, rarely staged drama that lays bare the tension between self-determination and the longing for connection\, revealing that love—when truly seen—does not have to mean surrender. Step into this quirky\, disarming\, and award-winning play for an examination of who we’re really seeking. \nIsland Shakespeare Festival\, 5476 Maxwelton Road\, Langley WA\nPrice: Pay What You Will\, or reserve a seat for $36\nGet Tickets Here:\nhttps://www.ticketsource.com/island-shakespeare-festival
URL:https://visitlangley.com/events/island-shakespeare-festival-2/2025-08-31
LOCATION:Island Shakespeare Festival\, 5476 Maxwelton Road\, Langley\, United States
CATEGORIES:Member Events,Seasonal Events
ATTACH;FMTTYPE=image/png:https://visitlangley.com/wp-content/uploads/2025/07/ISF2025.png
END:VEVENT
BEGIN:VEVENT
DTSTART;TZID=America/Los_Angeles:20250901T120000
DTEND;TZID=America/Los_Angeles:20250901T170000
DTSTAMP:20260424T083517
CREATED:20250805T215256Z
LAST-MODIFIED:20250805T215256Z
UID:10001807-1756728000-1756746000@visitlangley.com
SUMMARY:Whidbey Woodworkers Guild presents: Woodpalooza 2025
DESCRIPTION:The Whidbey Island Woodworkers Guild is pleased to announce the return of our “Art + Wood = Woodpalooza @ WICA” Exhibition – the 21st Annual Show of Whidbey’s Finest Woodwork at WICA (Whidbey Island Center for the Arts). This year’s show promises exceptional work by fifteen of Whidbey’s best!\n\nAugust 30 – September 1\, 2025. Exhibition (free). Open August 30th; 10AM – 5PM;  August 31st & September 1st Noon – 5PM.\nWhidbey Island Center for the Arts (WICA)\, Zech Hall\, 565 Camano Avenue\, Langley\, WA 98260 (360-221-8262 or www.WICAonline.com).\n\nDuring the Exhibition\, you are invited to spend quality time with woodworking artisans while you experience the beauty of their creations. You’ll learn firsthand the inspiration and process that go into each artist’s work\, while enjoying many scenic island views as you discover Langley.\n\nThe Guild seeks to support professional woodworkers as well as inspire and educate the budding amateur and provide awareness to the general public of the skills available locally from its talented members. In 2001 the Whidbey Island Woodworkers Guild was formed to bring together the woodworking community of Whidbey. Now in its twenty-fifth year\, the Guild includes makers of furniture\, cabinetry\, architectural woodwork\, turners\, sawyers\, carvers\, restorers\, musical instrument makers\, boat builders and refinishers. Please visit: www.woodpalooza.com for more information.
URL:https://visitlangley.com/events/whidbey-woodworkers-guild-presents-woodpalooza-2025
LOCATION:Whidbey Island Center for the Arts Zech Hall\, 565 Camano Avenue\, Langley\, 98260\, United States
CATEGORIES:Community Events
ATTACH;FMTTYPE=image/jpeg:https://visitlangley.com/wp-content/uploads/2025/08/Woodpalooza25-2-scaled.jpg
ORGANIZER;CN="Whidbey Island Woodworkers Guild":MAILTO:info@woodpalooza.com
END:VEVENT
BEGIN:VEVENT
DTSTART;TZID=America/Los_Angeles:20250901T170000
DTEND;TZID=America/Los_Angeles:20250901T190000
DTSTAMP:20260424T083517
CREATED:20250830T183255Z
LAST-MODIFIED:20250830T183918Z
UID:10001829-1756746000-1756753200@visitlangley.com
SUMMARY:Monday Bites Summer Grill at Dancing Fish – Big Pan Brats & John Hribernick
DESCRIPTION:Monday Bites Summer Grill at Dancing Fish – Big Pan Brats & John Hribernick \nMonday\, September 1st  ~  5 – 7 p.m. \nLive music by John Hribernick! Pacific Northwest\, singer\, songwriter and guitarist John Hribernick formed acoustic duo Those Guys in 2006\, and performs a variety of popular covers as a solo artist. \nMENU: \nFull Plate: $15\nBratwurst (Grilled onions and peppers optional)\nPotato Salad\nWatermelon\nChips \nA la Carte\nBrat – $10\nPotato Salad & Watermelon Combo – $4\nChips -$2 \nWine\, beer and a nonalcoholic rosé available separately for purchase. \nMake Reservations! https://dancingfishvineyards.orderport.net/product-details/0719/09012025… \nReservations highly recommended to ensure seating availability with first come\, first serve\, community tables. Walk-ins are welcome after those with reservations are served\, while supplies last. Wine available for purchase by glass or bottle. For questions or more information regarding this event please call\n360-632-4190 or email us at info@dancingfishvineyards.com \nDancing Fish Vineyards \n1953 Newman Rd\, Freeland
URL:https://visitlangley.com/events/monday-bites-summer-grill-at-dancing-fish-big-pan-brats-john-hribernick
LOCATION:Dancing Fish Vineyard\, 1953 Newman Road\, Freeland\, WA\, 98249
CATEGORIES:Live Music,Member Events
ATTACH;FMTTYPE=image/jpeg:https://visitlangley.com/wp-content/uploads/2025/08/JohnHribernick3.jpg
GEO:48.009537;-122.525983
X-APPLE-STRUCTURED-LOCATION;VALUE=URI;X-ADDRESS=Dancing Fish Vineyard 1953 Newman Road Freeland WA 98249;X-APPLE-RADIUS=500;X-TITLE=1953 Newman Road:geo:-122.525983,48.009537
END:VEVENT
BEGIN:VEVENT
DTSTART;TZID=America/Los_Angeles:20250903T080000
DTEND;TZID=America/Los_Angeles:20250903T170000
DTSTAMP:20260424T083517
CREATED:20250729T203824Z
LAST-MODIFIED:20250729T203824Z
UID:10001794-1756886400-1756918800@visitlangley.com
SUMMARY:Island Dance Yearly Sessions Begin
DESCRIPTION:New Yearly Session Begins September 3rd!\nWe’re now accepting registrations for our upcoming dance and gym season! \nJoin us for a fun-filled year of movement\, creativity\, and growth with classes for all ages and levels\, including: \n Creative Ballet & Pointe\n Tap/Jazz & Adult Tap/Jazz\n Hip Hop\n Acro & Tumbling\n Mommy & Me\n Conditioning\n Adult Ballet \nWhether you’re starting your first class or returning for another exciting season\, we can’t wait to dance with you! \nRegister now at islanddancestudio.com or email us at islanddance@whidbey.com\nClasses start September 3rd!
URL:https://visitlangley.com/events/island-dance-yearly-sessions-begin
LOCATION:Island Dance\, 714 Camano Ave\, Langley\, WA\, 98260\, United States
CATEGORIES:Community Events
ATTACH;FMTTYPE=image/jpeg:https://visitlangley.com/wp-content/uploads/2025/07/Island-Dance-Logo.jpg
GEO:48.035012;-122.4022491
X-APPLE-STRUCTURED-LOCATION;VALUE=URI;X-ADDRESS=Island Dance 714 Camano Ave Langley WA 98260 United States;X-APPLE-RADIUS=500;X-TITLE=714 Camano Ave:geo:-122.4022491,48.035012
END:VEVENT
BEGIN:VEVENT
DTSTART;TZID=America/Los_Angeles:20250903T180000
DTEND;TZID=America/Los_Angeles:20250903T200000
DTSTAMP:20260424T083517
CREATED:20250802T210255Z
LAST-MODIFIED:20250826T201859Z
UID:10001802-1756922400-1756929600@visitlangley.com
SUMMARY:Bayview Corner Street Dance: PETE
DESCRIPTION:PETE is the quintessential Whidbey Island garage band\, performing rock & blues dance music and American groove music. The band is comprised of Fredde Butterworth on drums\, Dave Draper and David Licastro on guitar\, Marc Strader on bass\, and Danny Ward on sax.\nRain or shine! Beer\, wine\, and soft drinks are available for purchase\, pick up food from the Taproom or Fulla Za\, and picnic dinners are welcome. All members of the community and visitors are invited to these free\, family friendly celebrations.
URL:https://visitlangley.com/events/bayview-corner-street-dance-september-3
LOCATION:Bayview Cash Store\, Bayview Corner\, Langley\, 98260\, United States
CATEGORIES:Live Music,Member Events
ATTACH;FMTTYPE=image/jpeg:https://visitlangley.com/wp-content/uploads/2025/08/PETE.jpg
GEO:48.0071861;-122.461373
X-APPLE-STRUCTURED-LOCATION;VALUE=URI;X-ADDRESS=Bayview Cash Store Bayview Corner Langley 98260 United States;X-APPLE-RADIUS=500;X-TITLE=Bayview Corner:geo:-122.461373,48.0071861
END:VEVENT
BEGIN:VEVENT
DTSTART;TZID=America/Los_Angeles:20250903T193000
DTEND;TZID=America/Los_Angeles:20250903T210000
DTSTAMP:20260424T083518
CREATED:20250523T202702Z
LAST-MODIFIED:20250523T202702Z
UID:10001611-1756927800-1756933200@visitlangley.com
SUMMARY:Billy Bob Thornton & The Boxmasters @ WICA
DESCRIPTION:Billy Bob Thornton & The Boxmasters \nSeptember 3rd @ 7:30 p.m. \nBilly Bob Thornton & The Boxmasters visit Whidbey Island as part of their 2025 Pepper Tree Hill Tour\, following the release of their 19th studio album\, Pepper Tree Hill. Known for their jangly guitars\, Mellotrons\, and rich ‘60s-inspired sound\, The Boxmasters—led by J.D. Andrew and Bud Thornton—deliver a nostalgic yet fresh take on rock and roll. \nThe new album features special appearances by Herb Alpert and longtime collaborator Brad Davis\, celebrating the band’s creative spirit and British Invasion roots. \nOpening the evening: Fran Moran & The Nervous Wrecks \nDon’t miss this unforgettable night of music\, storytelling\, and rock history\n—only at Whidbey Island Center for the Arts! \nWe are very excited to welcome Billy Bob Thornton \n& The Boxmasters to our stage! \nTickets will sell fast! \nPlease click below to purchase!\nhttps://purchase.wicaonline.org/EventAvailability?EventId=8801 \nBox Office \n565 Camano Ave.\, Langley \n3602218268 \nWhidbey Island Center for the Arts \nhttp://www.wicaonline.org
URL:https://visitlangley.com/events/billy-bob-thornton-the-boxmasters-wica
LOCATION:Whidbey Island Center for the Arts\, Camano Avenue\, Langley\, WA\, 98260\, United States
CATEGORIES:Live Music,Member Events
ATTACH;FMTTYPE=image/jpeg:https://visitlangley.com/wp-content/uploads/2025/05/BillyBobThornton.jpg
GEO:48.0343689;-122.4023281
X-APPLE-STRUCTURED-LOCATION;VALUE=URI;X-ADDRESS=Whidbey Island Center for the Arts Camano Avenue Langley WA 98260 United States;X-APPLE-RADIUS=500;X-TITLE=Camano Avenue:geo:-122.4023281,48.0343689
END:VEVENT
BEGIN:VEVENT
DTSTART;TZID=America/Los_Angeles:20250904T180000
DTEND;TZID=America/Los_Angeles:20250904T203000
DTSTAMP:20260424T083518
CREATED:20240601T234444Z
LAST-MODIFIED:20250530T204749Z
UID:10000748-1757008800-1757017800@visitlangley.com
SUMMARY:Freeland Hall - Community Dinner
DESCRIPTION:Mark your calendar for the first Thursday of every month for a community potluck dinner at Freeland Hall\nGreat way to socialize and meet new friends. Only $25 for the entire year for membership. Help continue the history of over 100 years. Bring a dinner item of your choice and join the fun! Call Lynn Thomson for more information (541) 961-1914
URL:https://visitlangley.com/events/freeland-hall-community-dinner/2025-09-04
LOCATION:Freeland Hall\, 1515 Shoreview Drive\, Freeland\, WA\, 98249\, United States
CATEGORIES:Member Events
ATTACH;FMTTYPE=image/jpeg:https://visitlangley.com/wp-content/uploads/2024/06/freeland-hall-dinner.jpg
ORGANIZER;CN="Freeland Hall":MAILTO:Info@FreelandHall.com
GEO:48.0156642;-122.5342297
X-APPLE-STRUCTURED-LOCATION;VALUE=URI;X-ADDRESS=Freeland Hall 1515 Shoreview Drive Freeland WA 98249 United States;X-APPLE-RADIUS=500;X-TITLE=1515 Shoreview Drive:geo:-122.5342297,48.0156642
END:VEVENT
BEGIN:VEVENT
DTSTART;TZID=America/Los_Angeles:20250906T100000
DTEND;TZID=America/Los_Angeles:20250906T170000
DTSTAMP:20260424T083518
CREATED:20250830T183817Z
LAST-MODIFIED:20250830T183817Z
UID:10001830-1757152800-1757178000@visitlangley.com
SUMMARY:Harvest Faire @ Greenbank Farm September 6
DESCRIPTION:Celebrate the harvest at Greenbank Farms annual Harvest Faire on Saturday\, September 6 from 10 a.m. to 5 p.m. Enjoy live music\, a beer garden\, artisan market\, kids crafts and lawn games\, hayrides\, local food & drink and a pie eating contest. This is a free family event.
URL:https://visitlangley.com/events/harvest-faire-greenbank-farm-september-6
LOCATION:Greenbank Farm
CATEGORIES:Live Music,Member Events,Seasonal Events
ATTACH;FMTTYPE=image/jpeg:https://visitlangley.com/wp-content/uploads/2025/08/HarvestFairwe2025GBFarm.jpg
GEO:48.106919;-122.574052
END:VEVENT
BEGIN:VEVENT
DTSTART;TZID=America/Los_Angeles:20250906T170000
DTEND;TZID=America/Los_Angeles:20250906T190000
DTSTAMP:20260424T083518
CREATED:20240531T223422Z
LAST-MODIFIED:20250530T204402Z
UID:10000547-1757178000-1757185200@visitlangley.com
SUMMARY:Langley First Saturday Art Walk
DESCRIPTION:Calling all art lovers! Stroll the streets of Langley and visit galleries from 5 – 7 p.m. every first Saturday of the month. Langley galleries keep their doors open until 7 p.m. to allow visitors a leisurely and festive stroll through town to a variety of destinations showing new art. Meet the artists and be the first to view new installations. We look forward to seeing you at Langley’s First Saturday Art Walk! \nParticipating Galleries \nArtworks Gallery\nLasher Gallery at WICA\nMuseo Gallery\nRob Shouten Gallery\nWhidbey Art Gallery \n  \n 
URL:https://visitlangley.com/events/langley-first-saturday-art-walk/2025-09-06
LOCATION:Downtown Langley\, Langley\, 98260\, United States
CATEGORIES:Community Events,Member Events
ATTACH;FMTTYPE=image/jpeg:https://visitlangley.com/wp-content/uploads/2024/05/LANGLEY-ART-WALK.jpg
GEO:48.0400945;-122.406257
END:VEVENT
END:VCALENDAR