BEGIN:VCALENDAR
VERSION:2.0
PRODID:-//Langley Chamber of Commerce - ECPv6.15.20//NONSGML v1.0//EN
CALSCALE:GREGORIAN
METHOD:PUBLISH
X-ORIGINAL-URL:https://visitlangley.com
X-WR-CALDESC:Events for Langley Chamber of Commerce
REFRESH-INTERVAL;VALUE=DURATION:PT1H
X-Robots-Tag:noindex
X-PUBLISHED-TTL:PT1H
BEGIN:VTIMEZONE
TZID:America/Los_Angeles
BEGIN:DAYLIGHT
TZOFFSETFROM:-0800
TZOFFSETTO:-0700
TZNAME:PDT
DTSTART:20240310T100000
END:DAYLIGHT
BEGIN:STANDARD
TZOFFSETFROM:-0700
TZOFFSETTO:-0800
TZNAME:PST
DTSTART:20241103T090000
END:STANDARD
BEGIN:DAYLIGHT
TZOFFSETFROM:-0800
TZOFFSETTO:-0700
TZNAME:PDT
DTSTART:20250309T100000
END:DAYLIGHT
BEGIN:STANDARD
TZOFFSETFROM:-0700
TZOFFSETTO:-0800
TZNAME:PST
DTSTART:20251102T090000
END:STANDARD
BEGIN:DAYLIGHT
TZOFFSETFROM:-0800
TZOFFSETTO:-0700
TZNAME:PDT
DTSTART:20260308T100000
END:DAYLIGHT
BEGIN:STANDARD
TZOFFSETFROM:-0700
TZOFFSETTO:-0800
TZNAME:PST
DTSTART:20261101T090000
END:STANDARD
END:VTIMEZONE
BEGIN:VEVENT
DTSTART;TZID=America/Los_Angeles:20250511T110000
DTEND;TZID=America/Los_Angeles:20250511T170000
DTSTAMP:20260420T074220
CREATED:20250506T210418Z
LAST-MODIFIED:20250506T210418Z
UID:10001562-1746961200-1746982800@visitlangley.com
SUMMARY:Whidbey Island Distillery Mother's Day Weekend
DESCRIPTION:Celebrate Mom with us! 🌸\nJoin us at Whidbey Island Distillery for Mother’s Day Weekend\n~ Cocktails & Mimosas\n~ Complimentary tastings ft. our new Lavender Loganberry\n~ Flower arrangements for sale\n~ Sip and enjoy a cocktail in our new Barrel Garden \nNo reservations needed—just come sip\, savor\, and celebrate!
URL:https://visitlangley.com/events/whidbey-island-distillery-mothers-day-weekend-2
LOCATION:Whidbey Island Distillery\, Langley\, WA\, United States
CATEGORIES:Member Events
ATTACH;FMTTYPE=image/png:https://visitlangley.com/wp-content/uploads/2025/05/Petals-and-Pours-2025-2.1.png
GEO:48.0400945;-122.406257
END:VEVENT
BEGIN:VEVENT
DTSTART;TZID=America/Los_Angeles:20250511T120000
DTEND;TZID=America/Los_Angeles:20250511T160000
DTSTAMP:20260420T074220
CREATED:20250422T210544Z
LAST-MODIFIED:20250422T210607Z
UID:10001533-1746964800-1746979200@visitlangley.com
SUMMARY:Mother's Day Concert @ Meerkerk Gardens
DESCRIPTION:Join us for beautiful blooms and delightful music as we celebrate a special day for Mom during peak bloom season at Meerkerk Gardens. Bring Mom and a picnic and also enjoy a delicious treat from Whidbey Pies (sold by slice). Buy Mom a rhody at our nursery and get a special discount.\nTap your feet to the music of performers on our gazebo stage. Performers include accordion player Lori Hansen\, noon-1 p.m.; Nathaniel Talbot\, 1:30-2:30 p.m.\, and Island Jazz Collective from 3-4 p.m.
URL:https://visitlangley.com/events/mothers-day-concert-meerkerk-gardens
LOCATION:Meerkerk Gardens
CATEGORIES:Live Music,Member Events
ATTACH;FMTTYPE=image/jpeg:https://visitlangley.com/wp-content/uploads/2025/04/MeerkerkGardens_LiveMusic.jpg
ORGANIZER;CN="Meerkerk Gardens":MAILTO:gardeninfo@meerkerkgardens.org
GEO:48.0826769;-122.559525
END:VEVENT
BEGIN:VEVENT
DTSTART;TZID=America/Los_Angeles:20250512T170000
DTEND;TZID=America/Los_Angeles:20250512T190000
DTSTAMP:20260420T074220
CREATED:20250507T225438Z
LAST-MODIFIED:20250507T225438Z
UID:10001564-1747069200-1747076400@visitlangley.com
SUMMARY:Monday Bites! @ Dancing Fish: Dinner\, Wine & Live Music by Philip Van Seters
DESCRIPTION:Monday Bites! At Dancing Fish Vineyards \n(Free Admission) \nEnjoy a delicious dinner by Red Cork Bistro and live music by Philip Van Seters!  \nPhilip Van Seters is a guitarist/singer/songwriter and recent transplant to South Whidbey Island. Originally from Montreal\, Canada where he earned his undergraduate degree in music from Concordia University\, Philip now performs locally around the PNW. His current performances consist of rhythmic renditions of popular songs from the 60’s to present day interspersed with a smattering of original songs. \nReservations highly recommended to ensure seating availability with first come\, first serve\, community tables. Walk-ins are welcome after those with reservations are served\, while supplies last. Wine available for purchase by glass or bottle. \nTo make your reservation\, add the number of seats you would like to reserve to the shopping cart and make sure to fully check out. You will receive an email notification when the reservation goes through. If you do not receive an e-mail notification\, please e-mail us at info@dancingfishvineyards.com.
URL:https://visitlangley.com/events/monday-bites-dancing-fish-dinner-wine-live-music-by-philip-van-seters
LOCATION:Dancing Fish
CATEGORIES:Live Music
ATTACH;FMTTYPE=image/png:https://visitlangley.com/wp-content/uploads/2025/05/Screenshot-2025-05-07-155055.png
END:VEVENT
BEGIN:VEVENT
DTSTART;TZID=America/Los_Angeles:20250514T173000
DTEND;TZID=America/Los_Angeles:20250514T190000
DTSTAMP:20260420T074220
CREATED:20250507T230107Z
LAST-MODIFIED:20250507T230107Z
UID:10001565-1747243800-1747249200@visitlangley.com
SUMMARY:Solo in the City @ Double Bluff Brewing: Jonny Morgan
DESCRIPTION:Join us for a more intimate mid-week musical performance by Jonny Morgan.\nFood available from Ikaika Bistro.\nNo cover charge!
URL:https://visitlangley.com/events/solo-in-the-city-double-bluff-brewing-jonny-morgan
LOCATION:Double Bluff Brewing Company\, 121 Second Street\, Langley\, WA\, 98260
CATEGORIES:Live Music
ATTACH;FMTTYPE=image/png:https://visitlangley.com/wp-content/uploads/2025/05/Screenshot-2025-05-07-155758.png
END:VEVENT
BEGIN:VEVENT
DTSTART;TZID=America/Los_Angeles:20250515T180000
DTEND;TZID=America/Los_Angeles:20250515T200000
DTSTAMP:20260420T074220
CREATED:20250514T223055Z
LAST-MODIFIED:20250514T223055Z
UID:10001593-1747332000-1747339200@visitlangley.com
SUMMARY:Pfriem Brewers Night
DESCRIPTION:Eat\, DRINK & be merry. Join us for an evening of imbibing in some of the best beer the PNW has to offer. Pfriem Brewing will be here to talk all things beer and you’ll have the chance to win some cool merch from the raffle! Come thirsty!
URL:https://visitlangley.com/events/pfriem-brewers-night
LOCATION:Taproom at Bayview Corner\, 5603 Bayview Rd\, Langley\, WA\, 98260
CATEGORIES:Member Events
ATTACH;FMTTYPE=image/png:https://visitlangley.com/wp-content/uploads/2025/05/Screenshot-2025-05-14-152931.png
END:VEVENT
BEGIN:VEVENT
DTSTART;TZID=America/Los_Angeles:20250516T173000
DTEND;TZID=America/Los_Angeles:20250516T193000
DTSTAMP:20260420T074220
CREATED:20250416T214558Z
LAST-MODIFIED:20250416T214558Z
UID:10001517-1747416600-1747423800@visitlangley.com
SUMMARY:Friday Night Music @ Dancing Fish: The Dead Guise
DESCRIPTION:Please welcome to the stage\, South Whidbey’s newly formed Grateful Dead tribute band\, The Dead Guise. Join the band as they dig deep into the Dead’s repertoire and build the grooves to get you on your feet dancing. The band is comprised of local Whidbey residents who share a passionfor the sound and feel of what made this band so remarkable. So put on your dancing shoes and your tye dye\, cause the long strange trip continues!
URL:https://visitlangley.com/events/friday-night-music-dancing-fish-the-dead-guise
LOCATION:Dancing Fish
CATEGORIES:Live Music
ATTACH;FMTTYPE=image/jpeg:https://visitlangley.com/wp-content/uploads/2025/04/DancingFish0516.jpeg
END:VEVENT
BEGIN:VEVENT
DTSTART;TZID=America/Los_Angeles:20250516T193000
DTEND;TZID=America/Los_Angeles:20250516T213000
DTSTAMP:20260420T074220
CREATED:20250407T184600Z
LAST-MODIFIED:20250407T184600Z
UID:10001483-1747423800-1747431000@visitlangley.com
SUMMARY:WIDT Celebration of Dance
DESCRIPTION:In celebration of WICA’s anniversary and the art of dance\, these shows are a community partnership spotlight between two Langley Cornerstone organizations. Whidbey Island Dance Theatre is not just a high-quality\, pre-professional dance company; it is a transformative experience that shapes talented\, hardworking dancers into world-ready adults. Body\, action\, space\, time\, energy\, and music. These are the elements of a good dance performance\, where it all comes together in a beautiful synergy of movement. It tells a story\, evokes emotion\, and takes one’s breath away. Leap to WICA and Celebrate the Dance!
URL:https://visitlangley.com/events/widt-celebration-of-dance
LOCATION:WICA\, Langley\, 98260
CATEGORIES:Annual Events,Member Events
ATTACH;FMTTYPE=image/jpeg:https://visitlangley.com/wp-content/uploads/2025/04/COD-2025.jpg
ORGANIZER;CN="Whidbey Island Dance Theatre":MAILTO:whidbeyidt@gmail.com
GEO:48.0400945;-122.406257
END:VEVENT
BEGIN:VEVENT
DTSTART;TZID=America/Los_Angeles:20250517T140000
DTEND;TZID=America/Los_Angeles:20250517T160000
DTSTAMP:20260420T074220
CREATED:20250407T185344Z
LAST-MODIFIED:20250407T192818Z
UID:10001486-1747490400-1747497600@visitlangley.com
SUMMARY:WIDT Celebration of Dance
DESCRIPTION:In celebration of WICA’s anniversary and the art of dance\, these shows are a community partnership spotlight between two Langley Cornerstone organizations. Whidbey Island Dance Theatre is not just a high-quality\, pre-professional dance company; it is a transformative experience that shapes talented\, hardworking dancers into world-ready adults. Body\, action\, space\, time\, energy\, and music. These are the elements of a good dance performance\, where it all comes together in a beautiful synergy of movement. It tells a story\, evokes emotion\, and takes one’s breath away. Leap to WICA and Celebrate the Dance!
URL:https://visitlangley.com/events/widt-celebration-of-dance-2
LOCATION:WICA\, Langley\, 98260
CATEGORIES:Annual Events,Member Events
ATTACH;FMTTYPE=image/jpeg:https://visitlangley.com/wp-content/uploads/2025/04/COD-2025.jpg
ORGANIZER;CN="Whidbey Island Dance Theatre":MAILTO:whidbeyidt@gmail.com
GEO:48.0400945;-122.406257
END:VEVENT
BEGIN:VEVENT
DTSTART;TZID=America/Los_Angeles:20250517T183000
DTEND;TZID=America/Los_Angeles:20250517T200000
DTSTAMP:20260420T074220
CREATED:20250430T200554Z
LAST-MODIFIED:20250430T200554Z
UID:10001555-1747506600-1747512000@visitlangley.com
SUMMARY:Rootstock: Nathaniel Talbot Trio
DESCRIPTION:Rootstock is back — and it all starts May 17!\nJoin us for the kickoff concert in our Rootstock 2025 series\, featuring the incredible Nathaniel Talbot Trio at Bayview Community Hall\nFriday\, May 17\nDoors at 6 PM | Music around 6:30 PM\nTickets by donation- All proceeds will support Island Roots Housing’s efforts to open doors to affordable housing in Island County. \nBeverages available for purchase onsite (like the Bayview Street Dances!)\nLet’s raise the roof and raise support for housing our community.
URL:https://visitlangley.com/events/rootstock-nathaniel-talbot-trio
LOCATION:Bayview Hall\, 5642 Bayview Rd\, Langley\, WA\, 98260\, United States
CATEGORIES:Live Music
ATTACH;FMTTYPE=image/jpeg:https://visitlangley.com/wp-content/uploads/2025/04/IslandRootsHousing_evens.jpg
END:VEVENT
BEGIN:VEVENT
DTSTART;TZID=America/Los_Angeles:20250517T190000
DTEND;TZID=America/Los_Angeles:20250517T210000
DTSTAMP:20260420T074220
CREATED:20250425T211718Z
LAST-MODIFIED:20250425T211718Z
UID:10001540-1747508400-1747515600@visitlangley.com
SUMMARY:Saratoga Orchestra Presents Reel Music
DESCRIPTION:Saratoga Orchestra Presents Reel Music from Stage to Screen \nMay 17\, 7 p.m.\nOak Harbor High School \nMay 18\, 2 p.m.\nSouth Whidbey High School \nTICKETS:\n$30 Adults\n$25 Seniors (65+)/Military\nStudents 17 and under FREE \nAvailable locally at:\nClick Music – Oak Harbor\nbayleaf – Coupeville\nBiercuterie – Freeland\nMoonraker Books – Langley \nONLINE TIX @ www.sowhidbey.com \n  \n\n\n\n\n\n\n\n\n\n\n\n  \n​
URL:https://visitlangley.com/events/saratoga-orchestra-presents-reel-music/2025-05-17
CATEGORIES:Live Music,Member Events
ATTACH;FMTTYPE=image/png:https://visitlangley.com/wp-content/uploads/2025/04/Saratoga-Orchestra-Logo.jpg.png
END:VEVENT
BEGIN:VEVENT
DTSTART;TZID=America/Los_Angeles:20250517T193000
DTEND;TZID=America/Los_Angeles:20250517T213000
DTSTAMP:20260420T074220
CREATED:20250407T193003Z
LAST-MODIFIED:20250407T193003Z
UID:10001487-1747510200-1747517400@visitlangley.com
SUMMARY:WIDT Celebration of Dance
DESCRIPTION:In celebration of WICA’s anniversary and the art of dance\, these shows are a community partnership spotlight between two Langley Cornerstone organizations. Whidbey Island Dance Theatre is not just a high-quality\, pre-professional dance company; it is a transformative experience that shapes talented\, hardworking dancers into world-ready adults. Body\, action\, space\, time\, energy\, and music. These are the elements of a good dance performance\, where it all comes together in a beautiful synergy of movement. It tells a story\, evokes emotion\, and takes one’s breath away. Leap to WICA and Celebrate the Dance!
URL:https://visitlangley.com/events/widt-celebration-of-dance-3
LOCATION:WICA\, Langley\, 98260
CATEGORIES:Annual Events,Member Events
ORGANIZER;CN="Whidbey Island Dance Theatre":MAILTO:whidbeyidt@gmail.com
GEO:48.0400945;-122.406257
END:VEVENT
END:VCALENDAR