BEGIN:VCALENDAR
VERSION:2.0
PRODID:-//Langley Chamber of Commerce - ECPv6.15.20//NONSGML v1.0//EN
CALSCALE:GREGORIAN
METHOD:PUBLISH
X-ORIGINAL-URL:https://visitlangley.com
X-WR-CALDESC:Events for Langley Chamber of Commerce
REFRESH-INTERVAL;VALUE=DURATION:PT1H
X-Robots-Tag:noindex
X-PUBLISHED-TTL:PT1H
BEGIN:VTIMEZONE
TZID:America/Los_Angeles
BEGIN:DAYLIGHT
TZOFFSETFROM:-0800
TZOFFSETTO:-0700
TZNAME:PDT
DTSTART:20240310T100000
END:DAYLIGHT
BEGIN:STANDARD
TZOFFSETFROM:-0700
TZOFFSETTO:-0800
TZNAME:PST
DTSTART:20241103T090000
END:STANDARD
BEGIN:DAYLIGHT
TZOFFSETFROM:-0800
TZOFFSETTO:-0700
TZNAME:PDT
DTSTART:20250309T100000
END:DAYLIGHT
BEGIN:STANDARD
TZOFFSETFROM:-0700
TZOFFSETTO:-0800
TZNAME:PST
DTSTART:20251102T090000
END:STANDARD
BEGIN:DAYLIGHT
TZOFFSETFROM:-0800
TZOFFSETTO:-0700
TZNAME:PDT
DTSTART:20260308T100000
END:DAYLIGHT
BEGIN:STANDARD
TZOFFSETFROM:-0700
TZOFFSETTO:-0800
TZNAME:PST
DTSTART:20261101T090000
END:STANDARD
END:VTIMEZONE
BEGIN:VEVENT
DTSTART;TZID=America/Los_Angeles:20250302T153000
DTEND;TZID=America/Los_Angeles:20250302T200000
DTSTAMP:20260421T223426
CREATED:20250228T212741Z
LAST-MODIFIED:20250228T212741Z
UID:10001433-1740929400-1740945600@visitlangley.com
SUMMARY:Oscar Party @ Dancing Fish March 2
DESCRIPTION:Join us for fun and grandeur at the second annual Oscars Party hosted by Dancing Fish Vineyards! Celebrate the wins while watching the Oscars on the big screen.\nDress to impress\, or to be comfortable! No need to wear a gown…(but\, you can). No need to wear a bow tie…(we’ll have extras for fun :).\nThe red carpet will be rolled out and doors will open to the Barn at 3:30 pm. The Oscars officially begin at 4 p.m.\nReservation required. Your admission fee of $15 includes your reserved seat\, light snacks and dessert bites. Feel free to bring dinner\, if you wish! Wine/beer/NA beverage will be available for purchase at the bar.\nSunday\, March 2 from 3:30 to 7 p.m.\nDancing Fish Vineyards\n1953 Newman Rd\, Freeland
URL:https://visitlangley.com/events/oscar-party-dancing-fish-march-2
LOCATION:Dancing Fish Vineyard\, 1953 Newman Road\, Freeland\, WA\, 98249
CATEGORIES:Member Events,Seasonal Events
ATTACH;FMTTYPE=image/png:https://visitlangley.com/wp-content/uploads/2025/02/Oscarparty2025.png
GEO:48.009537;-122.525983
X-APPLE-STRUCTURED-LOCATION;VALUE=URI;X-ADDRESS=Dancing Fish Vineyard 1953 Newman Road Freeland WA 98249;X-APPLE-RADIUS=500;X-TITLE=1953 Newman Road:geo:-122.525983,48.009537
END:VEVENT
BEGIN:VEVENT
DTSTART;TZID=America/Los_Angeles:20250304T180000
DTEND;TZID=America/Los_Angeles:20250304T203000
DTSTAMP:20260421T223426
CREATED:20250228T211359Z
LAST-MODIFIED:20250228T211359Z
UID:10001431-1741111200-1741120200@visitlangley.com
SUMMARY:Mardi Gras Party @ Bayview Hall
DESCRIPTION:Tuesday\, March 4\, 6–8:30 p.m.\nBayview Community Hall\n5642 Bayview Road\, Langley\nJoin us for the triumphant return of local Mardi Gras favorite Ken Pickard and Zydeco Explosion! Playing new\, old\, and some very old authentic Zydeco and Cajun music\, they promise to have you on your feet from the downbeat. Free\, family friendly\, and open to all.\nDon’t forget to come decked out in your best Mardi Gras finery! The evening fun includes a costume contest with prizes for Best in Show\, Most Comical\, Best Child Costume\, and Best Mask. Beads do not count as a costume\, but you can grab some free at the door.\nBeer\, wine\, and non-alcoholic beverages will be for sale in the party\, and New Orleans specials are available nearby from Chef in the Black Bandana and the Taproom at Bayview Corner.\nLaissez les bons temps rouler!\n(the Mardi Gras party call of “let the good times roll”).
URL:https://visitlangley.com/events/mardi-gras-party-bayview-hall
LOCATION:Bayview Community Hall\, 5642 Bayview Road\, Langley\, 98260\, United States
CATEGORIES:Live Music,Member Events,Seasonal Events
ATTACH;FMTTYPE=image/jpeg:https://visitlangley.com/wp-content/uploads/2025/02/mardi-gras-2.jpg
GEO:48.006396;-122.461404
X-APPLE-STRUCTURED-LOCATION;VALUE=URI;X-ADDRESS=Bayview Community Hall 5642 Bayview Road Langley 98260 United States;X-APPLE-RADIUS=500;X-TITLE=5642 Bayview Road:geo:-122.461404,48.006396
END:VEVENT
BEGIN:VEVENT
DTSTART;TZID=America/Los_Angeles:20250304T183000
DTEND;TZID=America/Los_Angeles:20250304T193000
DTSTAMP:20260421T223426
CREATED:20250228T213518Z
LAST-MODIFIED:20250228T213545Z
UID:10001434-1741113000-1741116600@visitlangley.com
SUMMARY:Mardi Gras @ Double Bluff Brewing Company
DESCRIPTION:Bop to the music of the Mutiny Bay Brass Band while enjoying craft brews at Doublee Bluff Brewing Company on Second Street in Langley. Wear your Mardi Gras gear and let the good times roll!
URL:https://visitlangley.com/events/mardi-gras-double-bluff-brewing-company
LOCATION:Double Bluff Brewing Company\, 121 Second Street\, Langley\, WA\, 98260
CATEGORIES:Live Music,Member Events,Seasonal Events
ATTACH;FMTTYPE=image/png:https://visitlangley.com/wp-content/uploads/2025/02/DoubleBluffMardiGrasGraphic.png
END:VEVENT
BEGIN:VEVENT
DTSTART;TZID=America/Los_Angeles:20250306T180000
DTEND;TZID=America/Los_Angeles:20250306T203000
DTSTAMP:20260421T223426
CREATED:20240601T234444Z
LAST-MODIFIED:20250530T204749Z
UID:10000742-1741284000-1741293000@visitlangley.com
SUMMARY:Freeland Hall - Community Dinner
DESCRIPTION:Mark your calendar for the first Thursday of every month for a community potluck dinner at Freeland Hall\nGreat way to socialize and meet new friends. Only $25 for the entire year for membership. Help continue the history of over 100 years. Bring a dinner item of your choice and join the fun! Call Lynn Thomson for more information (541) 961-1914
URL:https://visitlangley.com/events/freeland-hall-community-dinner/2025-03-06
LOCATION:Freeland Hall\, 1515 Shoreview Drive\, Freeland\, WA\, 98249\, United States
CATEGORIES:Member Events
ATTACH;FMTTYPE=image/jpeg:https://visitlangley.com/wp-content/uploads/2024/06/freeland-hall-dinner.jpg
ORGANIZER;CN="Freeland Hall":MAILTO:Info@FreelandHall.com
GEO:48.0156642;-122.5342297
X-APPLE-STRUCTURED-LOCATION;VALUE=URI;X-ADDRESS=Freeland Hall 1515 Shoreview Drive Freeland WA 98249 United States;X-APPLE-RADIUS=500;X-TITLE=1515 Shoreview Drive:geo:-122.5342297,48.0156642
END:VEVENT
BEGIN:VEVENT
DTSTART;TZID=America/Los_Angeles:20250306T183000
DTEND;TZID=America/Los_Angeles:20250306T203000
DTSTAMP:20260421T223426
CREATED:20250228T212225Z
LAST-MODIFIED:20250228T212225Z
UID:10001432-1741285800-1741293000@visitlangley.com
SUMMARY:It's Getting Out of Control -- Improv @ Outcast Theater
DESCRIPTION:Improv \nJoin us Thursday\, March 6th at 6:45 p.m. for: It’s Getting Out of Control.\nAn hour of fun and laughter as The Outcast Theater’s house team\nsends you spinning out of control with hilarity.\nTickets are $10 at the door\, or visit www.whidbeyimprov.org for more info\nCarol\n819 Camano Ave.\, Langley\ninfo@whidbeyimprov.org
URL:https://visitlangley.com/events/its-getting-out-of-control-improv-outcast-theater
LOCATION:OutCast Black Box Theater\, 819 Camano Avenue\, Langley\, WA\, 98260\, United States
CATEGORIES:Member Events
ATTACH;FMTTYPE=image/avif:https://visitlangley.com/wp-content/uploads/2025/02/Improv.avif
GEO:48.0328083;-122.4021093
X-APPLE-STRUCTURED-LOCATION;VALUE=URI;X-ADDRESS=OutCast Black Box Theater 819 Camano Avenue Langley WA 98260 United States;X-APPLE-RADIUS=500;X-TITLE=819 Camano Avenue:geo:-122.4021093,48.0328083
END:VEVENT
BEGIN:VEVENT
DTSTART;TZID=America/Los_Angeles:20250307T173000
DTEND;TZID=America/Los_Angeles:20250307T193000
DTSTAMP:20260421T223426
CREATED:20250301T231221Z
LAST-MODIFIED:20250301T231221Z
UID:10001439-1741368600-1741375800@visitlangley.com
SUMMARY:Janie Cribbs & the T.Rust Band @ Dancing Fish
DESCRIPTION:Friday\, March 7th ~ 5:30 – 7:30 p.m.\nJoin us for an evening of live music\, wine and appetizers in great company!\nJanie Cribbs and The T.Rust Band are a tight outfit with stunning seductive vocals\, sizzling slide guitar and a foot tappin’ – bass slappin’ rhythm section playing a mix of originals and entirely unique covers as well as some indie blues…Hearing Janie’s powerhouse vocals laced with Joe’s gorgeous gritty guitar\, this Band compels the listener on with an urge to smile and feel the joy of T.Rust’s musical storytelling and creative live presentation.”\nMAKE RESERVATIONS!\nhttps://dancingfishvineyards.orderport.net/product-details/0605/372025–…\nThis event is by reservation only and includes a shared appetizer board served to your table. A portion of the $25 admission fee will go to Whidbey Island Nourishes (WIN).\nPlease be aware that due to limited seating capacity in the Dancing Fish Barn\, some patrons may be assigned to larger communal tables. Alternatively\, if you have friends who are also attending this event\, please let us know via text/phone (360-632-4190) in advance of the performance so we can seat you at the same table.\nDancing Fish Vineyards\n1953 Newman Road\, Freeland\n(360) 632-4190\ninfo@dancingfishvineyards.com
URL:https://visitlangley.com/events/janie-cribbs-the-t-rust-band-dancing-fish
LOCATION:Barn – Dancing Fish Vineyards\, 1953 Newman Rd\, Freeland\, WA\, 98249\, United States
CATEGORIES:Live Music,Member Events
ATTACH;FMTTYPE=image/jpeg:https://visitlangley.com/wp-content/uploads/2025/03/JanieCribbsDancingFish.jpg
GEO:48.014584;-122.511135
X-APPLE-STRUCTURED-LOCATION;VALUE=URI;X-ADDRESS=Barn – Dancing Fish Vineyards 1953 Newman Rd Freeland WA 98249 United States;X-APPLE-RADIUS=500;X-TITLE=1953 Newman Rd:geo:-122.511135,48.014584
END:VEVENT
BEGIN:VEVENT
DTSTART;TZID=America/Los_Angeles:20250307T190000
DTEND;TZID=America/Los_Angeles:20250307T210000
DTSTAMP:20260421T223426
CREATED:20250307T202119Z
LAST-MODIFIED:20250307T202119Z
UID:10001449-1741374000-1741381200@visitlangley.com
SUMMARY:Newsies\, Jr. at Whidbey Children's Theatre
DESCRIPTION:The WCT Newsies and Company are reporting for duty!\nThis show is truly inspiring and these young actors are\,\nas always\, bringing their best!\nFebruary 28th\, March 1st\, 6th\, 7th\, 8th @ 7 p.m.\nMarch 2nd & 9th @ 2 p.m.\nTickets: Youth (4-19): $15\nAdult: $18\nSeize the Day! Showtimes and Tickets for Newsies\,\nJr are on sale at our website now! \nWhidbey Children’s Theatre at South Whidbey Community Center\n723 Camano Avenue\, Langley\nhttp://www.wctmagic.org
URL:https://visitlangley.com/events/newsies-jr-at-whidbey-childrens-theatre/2025-03-07
LOCATION:Whidbey Childrens Theatre\, South Whidbey Community Center\, Langley\, WA\, 98260\, United States
CATEGORIES:Member Events
ATTACH;FMTTYPE=image/jpeg:https://visitlangley.com/wp-content/uploads/2025/03/Newsies2025.jpg
END:VEVENT
BEGIN:VEVENT
DTSTART;TZID=America/Los_Angeles:20250308T190000
DTEND;TZID=America/Los_Angeles:20250308T210000
DTSTAMP:20260421T223426
CREATED:20250212T225448Z
LAST-MODIFIED:20250212T225448Z
UID:10001426-1741460400-1741467600@visitlangley.com
SUMMARY:Nature (Re)Awaken Concert with Saratoga Orchestra
DESCRIPTION:As we anticipate the coming spring weather\, join the professional musicians of the Saratoga Orchestra for a vibrant program celebrating the beauty and rebirth of nature. The concert\, entitled Nature (Re)Awaken\, invites audiences to experience music inspired by the colorful and lively spirit of springtime’s blooming season. \nMarch 8th @ 7 p.m. South Whidbey High School\nMarch 9th @ 2 .p.m Oak Harbor High School \nFeatured works include:\n• Louise Farrenc’s Overture No. 1: A rarely performed piece by one of the 19th century’s most gifted composers.\n• Samuel Coleridge-Taylor’s Idyll: A short\, lyrical composition for full orchestra\, bringing a sense of tranquility and grace.\n• Joe Jaxson’s Through the Bay\, A new work from an emerging composer\, inspired by the artist’s experience riding the ferry across the waters of Puget Sound.\n• Antonín Dvořák’s Symphony No. 8: An epically splendid work showcasing the beauty of nature through rich orchestration and melody. \nTicket Information:\n• Adults: $30\n• Seniors (65+) and Military: $25\n• Students (17 and under): Free \nTickets are available for purchase at local vendors:\n• Moonraker Books in Langley • Biercuterie in Freeland • bayleaf in Coupeville • Click Music in Oak Harbor \nTickets may also be purchased online\, and additional information\ncan be found at www.sowhidbey.com or by calling 360-929-3045. \nSaratoga Orchestra of Whidbey Island
URL:https://visitlangley.com/events/nature-reawaken-concert-with-saratoga-orchestra
LOCATION:South Whidbey High School\, 5675 Maxwelton Road\, Langley\, WA\, 98260\, United States
CATEGORIES:Live Music,Member Events
ATTACH;FMTTYPE=image/jpeg:https://visitlangley.com/wp-content/uploads/2025/02/naturereawaken.jpg
GEO:48.004623;-122.409955
X-APPLE-STRUCTURED-LOCATION;VALUE=URI;X-ADDRESS=South Whidbey High School 5675 Maxwelton Road Langley WA 98260 United States;X-APPLE-RADIUS=500;X-TITLE=5675 Maxwelton Road:geo:-122.409955,48.004623
END:VEVENT
BEGIN:VEVENT
DTSTART;TZID=America/Los_Angeles:20250308T190000
DTEND;TZID=America/Los_Angeles:20250308T210000
DTSTAMP:20260421T223426
CREATED:20250212T231351Z
LAST-MODIFIED:20250212T231351Z
UID:10001428-1741460400-1741467600@visitlangley.com
SUMMARY:Pax Wallace Quintet @ Ott & Hunter
DESCRIPTION:Innovative Jazz Pianist Pax Wallace brings his top-flight quintet to Ott & Hunter’s cabaret room. $30.
URL:https://visitlangley.com/events/pax-wallace-quintet-ott-hunter
LOCATION:Ott & Hunter Tasting Room\, 204 1st Street\, Langley\, WA\, 98260\, United States
CATEGORIES:Live Music,Member Events
ATTACH;FMTTYPE=image/jpeg:https://visitlangley.com/wp-content/uploads/2025/02/OttHunterNighttime.jpg
ORGANIZER;CN="Ott & Hunter Tasting Room":MAILTO:info@otthunterwines.com
GEO:48.0409015;-122.4082782
X-APPLE-STRUCTURED-LOCATION;VALUE=URI;X-ADDRESS=Ott & Hunter Tasting Room 204 1st Street Langley WA 98260 United States;X-APPLE-RADIUS=500;X-TITLE=204 1st Street:geo:-122.4082782,48.0409015
END:VEVENT
BEGIN:VEVENT
DTSTART;TZID=America/Los_Angeles:20250308T190000
DTEND;TZID=America/Los_Angeles:20250308T210000
DTSTAMP:20260421T223426
CREATED:20250307T202119Z
LAST-MODIFIED:20250307T202119Z
UID:10001450-1741460400-1741467600@visitlangley.com
SUMMARY:Newsies\, Jr. at Whidbey Children's Theatre
DESCRIPTION:The WCT Newsies and Company are reporting for duty!\nThis show is truly inspiring and these young actors are\,\nas always\, bringing their best!\nFebruary 28th\, March 1st\, 6th\, 7th\, 8th @ 7 p.m.\nMarch 2nd & 9th @ 2 p.m.\nTickets: Youth (4-19): $15\nAdult: $18\nSeize the Day! Showtimes and Tickets for Newsies\,\nJr are on sale at our website now! \nWhidbey Children’s Theatre at South Whidbey Community Center\n723 Camano Avenue\, Langley\nhttp://www.wctmagic.org
URL:https://visitlangley.com/events/newsies-jr-at-whidbey-childrens-theatre/2025-03-08
LOCATION:Whidbey Childrens Theatre\, South Whidbey Community Center\, Langley\, WA\, 98260\, United States
CATEGORIES:Member Events
ATTACH;FMTTYPE=image/jpeg:https://visitlangley.com/wp-content/uploads/2025/03/Newsies2025.jpg
END:VEVENT
BEGIN:VEVENT
DTSTART;TZID=America/Los_Angeles:20250308T193000
DTEND;TZID=America/Los_Angeles:20250308T213000
DTSTAMP:20260421T223426
CREATED:20250212T230926Z
LAST-MODIFIED:20250212T230926Z
UID:10001427-1741462200-1741469400@visitlangley.com
SUMMARY:Canadian Steam Male Revue Parody & Music Comedy Show
DESCRIPTION:Enjoy equal parts comedy\, music and eh-rotica with Canadian Steam\, an all-male ensemble bringing together sexy lumberjacks\, talented improvisors\, musicians and dancers. 18 and over only. \ntickets: www.wicaonline.org
URL:https://visitlangley.com/events/canadian-steam-male-revue-parody-music-comedy-show
LOCATION:Whidbey Island Center for the Arts\, Camano Avenue\, Langley\, WA\, 98260\, United States
CATEGORIES:Live Music,Member Events
ATTACH;FMTTYPE=image/png:https://visitlangley.com/wp-content/uploads/2025/02/CanadianSteam-1.png
GEO:48.0343689;-122.4023281
X-APPLE-STRUCTURED-LOCATION;VALUE=URI;X-ADDRESS=Whidbey Island Center for the Arts Camano Avenue Langley WA 98260 United States;X-APPLE-RADIUS=500;X-TITLE=Camano Avenue:geo:-122.4023281,48.0343689
END:VEVENT
END:VCALENDAR