BEGIN:VCALENDAR
VERSION:2.0
PRODID:-//Langley Chamber of Commerce - ECPv6.15.20//NONSGML v1.0//EN
CALSCALE:GREGORIAN
METHOD:PUBLISH
X-WR-CALNAME:Langley Chamber of Commerce
X-ORIGINAL-URL:https://visitlangley.com
X-WR-CALDESC:Events for Langley Chamber of Commerce
REFRESH-INTERVAL;VALUE=DURATION:PT1H
X-Robots-Tag:noindex
X-PUBLISHED-TTL:PT1H
BEGIN:VTIMEZONE
TZID:America/Los_Angeles
BEGIN:DAYLIGHT
TZOFFSETFROM:-0800
TZOFFSETTO:-0700
TZNAME:PDT
DTSTART:20240310T100000
END:DAYLIGHT
BEGIN:STANDARD
TZOFFSETFROM:-0700
TZOFFSETTO:-0800
TZNAME:PST
DTSTART:20241103T090000
END:STANDARD
BEGIN:DAYLIGHT
TZOFFSETFROM:-0800
TZOFFSETTO:-0700
TZNAME:PDT
DTSTART:20250309T100000
END:DAYLIGHT
BEGIN:STANDARD
TZOFFSETFROM:-0700
TZOFFSETTO:-0800
TZNAME:PST
DTSTART:20251102T090000
END:STANDARD
BEGIN:DAYLIGHT
TZOFFSETFROM:-0800
TZOFFSETTO:-0700
TZNAME:PDT
DTSTART:20260308T100000
END:DAYLIGHT
BEGIN:STANDARD
TZOFFSETFROM:-0700
TZOFFSETTO:-0800
TZNAME:PST
DTSTART:20261101T090000
END:STANDARD
END:VTIMEZONE
BEGIN:VEVENT
DTSTART;TZID=America/Los_Angeles:20250619T170000
DTEND;TZID=America/Los_Angeles:20250619T190000
DTSTAMP:20260424T032747
CREATED:20250610T190645Z
LAST-MODIFIED:20250610T200248Z
UID:10001650-1750352400-1750359600@visitlangley.com
SUMMARY:Thursday Night Music @ Dancing Fish: Whidbey Island String Trio
DESCRIPTION:Join us for live music\, wine and appetizers and get a head start on the weekend! This is the first evening of the summer season that Music Night has switched to Thursdays.  \nWhidbey Island String Trio is a chamber group whose music segues effortlessly from elegant waltzes\, to playful swing\, blues\, bossanova\, Bach and even an occasional hoedown. Cellist/composer/songwriter Gideon Freudmann is joined by beloved Whidbey violin virtuoso Gloria Ferry-Brennan\, and Linda Vogt\, a highly skilled and versatile violinist.
URL:https://visitlangley.com/events/28685
LOCATION:Dancing Fish Vineyard\, 1953 Newman Road\, Freeland\, WA\, 98249
CATEGORIES:Live Music
ATTACH;FMTTYPE=image/png:https://visitlangley.com/wp-content/uploads/2025/06/Screenshot-2025-06-10-120058.png
GEO:48.009537;-122.525983
X-APPLE-STRUCTURED-LOCATION;VALUE=URI;X-ADDRESS=Dancing Fish Vineyard 1953 Newman Road Freeland WA 98249;X-APPLE-RADIUS=500;X-TITLE=1953 Newman Road:geo:-122.525983,48.009537
END:VEVENT
END:VCALENDAR