BEGIN:VCALENDAR
VERSION:2.0
PRODID:-//Langley Chamber of Commerce - ECPv6.15.20//NONSGML v1.0//EN
CALSCALE:GREGORIAN
METHOD:PUBLISH
X-WR-CALNAME:Langley Chamber of Commerce
X-ORIGINAL-URL:https://visitlangley.com
X-WR-CALDESC:Events for Langley Chamber of Commerce
REFRESH-INTERVAL;VALUE=DURATION:PT1H
X-Robots-Tag:noindex
X-PUBLISHED-TTL:PT1H
BEGIN:VTIMEZONE
TZID:America/Los_Angeles
BEGIN:DAYLIGHT
TZOFFSETFROM:-0800
TZOFFSETTO:-0700
TZNAME:PDT
DTSTART:20240310T100000
END:DAYLIGHT
BEGIN:STANDARD
TZOFFSETFROM:-0700
TZOFFSETTO:-0800
TZNAME:PST
DTSTART:20241103T090000
END:STANDARD
BEGIN:DAYLIGHT
TZOFFSETFROM:-0800
TZOFFSETTO:-0700
TZNAME:PDT
DTSTART:20250309T100000
END:DAYLIGHT
BEGIN:STANDARD
TZOFFSETFROM:-0700
TZOFFSETTO:-0800
TZNAME:PST
DTSTART:20251102T090000
END:STANDARD
BEGIN:DAYLIGHT
TZOFFSETFROM:-0800
TZOFFSETTO:-0700
TZNAME:PDT
DTSTART:20260308T100000
END:DAYLIGHT
BEGIN:STANDARD
TZOFFSETFROM:-0700
TZOFFSETTO:-0800
TZNAME:PST
DTSTART:20261101T090000
END:STANDARD
END:VTIMEZONE
BEGIN:VEVENT
DTSTART;TZID=America/Los_Angeles:20250703T173000
DTEND;TZID=America/Los_Angeles:20250703T193000
DTSTAMP:20260420T085839
CREATED:20250610T210556Z
LAST-MODIFIED:20250610T210556Z
UID:10001655-1751563800-1751571000@visitlangley.com
SUMMARY:Thursday Night Music at Dancing Fish - T.C. (Troy Chapman) Ryder & the Groovetones
DESCRIPTION:T.C. Ryder (Troy Chapman) & The Groovetones bring a heapin’ helpin’ of classic American 70’s groove to Whidbey! Starting with the unstoppable songs of J.J. Cale\, and moving ever upward the list of other groove-tastic songs\, The Groovetones bring the groove to your hometown. Featuring the twin guitars of TC Ryder and GB Beck\, the piano and organ of BT Thomas\, FB Bryant on bass\, and DM Maloney on drums\, the groove experience is filled to the brim. Bring your dancing shoes\, have a glass of wine\, or two\, and enjoy the evening! It’ll be groovy!
URL:https://visitlangley.com/events/thursday-night-music-at-dancing-fish-t-c-troy-chapman-ryder-the-groovetones
LOCATION:Dancing Fish Vineyard\, 1953 Newman Road\, Freeland\, WA\, 98249
CATEGORIES:Live Music
ATTACH;FMTTYPE=image/png:https://visitlangley.com/wp-content/uploads/2025/06/Screenshot-2025-06-10-140424.png
GEO:48.009537;-122.525983
X-APPLE-STRUCTURED-LOCATION;VALUE=URI;X-ADDRESS=Dancing Fish Vineyard 1953 Newman Road Freeland WA 98249;X-APPLE-RADIUS=500;X-TITLE=1953 Newman Road:geo:-122.525983,48.009537
END:VEVENT
BEGIN:VEVENT
DTSTART;TZID=America/Los_Angeles:20250706T153000
DTEND;TZID=America/Los_Angeles:20250706T193000
DTSTAMP:20260420T085839
CREATED:20250610T211617Z
LAST-MODIFIED:20250610T211617Z
UID:10001657-1751815800-1751830200@visitlangley.com
SUMMARY:Outdoor Concert @ Dancing Fish - Fishstock!
DESCRIPTION:Remember Woodstock? This is FISHSTOCK!\nCome in Your Best ’60s Attire\nJoin us to celebrate this summer of love! We have an incredible lineup of musicians for this special Dancing Fish summer tradition. Feel free to bring a chair\, blanket or all that you need to make yourselves comfortable on the rolling hill behind the Barn for this epic show. \nEnjoy your choice of burgers and brats from Red Cork Bistro\, or tacos from Taquería Puebla!\nDancing Fish will be serving wine by glass or bottle\, beer\, a beautiful non-alcoholic rosé refresher\, and an array of sparkling waters\, and other non-alcoholic options including juice boxes for the kids.  \nAll beverages and food will be available separately for purchase.
URL:https://visitlangley.com/events/outdoor-concert-dancing-fish-fishstock
LOCATION:Dancing Fish Vineyard\, 1953 Newman Road\, Freeland\, WA\, 98249
CATEGORIES:Live Music
ATTACH;FMTTYPE=image/png:https://visitlangley.com/wp-content/uploads/2025/06/Screenshot-2025-06-10-141448.png
GEO:48.009537;-122.525983
X-APPLE-STRUCTURED-LOCATION;VALUE=URI;X-ADDRESS=Dancing Fish Vineyard 1953 Newman Road Freeland WA 98249;X-APPLE-RADIUS=500;X-TITLE=1953 Newman Road:geo:-122.525983,48.009537
END:VEVENT
BEGIN:VEVENT
DTSTART;TZID=America/Los_Angeles:20250708T173000
DTEND;TZID=America/Los_Angeles:20250708T193000
DTSTAMP:20260420T085839
CREATED:20250610T212050Z
LAST-MODIFIED:20250610T212050Z
UID:10001658-1751995800-1752003000@visitlangley.com
SUMMARY:LINE DANCING WITH DAUNNE  (NANCY NIGHT!)
DESCRIPTION:This summer\, join us for line dancing led by Daunne Zinger on the Dancing Fish Vineyards Barn Patio! \nAll are invited to the party that has become a special Dancing Fish Vineyards tradition and contribution to a great cause – Whidbey Island Nourishes (W.I.N.).  \nOnly 50 spots – so reserve yours fast and join us for a delightful evening of dancing! \nLight appetizers are included with your reservation\, and a portion of ticket sales will go to Whidbey Island Nourishes! Wine available by the glass or by bottle.
URL:https://visitlangley.com/events/line-dancing-with-daunne-nancy-night
LOCATION:Dancing Fish Vineyard\, 1953 Newman Road\, Freeland\, WA\, 98249
CATEGORIES:Community Events
ATTACH;FMTTYPE=image/png:https://visitlangley.com/wp-content/uploads/2025/06/Screenshot-2025-06-10-141804.png
GEO:48.009537;-122.525983
X-APPLE-STRUCTURED-LOCATION;VALUE=URI;X-ADDRESS=Dancing Fish Vineyard 1953 Newman Road Freeland WA 98249;X-APPLE-RADIUS=500;X-TITLE=1953 Newman Road:geo:-122.525983,48.009537
END:VEVENT
END:VCALENDAR