BEGIN:VCALENDAR
VERSION:2.0
PRODID:-//Langley Chamber of Commerce - ECPv6.15.20//NONSGML v1.0//EN
CALSCALE:GREGORIAN
METHOD:PUBLISH
X-ORIGINAL-URL:https://visitlangley.com
X-WR-CALDESC:Events for Langley Chamber of Commerce
REFRESH-INTERVAL;VALUE=DURATION:PT1H
X-Robots-Tag:noindex
X-PUBLISHED-TTL:PT1H
BEGIN:VTIMEZONE
TZID:America/Los_Angeles
BEGIN:DAYLIGHT
TZOFFSETFROM:-0800
TZOFFSETTO:-0700
TZNAME:PDT
DTSTART:20240310T100000
END:DAYLIGHT
BEGIN:STANDARD
TZOFFSETFROM:-0700
TZOFFSETTO:-0800
TZNAME:PST
DTSTART:20241103T090000
END:STANDARD
BEGIN:DAYLIGHT
TZOFFSETFROM:-0800
TZOFFSETTO:-0700
TZNAME:PDT
DTSTART:20250309T100000
END:DAYLIGHT
BEGIN:STANDARD
TZOFFSETFROM:-0700
TZOFFSETTO:-0800
TZNAME:PST
DTSTART:20251102T090000
END:STANDARD
BEGIN:DAYLIGHT
TZOFFSETFROM:-0800
TZOFFSETTO:-0700
TZNAME:PDT
DTSTART:20260308T100000
END:DAYLIGHT
BEGIN:STANDARD
TZOFFSETFROM:-0700
TZOFFSETTO:-0800
TZNAME:PST
DTSTART:20261101T090000
END:STANDARD
END:VTIMEZONE
BEGIN:VEVENT
DTSTART;TZID=America/Los_Angeles:20250502T173000
DTEND;TZID=America/Los_Angeles:20250502T193000
DTSTAMP:20260420T231306
CREATED:20250416T212616Z
LAST-MODIFIED:20250416T212616Z
UID:10001515-1746207000-1746214200@visitlangley.com
SUMMARY:Friday Night Music @ Dancing Fish: Pax Wallace Quintet
DESCRIPTION:Join us for an evening of excellent live music\, wine and appetizers! \nPax Wallace\, an innovative jazz pianist brings his top flight quintet to Dancing Fish Vineyards for an evening of original\, harmonically advanced jazz.  “Forgotten dreams\, Faces and Places” is the inspiration for this show featuring Seattle based singer Kelley Johnson\, renowned saxophonist Jay Thomas along with Scott Swanberg (bass) and George Bullis (drums).  Experience some forward thinking jazz with this must-see show! \nKelley Johnson is an international award winning jazz vocalist who is known and respected as an arranger\, poet and lyricist with a personal body of recordings. Kelley’s lithe velvety voice mixes with a dynamic delivery and tricky colorful arrangements to showcase her interpretive finesse and inspired soloists. An organic groovy singer with a direct approach\, Kelley reaches her audience with storytelling\, subtlety\, soulfulness and swing.
URL:https://visitlangley.com/events/friday-night-music-dancing-fish-pax-wallace-quintet
LOCATION:Dancing Fish
CATEGORIES:Live Music
ATTACH;FMTTYPE=image/png:https://visitlangley.com/wp-content/uploads/2025/04/DancingFish_0502.png
END:VEVENT
BEGIN:VEVENT
DTSTART;TZID=America/Los_Angeles:20250509T173000
DTEND;TZID=America/Los_Angeles:20250509T193000
DTSTAMP:20260420T231306
CREATED:20250416T213740Z
LAST-MODIFIED:20250416T213740Z
UID:10001516-1746811800-1746819000@visitlangley.com
SUMMARY:Friday Night Music @ Dancing Fish: The Hipocrats
DESCRIPTION:Based out of Seattle\, WA\, The Hipocrats are an Americana daydream that blend hair-raising harmonies\, spunky lyrical imagery and melodies sure to stick in your head for days. Fans of all genres of music will find something to appreciate with their striking spin on classic Americana music – truly a can’t miss when they’re passing through your town. The Hipocrats’ single “The Breeze” and debut EP “Road to Joy” are out now on all platforms!
URL:https://visitlangley.com/events/friday-night-music-dancing-fish-the-hipocrats
LOCATION:Dancing Fish
CATEGORIES:Live Music
ATTACH;FMTTYPE=image/jpeg:https://visitlangley.com/wp-content/uploads/2025/04/DancingFish0509.jpg
END:VEVENT
BEGIN:VEVENT
DTSTART;TZID=America/Los_Angeles:20250512T170000
DTEND;TZID=America/Los_Angeles:20250512T190000
DTSTAMP:20260420T231306
CREATED:20250507T225438Z
LAST-MODIFIED:20250507T225438Z
UID:10001564-1747069200-1747076400@visitlangley.com
SUMMARY:Monday Bites! @ Dancing Fish: Dinner\, Wine & Live Music by Philip Van Seters
DESCRIPTION:Monday Bites! At Dancing Fish Vineyards \n(Free Admission) \nEnjoy a delicious dinner by Red Cork Bistro and live music by Philip Van Seters!  \nPhilip Van Seters is a guitarist/singer/songwriter and recent transplant to South Whidbey Island. Originally from Montreal\, Canada where he earned his undergraduate degree in music from Concordia University\, Philip now performs locally around the PNW. His current performances consist of rhythmic renditions of popular songs from the 60’s to present day interspersed with a smattering of original songs. \nReservations highly recommended to ensure seating availability with first come\, first serve\, community tables. Walk-ins are welcome after those with reservations are served\, while supplies last. Wine available for purchase by glass or bottle. \nTo make your reservation\, add the number of seats you would like to reserve to the shopping cart and make sure to fully check out. You will receive an email notification when the reservation goes through. If you do not receive an e-mail notification\, please e-mail us at info@dancingfishvineyards.com.
URL:https://visitlangley.com/events/monday-bites-dancing-fish-dinner-wine-live-music-by-philip-van-seters
LOCATION:Dancing Fish
CATEGORIES:Live Music
ATTACH;FMTTYPE=image/png:https://visitlangley.com/wp-content/uploads/2025/05/Screenshot-2025-05-07-155055.png
END:VEVENT
BEGIN:VEVENT
DTSTART;TZID=America/Los_Angeles:20250516T173000
DTEND;TZID=America/Los_Angeles:20250516T193000
DTSTAMP:20260420T231306
CREATED:20250416T214558Z
LAST-MODIFIED:20250416T214558Z
UID:10001517-1747416600-1747423800@visitlangley.com
SUMMARY:Friday Night Music @ Dancing Fish: The Dead Guise
DESCRIPTION:Please welcome to the stage\, South Whidbey’s newly formed Grateful Dead tribute band\, The Dead Guise. Join the band as they dig deep into the Dead’s repertoire and build the grooves to get you on your feet dancing. The band is comprised of local Whidbey residents who share a passionfor the sound and feel of what made this band so remarkable. So put on your dancing shoes and your tye dye\, cause the long strange trip continues!
URL:https://visitlangley.com/events/friday-night-music-dancing-fish-the-dead-guise
LOCATION:Dancing Fish
CATEGORIES:Live Music
ATTACH;FMTTYPE=image/jpeg:https://visitlangley.com/wp-content/uploads/2025/04/DancingFish0516.jpeg
END:VEVENT
BEGIN:VEVENT
DTSTART;TZID=America/Los_Angeles:20250519T170000
DTEND;TZID=America/Los_Angeles:20250519T190000
DTSTAMP:20260420T231306
CREATED:20250512T203550Z
LAST-MODIFIED:20250512T210202Z
UID:10001587-1747674000-1747681200@visitlangley.com
SUMMARY:Monday Bites! @ Dancing Fish: Dinner\, Wine\, and Live Music by Stephen Barbour
DESCRIPTION:Join us for live music\, wine and a delicious plate of traditional Paella dinner by Dancing Fish Vineyards!  \nMENU: Dancing Fish Paella Mixta: Chicken Thigh\, Traditional Sofrito\, Spanish Chorizo\, Penn Cove Mussels\, Gulf Prawns\, and Seasonal Vegetables…$25/plate \nLive music by Stephen Barbour! He hails from Scotland\, and has been bringing his Americana and classic rock favorites to audiences from NY to the San Francisco Bay Area for over 25 years. Recently moving to Whidbey Island\, he has started exploring the vibrant local music scene. Musical influences include Neil Young\, Pink Floyd\, Peter Gabriel and Cat Stevens. With a songbook of over 1\,000 tunes\, ranging from the 60’s to the here and now\, audiences are sure to find themselves dancing and singing along!
URL:https://visitlangley.com/events/monday-bites-featuring-stephen-barbour
LOCATION:Dancing Fish
CATEGORIES:Live Music
ATTACH;FMTTYPE=image/png:https://visitlangley.com/wp-content/uploads/2025/05/Screenshot-2025-05-12-133322.png
END:VEVENT
BEGIN:VEVENT
DTSTART;TZID=America/Los_Angeles:20250523T173000
DTEND;TZID=America/Los_Angeles:20250523T193000
DTSTAMP:20260420T231306
CREATED:20250416T215842Z
LAST-MODIFIED:20250416T215842Z
UID:10001518-1748021400-1748028600@visitlangley.com
SUMMARY:Friday Night Music @ Dancing Fish: Local Secrets
DESCRIPTION:Join us for live music\, wine and appetizers on a Friday evening! \nLocal Secrets is an alt folk/rock band known for their original music\, blending influences from artists like the Grateful Dead\, the Lumineers\, Bonnie Raitt\, Lucinda Williams\, and Tedeschi Trucks Band. \nTheir energetic live performances mix storytelling with upbeat rhythms\, delivering songs both nostalgic and refreshing. With soulful guitar leads\, skillfully crafted lyrics\, and a style that invites listeners into a world inspired by folk\, blues and R&B\, the band delivers a memorable night out each time!  \nLocal Secrets’ music is perfect for fans of upbeat\, heartfelt\, original songs that epitomizes the spirit of folk and rock fusion.
URL:https://visitlangley.com/events/friday-night-music-dancing-fish-local-secrets
LOCATION:Barn – Dancing Fish Vineyards\, 1953 Newman Rd\, Freeland\, WA\, 98249\, United States
CATEGORIES:Live Music
ATTACH;FMTTYPE=image/jpeg:https://visitlangley.com/wp-content/uploads/2025/04/DancingFish0523-1.jpg
GEO:48.014584;-122.511135
X-APPLE-STRUCTURED-LOCATION;VALUE=URI;X-ADDRESS=Barn – Dancing Fish Vineyards 1953 Newman Rd Freeland WA 98249 United States;X-APPLE-RADIUS=500;X-TITLE=1953 Newman Rd:geo:-122.511135,48.014584
END:VEVENT
END:VCALENDAR