BEGIN:VCALENDAR
VERSION:2.0
PRODID:-//Langley Chamber of Commerce - ECPv6.15.20//NONSGML v1.0//EN
CALSCALE:GREGORIAN
METHOD:PUBLISH
X-WR-CALNAME:Langley Chamber of Commerce
X-ORIGINAL-URL:https://visitlangley.com
X-WR-CALDESC:Events for Langley Chamber of Commerce
REFRESH-INTERVAL;VALUE=DURATION:PT1H
X-Robots-Tag:noindex
X-PUBLISHED-TTL:PT1H
BEGIN:VTIMEZONE
TZID:America/Los_Angeles
BEGIN:DAYLIGHT
TZOFFSETFROM:-0800
TZOFFSETTO:-0700
TZNAME:PDT
DTSTART:20240310T100000
END:DAYLIGHT
BEGIN:STANDARD
TZOFFSETFROM:-0700
TZOFFSETTO:-0800
TZNAME:PST
DTSTART:20241103T090000
END:STANDARD
BEGIN:DAYLIGHT
TZOFFSETFROM:-0800
TZOFFSETTO:-0700
TZNAME:PDT
DTSTART:20250309T100000
END:DAYLIGHT
BEGIN:STANDARD
TZOFFSETFROM:-0700
TZOFFSETTO:-0800
TZNAME:PST
DTSTART:20251102T090000
END:STANDARD
BEGIN:DAYLIGHT
TZOFFSETFROM:-0800
TZOFFSETTO:-0700
TZNAME:PDT
DTSTART:20260308T100000
END:DAYLIGHT
BEGIN:STANDARD
TZOFFSETFROM:-0700
TZOFFSETTO:-0800
TZNAME:PST
DTSTART:20261101T090000
END:STANDARD
END:VTIMEZONE
BEGIN:VEVENT
DTSTART;TZID=America/Los_Angeles:20250418T173000
DTEND;TZID=America/Los_Angeles:20250418T193000
DTSTAMP:20260423T142338
CREATED:20250416T205724Z
LAST-MODIFIED:20250416T210928Z
UID:10001512-1744997400-1745004600@visitlangley.com
SUMMARY:Friday Night Music @ Dancing Fish: Ranger & the "Re-Arrangers"
DESCRIPTION:Join us for an evening of excellent live music\, wine and appetizers!\nRanger and the “Re-Arrangers” evoke the spirit of a Paris cafe and the raucous energy of a Romani campsite with their version of Hot Club Swing. At the heart of their sound is Ranger’s sweet violin playing–his sense of melody and daring improvisations. The band’s repertoire includes swing standards\, traditional European melodies\, and the music of Django Reinhardt.\n“Hot Club Swing” is named after the Quintet of the Hot Club of France. In the 1930’s guitarist Django Reinhardt and violinist Stephane Grappelli blended their own musical legacies with the new American art form of jazz. Their recordings soon brought international fame to the new genre.
URL:https://visitlangley.com/events/friday-night-music-at-dancing-fish-ranger-the-re-arrangers
LOCATION:Dancing Fish
CATEGORIES:Live Music
ATTACH;FMTTYPE=image/jpeg:https://visitlangley.com/wp-content/uploads/2025/04/DancingFish.jpg
END:VEVENT
BEGIN:VEVENT
DTSTART;TZID=America/Los_Angeles:20250421T170000
DTEND;TZID=America/Los_Angeles:20250421T190000
DTSTAMP:20260423T142338
CREATED:20250416T211838Z
LAST-MODIFIED:20250416T211838Z
UID:10001514-1745254800-1745262000@visitlangley.com
SUMMARY:Monday Bites! Dinner by Red Cork Bistro | Music by Stephen Barbour @ Dancing Fish
DESCRIPTION:Join us for Monday Bites! Enjoy a delicious dinner by Red Cork Bistro\, wine by Dancing Fish and live music by…Stephen Barbour!  \nStephen Barbour hails from Scotland\, and has been bringing his Americana and classic rock favorites to audiences from NY to the San Francisco Bay Area for over 25 years. Recently moving to Whidbey Island\, he has started exploring the vibrant local music scene. Musical influences include Neil Young\, Pink Floyd\, Peter Gabriel and Cat Stevens. With a songbook of over 1\,000 tunes\, ranging from the 60’s to the here and now\, audiences are sure to find themselves dancing and singing along!
URL:https://visitlangley.com/events/monday-bites-dinner-by-red-cork-bistro-music-by-stephen-barbour-dancing-fish
LOCATION:Dancing Fish
CATEGORIES:Live Music
ATTACH;FMTTYPE=image/png:https://visitlangley.com/wp-content/uploads/2025/04/DancingFish_0421.png
END:VEVENT
BEGIN:VEVENT
DTSTART;TZID=America/Los_Angeles:20250425T173000
DTEND;TZID=America/Los_Angeles:20250425T193000
DTSTAMP:20260423T142338
CREATED:20250416T210630Z
LAST-MODIFIED:20250416T210828Z
UID:10001513-1745602200-1745609400@visitlangley.com
SUMMARY:Friday Night Music @ Dancing Fish: Steve Trembley Trio
DESCRIPTION:Join us for excellent live music\, wine and appetizers! \nThe Steve Trembley Trio will be performing groove oriented\, harmony laced 50’s – 70’s Rock\, R&B and Motown favorites with Jamie Vandall (bass/vocals) and Brad Boal (drums)! This show will be a rocking good time! Don’t miss it!
URL:https://visitlangley.com/events/friday-night-music-steve-trembley-trio
LOCATION:Dancing Fish
CATEGORIES:Live Music
ATTACH;FMTTYPE=image/jpeg:https://visitlangley.com/wp-content/uploads/2025/04/SteveTrembleyTrio.jpeg
END:VEVENT
END:VCALENDAR