BEGIN:VCALENDAR
VERSION:2.0
PRODID:-//Langley Chamber of Commerce - ECPv6.15.20//NONSGML v1.0//EN
CALSCALE:GREGORIAN
METHOD:PUBLISH
X-ORIGINAL-URL:https://visitlangley.com
X-WR-CALDESC:Events for Langley Chamber of Commerce
REFRESH-INTERVAL;VALUE=DURATION:PT1H
X-Robots-Tag:noindex
X-PUBLISHED-TTL:PT1H
BEGIN:VTIMEZONE
TZID:America/Los_Angeles
BEGIN:DAYLIGHT
TZOFFSETFROM:-0800
TZOFFSETTO:-0700
TZNAME:PDT
DTSTART:20240310T100000
END:DAYLIGHT
BEGIN:STANDARD
TZOFFSETFROM:-0700
TZOFFSETTO:-0800
TZNAME:PST
DTSTART:20241103T090000
END:STANDARD
BEGIN:DAYLIGHT
TZOFFSETFROM:-0800
TZOFFSETTO:-0700
TZNAME:PDT
DTSTART:20250309T100000
END:DAYLIGHT
BEGIN:STANDARD
TZOFFSETFROM:-0700
TZOFFSETTO:-0800
TZNAME:PST
DTSTART:20251102T090000
END:STANDARD
BEGIN:DAYLIGHT
TZOFFSETFROM:-0800
TZOFFSETTO:-0700
TZNAME:PDT
DTSTART:20260308T100000
END:DAYLIGHT
BEGIN:STANDARD
TZOFFSETFROM:-0700
TZOFFSETTO:-0800
TZNAME:PST
DTSTART:20261101T090000
END:STANDARD
END:VTIMEZONE
BEGIN:VEVENT
DTSTART;TZID=America/Los_Angeles:20250304T180000
DTEND;TZID=America/Los_Angeles:20250304T203000
DTSTAMP:20260421T001509
CREATED:20250228T211359Z
LAST-MODIFIED:20250228T211359Z
UID:10001431-1741111200-1741120200@visitlangley.com
SUMMARY:Mardi Gras Party @ Bayview Hall
DESCRIPTION:Tuesday\, March 4\, 6–8:30 p.m.\nBayview Community Hall\n5642 Bayview Road\, Langley\nJoin us for the triumphant return of local Mardi Gras favorite Ken Pickard and Zydeco Explosion! Playing new\, old\, and some very old authentic Zydeco and Cajun music\, they promise to have you on your feet from the downbeat. Free\, family friendly\, and open to all.\nDon’t forget to come decked out in your best Mardi Gras finery! The evening fun includes a costume contest with prizes for Best in Show\, Most Comical\, Best Child Costume\, and Best Mask. Beads do not count as a costume\, but you can grab some free at the door.\nBeer\, wine\, and non-alcoholic beverages will be for sale in the party\, and New Orleans specials are available nearby from Chef in the Black Bandana and the Taproom at Bayview Corner.\nLaissez les bons temps rouler!\n(the Mardi Gras party call of “let the good times roll”).
URL:https://visitlangley.com/events/mardi-gras-party-bayview-hall
LOCATION:Bayview Community Hall\, 5642 Bayview Road\, Langley\, 98260\, United States
CATEGORIES:Live Music,Member Events,Seasonal Events
ATTACH;FMTTYPE=image/jpeg:https://visitlangley.com/wp-content/uploads/2025/02/mardi-gras-2.jpg
GEO:48.006396;-122.461404
X-APPLE-STRUCTURED-LOCATION;VALUE=URI;X-ADDRESS=Bayview Community Hall 5642 Bayview Road Langley 98260 United States;X-APPLE-RADIUS=500;X-TITLE=5642 Bayview Road:geo:-122.461404,48.006396
END:VEVENT
BEGIN:VEVENT
DTSTART;TZID=America/Los_Angeles:20250304T183000
DTEND;TZID=America/Los_Angeles:20250304T193000
DTSTAMP:20260421T001509
CREATED:20250228T213518Z
LAST-MODIFIED:20250228T213545Z
UID:10001434-1741113000-1741116600@visitlangley.com
SUMMARY:Mardi Gras @ Double Bluff Brewing Company
DESCRIPTION:Bop to the music of the Mutiny Bay Brass Band while enjoying craft brews at Doublee Bluff Brewing Company on Second Street in Langley. Wear your Mardi Gras gear and let the good times roll!
URL:https://visitlangley.com/events/mardi-gras-double-bluff-brewing-company
LOCATION:Double Bluff Brewing Company\, 121 Second Street\, Langley\, WA\, 98260
CATEGORIES:Live Music,Member Events,Seasonal Events
ATTACH;FMTTYPE=image/png:https://visitlangley.com/wp-content/uploads/2025/02/DoubleBluffMardiGrasGraphic.png
END:VEVENT
END:VCALENDAR