BEGIN:VCALENDAR
VERSION:2.0
PRODID:-//Langley Chamber of Commerce - ECPv6.15.20//NONSGML v1.0//EN
CALSCALE:GREGORIAN
METHOD:PUBLISH
X-WR-CALNAME:Langley Chamber of Commerce
X-ORIGINAL-URL:https://visitlangley.com
X-WR-CALDESC:Events for Langley Chamber of Commerce
REFRESH-INTERVAL;VALUE=DURATION:PT1H
X-Robots-Tag:noindex
X-PUBLISHED-TTL:PT1H
BEGIN:VTIMEZONE
TZID:America/Los_Angeles
BEGIN:DAYLIGHT
TZOFFSETFROM:-0800
TZOFFSETTO:-0700
TZNAME:PDT
DTSTART:20240310T100000
END:DAYLIGHT
BEGIN:STANDARD
TZOFFSETFROM:-0700
TZOFFSETTO:-0800
TZNAME:PST
DTSTART:20241103T090000
END:STANDARD
BEGIN:DAYLIGHT
TZOFFSETFROM:-0800
TZOFFSETTO:-0700
TZNAME:PDT
DTSTART:20250309T100000
END:DAYLIGHT
BEGIN:STANDARD
TZOFFSETFROM:-0700
TZOFFSETTO:-0800
TZNAME:PST
DTSTART:20251102T090000
END:STANDARD
BEGIN:DAYLIGHT
TZOFFSETFROM:-0800
TZOFFSETTO:-0700
TZNAME:PDT
DTSTART:20260308T100000
END:DAYLIGHT
BEGIN:STANDARD
TZOFFSETFROM:-0700
TZOFFSETTO:-0800
TZNAME:PST
DTSTART:20261101T090000
END:STANDARD
END:VTIMEZONE
BEGIN:VEVENT
DTSTART;TZID=America/Los_Angeles:20250208T190000
DTEND;TZID=America/Los_Angeles:20250208T210000
DTSTAMP:20260425T161206
CREATED:20250117T200313Z
LAST-MODIFIED:20250117T200313Z
UID:10001413-1739041200-1739048400@visitlangley.com
SUMMARY:Jack Radsliff Trio @ Ott & Hunter's
DESCRIPTION:Jack Radsliff Trio\nSaturday\, February 8th @ 7 p.m.\n$25\nOtt & Hunter is delighted to present an evening with the Jack Radsliff Trio as they bring their special brand of exuberant and passionate jazz all the way from Portland into the heart of Langley on our cabaret stage! The Jack Radsliff Trio features Jack Radsliff on guitar; Patrick Golichnik playing bass and Michael Raynor on drums\nJack Radsliff is on the short list of jazz guitarists in the Pacific Northwest. As a bandleader\, his trio featuring Patrick Golichnik and Michael Raynor\, has become a fixture at clubs throughout the region. As a collaborator\, Radsliff is a first-call for many; frequently playing in the bands of Ron Steen\, Michael Raynor\, Cyrus Nabipoor\, Galen Clark\, Christopher Brown\, Chuck Israels\, Alan Jones\, Kerry Politzer\, George Colligan\, Dan Balmer\, Idit Shner\, Kathleen Hollingsworth\, Torrey Newhart and many more: a veritable who’s who of Oregon’s jazz musicians. In addition to his steady work around the PNW\, last year afforded Jack opportunities to work as sideman to Jonathan Pinson\, Greg Ward\, Domo Branch and Charlie Brown; release his sophomore record “Barefoot” (PJCE Records) featuring Randy Porter\, Todd Sickafoose and Alan Jones; and tour the west coast extensively with Ian George\, Cyrus Nabipoor and the Jack Radsliff Trio.\nJack’s playing can be heard on more than a dozen records to date. His own records\, “Migration Patterns” (2017) and “Barefoot” (2024)\, have been well received; both making it onto critics “best of” lists. In his relatively short recording career\, Jack has contributed to releases from Cyrus Nabipoor\, Tony Glausi\, Martina DaSilva\, Dan Rossi\, Machado Majiga and Pablo Rivarola. With more and more music coming out\, follow Jack on instagram (@JackRadsliff) to stay up to date.\nTickets are available for purchase online at:\nhttps://otthunter.orderport.net/wines/Live-Music\nOtt & Hunter Winery Tasting Room\n204 1st Street\, Langley\n(360) 221-7131
URL:https://visitlangley.com/events/jack-radsliff-trio-ott-hunters
LOCATION:Ott & Hunter Tasting Room\, 204 1st Street\, Langley\, WA\, 98260\, United States
ATTACH;FMTTYPE=image/jpeg:https://visitlangley.com/wp-content/uploads/2025/01/JackRadsliffTrio.jpg
ORGANIZER;CN="Ott & Hunter Tasting Room":MAILTO:info@otthunterwines.com
GEO:48.0409015;-122.4082782
X-APPLE-STRUCTURED-LOCATION;VALUE=URI;X-ADDRESS=Ott & Hunter Tasting Room 204 1st Street Langley WA 98260 United States;X-APPLE-RADIUS=500;X-TITLE=204 1st Street:geo:-122.4082782,48.0409015
END:VEVENT
END:VCALENDAR