BEGIN:VCALENDAR
VERSION:2.0
PRODID:-//Langley Chamber of Commerce - ECPv6.15.20//NONSGML v1.0//EN
CALSCALE:GREGORIAN
METHOD:PUBLISH
X-WR-CALNAME:Langley Chamber of Commerce
X-ORIGINAL-URL:https://visitlangley.com
X-WR-CALDESC:Events for Langley Chamber of Commerce
REFRESH-INTERVAL;VALUE=DURATION:PT1H
X-Robots-Tag:noindex
X-PUBLISHED-TTL:PT1H
BEGIN:VTIMEZONE
TZID:America/Los_Angeles
BEGIN:DAYLIGHT
TZOFFSETFROM:-0800
TZOFFSETTO:-0700
TZNAME:PDT
DTSTART:20240310T100000
END:DAYLIGHT
BEGIN:STANDARD
TZOFFSETFROM:-0700
TZOFFSETTO:-0800
TZNAME:PST
DTSTART:20241103T090000
END:STANDARD
BEGIN:DAYLIGHT
TZOFFSETFROM:-0800
TZOFFSETTO:-0700
TZNAME:PDT
DTSTART:20250309T100000
END:DAYLIGHT
BEGIN:STANDARD
TZOFFSETFROM:-0700
TZOFFSETTO:-0800
TZNAME:PST
DTSTART:20251102T090000
END:STANDARD
BEGIN:DAYLIGHT
TZOFFSETFROM:-0800
TZOFFSETTO:-0700
TZNAME:PDT
DTSTART:20260308T100000
END:DAYLIGHT
BEGIN:STANDARD
TZOFFSETFROM:-0700
TZOFFSETTO:-0800
TZNAME:PST
DTSTART:20261101T090000
END:STANDARD
END:VTIMEZONE
BEGIN:VEVENT
DTSTART;TZID=America/Los_Angeles:20250820T160000
DTEND;TZID=America/Los_Angeles:20250820T173000
DTSTAMP:20260424T114212
CREATED:20250820T184930Z
LAST-MODIFIED:20250820T184930Z
UID:10001819-1755705600-1755711000@visitlangley.com
SUMMARY:Langley Chamber Social Stroll
DESCRIPTION:Join the Langley Chamber of Commerce for an afternoon of connection and community as we take a leisurely Social Stroll through town. We’ll pop into favorite local stops including Whidbey Art Gallery\, Kalypso’s Gifts\, edit.\, Moonraker Books\, Flying Bear Farm\, and wrap up with a pint at Double Bluff Brewery. If you’re hungry\, check out Ikaika Bistro food truck as well! A perfect way to discover (or rediscover) Langley gems while networking with fellow Chamber members and friends! \nThis afternoon stroll is welcome to all: members\, non-members\, local business owners\, visitors\, and locals alike! \nIf you’re interested in the Chamber and what we have to offer\, this is a perfect time to come and get to know our Board President and representatives of the Chamber of Commerce in a unique setting.
URL:https://visitlangley.com/events/langley-chamber-social-stroll-2
LOCATION:Multiple venues on South Whidbey\, Langley\, WA\, 98260\, United States
CATEGORIES:Chamber Events,Community Events
ATTACH;FMTTYPE=image/png:https://visitlangley.com/wp-content/uploads/2025/08/August-stroll-with-copy.png
GEO:48.0400945;-122.406257
END:VEVENT
END:VCALENDAR