BEGIN:VCALENDAR
VERSION:2.0
PRODID:-//Langley Chamber of Commerce - ECPv6.15.20//NONSGML v1.0//EN
CALSCALE:GREGORIAN
METHOD:PUBLISH
X-WR-CALNAME:Langley Chamber of Commerce
X-ORIGINAL-URL:https://visitlangley.com
X-WR-CALDESC:Events for Langley Chamber of Commerce
REFRESH-INTERVAL;VALUE=DURATION:PT1H
X-Robots-Tag:noindex
X-PUBLISHED-TTL:PT1H
BEGIN:VTIMEZONE
TZID:America/Los_Angeles
BEGIN:DAYLIGHT
TZOFFSETFROM:-0800
TZOFFSETTO:-0700
TZNAME:PDT
DTSTART:20250309T100000
END:DAYLIGHT
BEGIN:STANDARD
TZOFFSETFROM:-0700
TZOFFSETTO:-0800
TZNAME:PST
DTSTART:20251102T090000
END:STANDARD
BEGIN:DAYLIGHT
TZOFFSETFROM:-0800
TZOFFSETTO:-0700
TZNAME:PDT
DTSTART:20260308T100000
END:DAYLIGHT
BEGIN:STANDARD
TZOFFSETFROM:-0700
TZOFFSETTO:-0800
TZNAME:PST
DTSTART:20261101T090000
END:STANDARD
BEGIN:DAYLIGHT
TZOFFSETFROM:-0800
TZOFFSETTO:-0700
TZNAME:PDT
DTSTART:20270314T100000
END:DAYLIGHT
BEGIN:STANDARD
TZOFFSETFROM:-0700
TZOFFSETTO:-0800
TZNAME:PST
DTSTART:20271107T090000
END:STANDARD
END:VTIMEZONE
BEGIN:VEVENT
DTSTART;TZID=America/Los_Angeles:20260425T160000
DTEND;TZID=America/Los_Angeles:20260425T220000
DTSTAMP:20260425T202233
CREATED:20260408T205350Z
LAST-MODIFIED:20260408T205350Z
UID:10002460-1777132800-1777154400@visitlangley.com
SUMMARY:LittleBIGFest - EARTH DAY
DESCRIPTION:LittleBIGFest – EARTH DAY \n*Celebrating Global Sauna Day! \nGet ready for a family-funky community celebration in honor of the planet we call home! We are taking over the brand-new Royal Alvin Hall right in the heart of Freeland from 4pm-10pm+ on April 25 for a full day of rhythm\, rejuvenation\, and wood-fired goodness. \nLIVE MUSIC OFFERINGS:\nGLOBAL HEAT: PNW legends bringing high-energy R&B\, soul\, and old-school hip-hop with a positive message.\nREDCEDAR: Earthy folk and soulful Americana.\nRUBATANO: Roots marimba music and deep grooves from Zimbabwe.\nDJ ZACH VAN LUE: Keeping the house vibes alive all night long. \nFOOD & OFFERINGS\nFulla Za: Serving up the tastiest wood-fired pizzas.\nBeverage Garden: Refreshing local pours.\nArtisan Vendors: Shop local makers and creators.\nSilent Auction: Grab some treasures while supporting a great cause. \nCELEBRATE “GLOBAL SAUNA DAY”\nTurn up the heat! We are hosting a dedicated Sauna Grove\nfeaturing Whidbey Island’s finest mobile saunas.\nCinder Cave   Driftwood Sauna Co   Good Medicine Whidbey \nLOCATION & TIME\nApril 25th\, 2026 | 4pm – 10pm+\nRoyal Alvin Hall\n1694 E Main Street\, FREELAND\, WA 98249 \nTICKETS\nAdults: $16 Presale / $20 Door\nTeens: $12 Presale / $16 Door\nKids (Under 13): FREE! \n*Don’t forget we offer a season pass for a rocking deal! \nLittleBIGFest \ninfo@littlebigfest.org \nhttp://www.littlebigfest.org
URL:https://visitlangley.com/events/littlebigfest-earth-day
LOCATION:Royal Alvin Hall Freeland\, 1694 E Main Street\, Freeland\, United States
CATEGORIES:Live Music,Member Events
ATTACH;FMTTYPE=image/png:https://visitlangley.com/wp-content/uploads/2026/04/LittleBigFestApril2026.png
END:VEVENT
END:VCALENDAR