BEGIN:VCALENDAR
VERSION:2.0
PRODID:-//Langley Chamber of Commerce - ECPv6.15.20//NONSGML v1.0//EN
CALSCALE:GREGORIAN
METHOD:PUBLISH
X-WR-CALNAME:Langley Chamber of Commerce
X-ORIGINAL-URL:https://visitlangley.com
X-WR-CALDESC:Events for Langley Chamber of Commerce
REFRESH-INTERVAL;VALUE=DURATION:PT1H
X-Robots-Tag:noindex
X-PUBLISHED-TTL:PT1H
BEGIN:VTIMEZONE
TZID:America/Los_Angeles
BEGIN:DAYLIGHT
TZOFFSETFROM:-0800
TZOFFSETTO:-0700
TZNAME:PDT
DTSTART:20250309T100000
END:DAYLIGHT
BEGIN:STANDARD
TZOFFSETFROM:-0700
TZOFFSETTO:-0800
TZNAME:PST
DTSTART:20251102T090000
END:STANDARD
BEGIN:DAYLIGHT
TZOFFSETFROM:-0800
TZOFFSETTO:-0700
TZNAME:PDT
DTSTART:20260308T100000
END:DAYLIGHT
BEGIN:STANDARD
TZOFFSETFROM:-0700
TZOFFSETTO:-0800
TZNAME:PST
DTSTART:20261101T090000
END:STANDARD
BEGIN:DAYLIGHT
TZOFFSETFROM:-0800
TZOFFSETTO:-0700
TZNAME:PDT
DTSTART:20270314T100000
END:DAYLIGHT
BEGIN:STANDARD
TZOFFSETFROM:-0700
TZOFFSETTO:-0800
TZNAME:PST
DTSTART:20271107T090000
END:STANDARD
END:VTIMEZONE
BEGIN:VEVENT
DTSTART;TZID=America/Los_Angeles:20260220T180000
DTEND;TZID=America/Los_Angeles:20260220T200000
DTSTAMP:20260423T210811
CREATED:20260124T193202Z
LAST-MODIFIED:20260124T193202Z
UID:10002366-1771610400-1771617600@visitlangley.com
SUMMARY:Whidbey Institute Hosts: “Dark and Tender: The Big Island”
DESCRIPTION:Whidbey Institute is Thrilled to Host: “Dark and Tender: The Big Island” \nWhidbey Institute is thrilled to host:\n“Dark and Tender: The Big Island”\nA Film by the Chronically UnderTouched (CUT) Project \nFriday\, February 20th  ~  6 – 8 p.m.\nat Thomas Berry Hall \nJoin us for a film screening and Q&A hosted by Dark and Tender\nProducer Ben Wilson of Color of Sound. This is a by-donation event. \nIn the second chapter of Aaron Johnson’s film “Dark and Tender”\, ten Black men journey to the Big Island of Hawaii to workshop the touch and listening practices from the Chronically UnderTouched Project. Part cinéma vérité\, part elucidated teaching\, the film slows down with the men as they reclaim and rebuild platonic intimacy and trust. Holding space for each other\, they shake off violent narratives of Black masculinity and seek to restore a vital and basic human need in their lives – tender touch. \nBoth short films “Dark and Tender: A Film by the Chronically UnderTouched (CUT) Project” and “Dark and Tender: The Big Island” will be screened. “Dark and Tender: A Film by the Chronically UnderTouched (CUT) Project”\nwas filmed in part at Whidbey Institute. \nRegister here: https://givebutter.com/whidbey-big-island \nThe Whidbey Institute   6449 Old Pietila Rd.\, Clinton
URL:https://visitlangley.com/events/whidbey-institute-hosts-dark-and-tender-the-big-island
LOCATION:Whidbey Institute\, 6449 Old Pietila Rd\, Clinton\, WA\, 98236\, United States
CATEGORIES:Member Events
ATTACH;FMTTYPE=image/jpeg:https://visitlangley.com/wp-content/uploads/2026/01/Dark-and-Tender.jpg
GEO:47.9787518;-122.4085875
X-APPLE-STRUCTURED-LOCATION;VALUE=URI;X-ADDRESS=Whidbey Institute 6449 Old Pietila Rd Clinton WA 98236 United States;X-APPLE-RADIUS=500;X-TITLE=6449 Old Pietila Rd:geo:-122.4085875,47.9787518
END:VEVENT
END:VCALENDAR