BEGIN:VCALENDAR
VERSION:2.0
PRODID:-//Langley Chamber of Commerce - ECPv6.15.20//NONSGML v1.0//EN
CALSCALE:GREGORIAN
METHOD:PUBLISH
X-WR-CALNAME:Langley Chamber of Commerce
X-ORIGINAL-URL:https://visitlangley.com
X-WR-CALDESC:Events for Langley Chamber of Commerce
REFRESH-INTERVAL;VALUE=DURATION:PT1H
X-Robots-Tag:noindex
X-PUBLISHED-TTL:PT1H
BEGIN:VTIMEZONE
TZID:America/Los_Angeles
BEGIN:DAYLIGHT
TZOFFSETFROM:-0800
TZOFFSETTO:-0700
TZNAME:PDT
DTSTART:20240310T100000
END:DAYLIGHT
BEGIN:STANDARD
TZOFFSETFROM:-0700
TZOFFSETTO:-0800
TZNAME:PST
DTSTART:20241103T090000
END:STANDARD
BEGIN:DAYLIGHT
TZOFFSETFROM:-0800
TZOFFSETTO:-0700
TZNAME:PDT
DTSTART:20250309T100000
END:DAYLIGHT
BEGIN:STANDARD
TZOFFSETFROM:-0700
TZOFFSETTO:-0800
TZNAME:PST
DTSTART:20251102T090000
END:STANDARD
BEGIN:DAYLIGHT
TZOFFSETFROM:-0800
TZOFFSETTO:-0700
TZNAME:PDT
DTSTART:20260308T100000
END:DAYLIGHT
BEGIN:STANDARD
TZOFFSETFROM:-0700
TZOFFSETTO:-0800
TZNAME:PST
DTSTART:20261101T090000
END:STANDARD
END:VTIMEZONE
BEGIN:VEVENT
DTSTART;TZID=America/Los_Angeles:20251107T173000
DTEND;TZID=America/Los_Angeles:20251107T193000
DTSTAMP:20260424T040054
CREATED:20251106T215152Z
LAST-MODIFIED:20251106T215152Z
UID:10002266-1762536600-1762543800@visitlangley.com
SUMMARY:Tara Craig Trio @ Dancing Fish
DESCRIPTION:Friday Night Music at Dancing Fish: Tara Craig Trio \n  \nFriday\, November 7th  ~  5:30 – 7:30 p.m. \nJoin us for excellent live music and wine in community! \nWe can’t wait to welcome the Tara Craig Trio for their debut appearance at Dancing Fish. We are so excited to share this music with you\, with poignant renditions of covers from artists like Tracy Chapman\, James Taylor\, and Joni Mitchell along with a few from her stirring array of originals. You don’t want to miss this one!! \nTara Craig is an award-winning\, Americana-indie folk-pop\, singer-songwriter based in Friday Harbor\, WA. She captivates audiences with a huge voice that is equal parts soulful and vulnerable. Her songs drip with imagery and are delivered with palpable emotional intensity. \nTara currently performs both solo and as a trio with Daniel Deshon on bass and Scott Sluis on drums. Despite the full band’s broader sonic palette\, the music remains grounded in Tara’s affecting voice and songwriting. The trio has an exciting air of growth and momentum right now as they start to gain popularity throughout the Salish Sea region in the PNW. https://www.taracraig.com/music \nMAKE RESERVATIONS!\nhttps://dancingfishvineyards.orderport.net/product-details/0745/11072025… \nThis event is by reservation only and includes\na shared appetizer board served to your table. \nDancing Fish Vineyards \n1953 Newman Road\, Freeland
URL:https://visitlangley.com/events/tara-craig-trio-dancing-fish
LOCATION:Dancing Fish Vineyard\, 1953 Newman Road\, Freeland\, WA\, 98249
CATEGORIES:Live Music,Member Events
ATTACH;FMTTYPE=image/jpeg:https://visitlangley.com/wp-content/uploads/2025/11/TaraCraigTrio.jpg
GEO:48.009537;-122.525983
X-APPLE-STRUCTURED-LOCATION;VALUE=URI;X-ADDRESS=Dancing Fish Vineyard 1953 Newman Road Freeland WA 98249;X-APPLE-RADIUS=500;X-TITLE=1953 Newman Road:geo:-122.525983,48.009537
END:VEVENT
BEGIN:VEVENT
DTSTART;TZID=America/Los_Angeles:20251128T173000
DTEND;TZID=America/Los_Angeles:20251128T193000
DTSTAMP:20260424T040054
CREATED:20251122T225104Z
LAST-MODIFIED:20251122T225104Z
UID:10002299-1764351000-1764358200@visitlangley.com
SUMMARY:Friday Night Music @ Dancing Fish: The Steve Trembley Trio
DESCRIPTION:Friday Night Music at Dancing Fish – The Steve Trembley Trio Post Thanksgiving Show \nFriday\, November 28th  ~  5:30 – 7:30 p.m. \nJoin us for excellent live music\, wine and appetizers! \nThe Steve Trembley Trio will be returning for a fun post Thanksgiving show\, performing groove oriented\, harmony laced 50’s – 70’s Rock\, R&B and Motown favorites with Jamie Vandall (bass/vocals) and Brad Boal (drums)! This show will be a rocking good time! Family still in town? Bring ’em out for more fun. Need to unwind now that family has gone home? We got you! \nMAKE RESERVATIONS! https://dancingfishvineyards.orderport.net/product-details/0756/11282025… \nThis event is by reservation only and includes a shared appetizer board\nserved to your table. \nPlease be aware that due to limited seating capacity in the Dancing Fish Barn\, some patrons may be assigned to larger communal tables. Alternatively\, if you have friends who are also attending this event\, please let us know via text/phone (360-632-4190) or email (info@dancingfishvineyards.com) in advance of the performance so we can seat you at the same table. \nDancing Fish Vineyards \n1953 Newman Road\, Freeland \n(360) 632-4190 \ninfo@dancingfishvineyards.com
URL:https://visitlangley.com/events/friday-night-music-dancing-fish-the-steve-trembley-trio
LOCATION:Dancing Fish Vineyard\, 1953 Newman Road\, Freeland\, WA\, 98249
CATEGORIES:Live Music,Member Events
ATTACH;FMTTYPE=image/jpeg:https://visitlangley.com/wp-content/uploads/2025/11/SteveTrembleyTrio.jpg
GEO:48.009537;-122.525983
X-APPLE-STRUCTURED-LOCATION;VALUE=URI;X-ADDRESS=Dancing Fish Vineyard 1953 Newman Road Freeland WA 98249;X-APPLE-RADIUS=500;X-TITLE=1953 Newman Road:geo:-122.525983,48.009537
END:VEVENT
END:VCALENDAR