BEGIN:VCALENDAR
VERSION:2.0
PRODID:-//Langley Chamber of Commerce - ECPv6.15.20//NONSGML v1.0//EN
CALSCALE:GREGORIAN
METHOD:PUBLISH
X-WR-CALNAME:Langley Chamber of Commerce
X-ORIGINAL-URL:https://visitlangley.com
X-WR-CALDESC:Events for Langley Chamber of Commerce
REFRESH-INTERVAL;VALUE=DURATION:PT1H
X-Robots-Tag:noindex
X-PUBLISHED-TTL:PT1H
BEGIN:VTIMEZONE
TZID:America/Los_Angeles
BEGIN:DAYLIGHT
TZOFFSETFROM:-0800
TZOFFSETTO:-0700
TZNAME:PDT
DTSTART:20250309T100000
END:DAYLIGHT
BEGIN:STANDARD
TZOFFSETFROM:-0700
TZOFFSETTO:-0800
TZNAME:PST
DTSTART:20251102T090000
END:STANDARD
BEGIN:DAYLIGHT
TZOFFSETFROM:-0800
TZOFFSETTO:-0700
TZNAME:PDT
DTSTART:20260308T100000
END:DAYLIGHT
BEGIN:STANDARD
TZOFFSETFROM:-0700
TZOFFSETTO:-0800
TZNAME:PST
DTSTART:20261101T090000
END:STANDARD
BEGIN:DAYLIGHT
TZOFFSETFROM:-0800
TZOFFSETTO:-0700
TZNAME:PDT
DTSTART:20270314T100000
END:DAYLIGHT
BEGIN:STANDARD
TZOFFSETFROM:-0700
TZOFFSETTO:-0800
TZNAME:PST
DTSTART:20271107T090000
END:STANDARD
END:VTIMEZONE
BEGIN:VEVENT
DTSTART;TZID=America/Los_Angeles:20260102T173000
DTEND;TZID=America/Los_Angeles:20260102T193000
DTSTAMP:20260423T020340
CREATED:20251224T211542Z
LAST-MODIFIED:20251224T211542Z
UID:10002326-1767375000-1767382200@visitlangley.com
SUMMARY:Friday Night at Dancing Fish: The Unknowns
DESCRIPTION:Friday Night Music at Dancing Fish – The Unknowns \nFriday\, January 2nd  ~  5:30 – 7:30 p.m. \nWe are thrilled to have the Unknowns return to the Dancing Fish Barn! The Unknowns are a 5-piece all-female band from Bellingham\, WA. Their unique brand of entertainment fuses tight three-part harmony and sultry vocals with cheeky lyrics and smart original songs along with some of the most fun renditions of your favorite covers you’re likely to hear. The Unknowns have gained a loyal following with their blend of jazz\, blues\, and contemporary music\, and more. \nhttps://youtu.be/XYTFOW9ZFJQ\nhttps://youtu.be/vHI1UgC23FI\nhttps://www.youtube.com/watch?v=z__rttFQHXw \nMAKE RESERVATIONS!\nhttps://dancingfishvineyards.orderport.net/product-details/0781/01022026… \nThis event is by reservation only and includes\na shared appetizer board served to your table. \nPlease be aware that due to limited seating capacity in the Dancing Fish Barn\, some patrons may be assigned to larger communal tables. Alternatively\, if you have friends who are also attending this event\, please let us know via text/phone (360-632-4190) or email (info@dancingfishvineyards.com) in advance of the performance so we can seat you at the same table. \nDancing Fish Vineyards \n1953 Newman Road\, Freeland (360) 632-4190
URL:https://visitlangley.com/events/friday-night-at-dancing-fish-the-unknowns
LOCATION:Dancing Fish Vineyard\, 1953 Newman Road\, Freeland\, WA\, 98249
CATEGORIES:Live Music,Member Events
ATTACH;FMTTYPE=image/png:https://visitlangley.com/wp-content/uploads/2025/12/TheUnknowns.png
GEO:48.009537;-122.525983
X-APPLE-STRUCTURED-LOCATION;VALUE=URI;X-ADDRESS=Dancing Fish Vineyard 1953 Newman Road Freeland WA 98249;X-APPLE-RADIUS=500;X-TITLE=1953 Newman Road:geo:-122.525983,48.009537
END:VEVENT
BEGIN:VEVENT
DTSTART;TZID=America/Los_Angeles:20260123T173000
DTEND;TZID=America/Los_Angeles:20260123T193000
DTSTAMP:20260423T020340
CREATED:20260121T195718Z
LAST-MODIFIED:20260121T195718Z
UID:10002362-1769189400-1769196600@visitlangley.com
SUMMARY:Friday Night Music at Dancing Fish Vineyards – Deja Blooze Band
DESCRIPTION:Friday Night Music at Dancing Fish Vineyards – Deja Blooze Band \nFriday\, January 23rd  ~  5:30 – 7:30 p.m. \nDeja Blooze is a blues-based quintet that plays a soulful\, rocking\, danceable style of music incorporating a number of original songs as well as classic favorites. Deja Blooze was founded in 2007 by David Gregor and\, in its many configurations\, has played most every live music venue on Whidbey Island. The current members of the band include David Gregor on guitar and vocals\, David Licastro on lead guitar and vocals\, Gary Way on keyboards\, Frederick Bryan on bass\, and David Malony on drums. \nThis event is by reservation only and includes a shared appetizer board. \nMAKE RESERVATIONS!\nhttps://dancingfishvineyards.orderport.net/product-details/0784/1232026-… \nTo make your reservation\, add the number of seats you would like to reserve to the shopping cart and make sure to fully check out. You will receive an automatic email notification when the reservation is confirmed. If you do not receive an e-mail notification\, please e-mail us at info@dancingfishvineyards.com. \nPlease be aware that due to limited seating capacity in the Dancing Fish Barn\, some patrons may be assigned to larger communal tables. Alternatively\, if you have friends who are also attending this event\, please let us know via text/phone (360-632-4190) in advance of the performance so we can seat you at the same table. \nDancing Fish Vineyards \n1953 Newman Road\, Freeland \n(360) 632-4190
URL:https://visitlangley.com/events/friday-night-music-at-dancing-fish-vineyards-deja-blooze-band
LOCATION:Dancing Fish Vineyard\, 1953 Newman Road\, Freeland\, WA\, 98249
CATEGORIES:Live Music,Member Events
ATTACH;FMTTYPE=image/jpeg:https://visitlangley.com/wp-content/uploads/2026/01/DejaBlooze.jpg
GEO:48.009537;-122.525983
X-APPLE-STRUCTURED-LOCATION;VALUE=URI;X-ADDRESS=Dancing Fish Vineyard 1953 Newman Road Freeland WA 98249;X-APPLE-RADIUS=500;X-TITLE=1953 Newman Road:geo:-122.525983,48.009537
END:VEVENT
END:VCALENDAR