BEGIN:VCALENDAR
VERSION:2.0
PRODID:-//Langley Chamber of Commerce - ECPv6.15.20//NONSGML v1.0//EN
CALSCALE:GREGORIAN
METHOD:PUBLISH
X-WR-CALNAME:Langley Chamber of Commerce
X-ORIGINAL-URL:https://visitlangley.com
X-WR-CALDESC:Events for Langley Chamber of Commerce
REFRESH-INTERVAL;VALUE=DURATION:PT1H
X-Robots-Tag:noindex
X-PUBLISHED-TTL:PT1H
BEGIN:VTIMEZONE
TZID:America/Los_Angeles
BEGIN:DAYLIGHT
TZOFFSETFROM:-0800
TZOFFSETTO:-0700
TZNAME:PDT
DTSTART:20240310T100000
END:DAYLIGHT
BEGIN:STANDARD
TZOFFSETFROM:-0700
TZOFFSETTO:-0800
TZNAME:PST
DTSTART:20241103T090000
END:STANDARD
BEGIN:DAYLIGHT
TZOFFSETFROM:-0800
TZOFFSETTO:-0700
TZNAME:PDT
DTSTART:20250309T100000
END:DAYLIGHT
BEGIN:STANDARD
TZOFFSETFROM:-0700
TZOFFSETTO:-0800
TZNAME:PST
DTSTART:20251102T090000
END:STANDARD
BEGIN:DAYLIGHT
TZOFFSETFROM:-0800
TZOFFSETTO:-0700
TZNAME:PDT
DTSTART:20260308T100000
END:DAYLIGHT
BEGIN:STANDARD
TZOFFSETFROM:-0700
TZOFFSETTO:-0800
TZNAME:PST
DTSTART:20261101T090000
END:STANDARD
END:VTIMEZONE
BEGIN:VEVENT
DTSTART;TZID=America/Los_Angeles:20250707T170000
DTEND;TZID=America/Los_Angeles:20250707T190000
DTSTAMP:20260422T025756
CREATED:20250702T203336Z
LAST-MODIFIED:20250702T203336Z
UID:10001692-1751907600-1751914800@visitlangley.com
SUMMARY:Monday Bites @ Dancing Fish: Taco Cart\, Wine & Live Music by Sage Haze
DESCRIPTION:The Taco Cart Menu will be available soon! \nSage is a talented singer-songwriter who relocated with her childhood dog from her small Midwest hometown to Whidbey Island in late 2023. Shortly after moving into a trailer on her sister’s organic veggie farm\, she began pursuing a solo music career and has since built a local following. Sage brings coffeehouse vibes to the stage and is inspired by musicians such as Billie Eilish\, Halsey\, Willow\, Miley Cyrus and Chappell Roan. Her aim is to create a chill and serene atmosphere through intimate\, acoustic performances that span pop and rock covers\, alongside her growing repertoire of originals. She has dyed her hair every color of the rainbow\, likes the smell of wet dogs and believes that animals are allowed on furniture. Find live snippets of Sage’s music on her Instagram and Facebook pages. \nReservations highly recommended to ensure seating and dinner with first come\, first serve\, community tables. Walk-ins are welcome after those with reservations are served\, while supplies last. Wine available for purchase by glass or bottle.
URL:https://visitlangley.com/events/monday-bites-dancing-fish-taco-cart-wine-live-music-by-sage-haze
LOCATION:Dancing Fish
CATEGORIES:Live Music
ATTACH;FMTTYPE=image/png:https://visitlangley.com/wp-content/uploads/2025/07/Screenshot-2025-07-02-132544.png
END:VEVENT
BEGIN:VEVENT
DTSTART;TZID=America/Los_Angeles:20250710T170000
DTEND;TZID=America/Los_Angeles:20250710T190000
DTSTAMP:20260422T025756
CREATED:20250702T203947Z
LAST-MODIFIED:20250702T203947Z
UID:10001693-1752166800-1752174000@visitlangley.com
SUMMARY:Thursday Night Music @ Dancing Fish: The Jewel Tones
DESCRIPTION:THE JEWEL TONES are a sparkling homage to the music of Motown\, the definitive era of American artistry and soul. This all-female\, Motown-inspired vocal trio performs all of the most popular Motown hits and always leaves audiences “dancin’ in the street!” With lively choreography\, dazzling costumes\, amazing wigs and a glamorous style reminiscent of the great 1960s girl groups\, the trio engages audiences with warmth and nostalgia and welcomes them back to a time when Diana Ross was queen and brilliant women ruled the stage. It doesn’t get any better than this All-American\, Motown playlist that includes hits by The Supremes\, The Temptations\, The Shirelles\, Gladys Knight & The Pips\, Martha & The Vandellas\, Stevie Wonder\, Smokey Robinson\, The Ronettes and many more. Audiences love singing and dancing along with all of these fantastic songs that have stood the test of time. Follow THE JEWEL TONES on Instagram and Facebook @MotownJewelTones and learn more on our website at MotownJewelTones.com. \nThis event will be the THE JEWEL TONES’ fully-tracked (sans band) show and will be a super-fun\, family-friendly event that does not skimp on sass! Enjoy this upbeat\, throwback show that is guaranteed to have you “dancin’ in the street!”
URL:https://visitlangley.com/events/thursday-night-music-dancing-fish-the-jewel-tones-2
LOCATION:Dancing Fish Vineyard\, 1953 Newman Road\, Freeland\, WA\, 98249
CATEGORIES:Live Music
ATTACH;FMTTYPE=image/png:https://visitlangley.com/wp-content/uploads/2025/06/Screenshot-2025-06-10-142246.png
GEO:48.009537;-122.525983
X-APPLE-STRUCTURED-LOCATION;VALUE=URI;X-ADDRESS=Dancing Fish Vineyard 1953 Newman Road Freeland WA 98249;X-APPLE-RADIUS=500;X-TITLE=1953 Newman Road:geo:-122.525983,48.009537
END:VEVENT
BEGIN:VEVENT
DTSTART;TZID=America/Los_Angeles:20250717T170000
DTEND;TZID=America/Los_Angeles:20250717T190000
DTSTAMP:20260422T025756
CREATED:20250702T204716Z
LAST-MODIFIED:20250702T210342Z
UID:10001694-1752771600-1752778800@visitlangley.com
SUMMARY:Thursday Night Music @ Dancing Fish: The EVM Quartet
DESCRIPTION:Back by popular demand\, Eric Vanderbilt-Mathews returns to Dancing Fish Vineyards with The EVM Quartet! This will surely be a truly epic musical event as Eric has handpicked the best of the best jazz musicians the PNW has to offer for this one.\n\nThe quartet is as follows:\n\nEric Vanderbilt-Mathews is a multi-instrumentalist from Whidbey who recently moved to Brooklyn to further his career in music. He’s toured internationally in jazz\, rock\, and pop contexts\, with groups such as Quinn Bachand’s Brishen\, General Mojo’s\, and ABBA: The Concert. His own EVM All-Stars quartet has headlined Djangofest NW numerous times. When Eric isn’t playing music\, he can be found in the mountains hiking.\n\nRonan Delisle is a guitarist\, songwriter\, and producer based in Los Angeles. An improviser with spry technique and a tender\, lyrical sensibility\, his work blends jazz\, songcraft\, and experimental textures into something quietly inimitable.\n\nGreg Feingold is the bassist that top out-of-town acts call when they need someone to come in and “nail the gig” last minute. He tours regularly with the Kareem Kandi World Orchestra\, played with the International String Trio while at Berklee\, and jazz greats such as Jimmy Cobb\, Eric Reed\, and Cyrus Chestnut when he lived in New York. He’s a professor of bass at WWU\, he’s featured on the EVM All-Stars debut album\, and if you didn’t like bass solos before\, you will now.\n\nAn integral part of the Pacific Northwest jazz and creative music scene\, drummer Evan Woodle serves as a driving force behind several musically diverse bands while maintaining a healthy reputation as a first-call freelance performer\, recording artist\, and private instructor. Evan also acts as one third of the team behind Seattle-based jazz label Origin Records; regularly partners with the educational nonprofit Seattle JazzED; and in 2009\, co-founded the Racer Sessions\, an inclusive free-improvisation jam session and forum for new works that hosted its 589th and final session in December 2024.
URL:https://visitlangley.com/events/thursday-night-music-dancing-fish-the-evm-quartet
LOCATION:Dancing Fish
CATEGORIES:Live Music
ATTACH;FMTTYPE=image/jpeg:https://visitlangley.com/wp-content/uploads/2025/07/DancingFish_0717.jpg
END:VEVENT
BEGIN:VEVENT
DTSTART;TZID=America/Los_Angeles:20250724T170000
DTEND;TZID=America/Los_Angeles:20250724T190000
DTSTAMP:20260422T025756
CREATED:20250702T205834Z
LAST-MODIFIED:20250702T205834Z
UID:10001695-1753376400-1753383600@visitlangley.com
SUMMARY:Thursday Night Music @ Dancing Fish: Terry Robb
DESCRIPTION:Join us for excellent live music\, wine and appetizers!\n\n\nTerry Robb is an awarding-winning fingerstyle guitarist\, singer\, composer\, arranger and record producer. His work is featured in Hollywood films\, documentaries and biographies\, such as Game of Thrones\, The Horse Whisperer\, and Dance of Death: The Life of John Fahey\, American Guitarist. He is associated with the American Primitive Guitar genre through his collaborations with Fahey\, and is regarded as a virtuoso of acoustic blues guitar. In his multi-decade career\, Robb has released 15 critically acclaimed solo recordings\, and performed at festivals and concert halls across the United States\, Canada and Europe. His latest release\, Confessin’ My Dues\, was nominated by The Blues Foundation for the Acoustic Blues Album Blues Music Award and received the Muddy Award for Best Northwest Recording. Robb is a member of the Recording Academy\, Oregon Music Hall of Fame and Cascade Blues Association Fall of Fame.\n\nhttps://www.terryrobb.com/
URL:https://visitlangley.com/events/thursday-night-music-dancing-fish-terry-robb
LOCATION:Dancing Fish
CATEGORIES:Live Music
ATTACH;FMTTYPE=image/jpeg:https://visitlangley.com/wp-content/uploads/2025/07/DancingFish_0724.jpg
END:VEVENT
BEGIN:VEVENT
DTSTART;TZID=America/Los_Angeles:20250728T170000
DTEND;TZID=America/Los_Angeles:20250728T190000
DTSTAMP:20260422T025756
CREATED:20250722T201455Z
LAST-MODIFIED:20250722T201455Z
UID:10001782-1753722000-1753729200@visitlangley.com
SUMMARY:Monday Bites! Paella by Dancing Fish & Live Music by Philip Van Seters
DESCRIPTION:Join us on Monday for a warm plate of traditional Paella dinner by Dancing Fish Vineyards! \nMENU: Dancing Fish Paella Mixta: Chicken Thigh\, Traditional Sofrito\, Spanish Chorizo\, Penn Cove Mussels\, Gulf Prawns\, and Seasonal Vegetables…$25/plate \nLive music by Philip Van Seters! \nReservations highly recommended to ensure seating availability with first come\, first serve\, community tables. Walk-ins are welcome after those with reservations are served\, while supplies last. Wine available for purchase by glass or bottle.
URL:https://visitlangley.com/events/monday-bites-paella-by-dancing-fish-live-music-by-philip-van-seters
LOCATION:Dancing Fish Vineyard\, 1953 Newman Road\, Freeland\, WA\, 98249
CATEGORIES:Live Music
ATTACH;FMTTYPE=image/png:https://visitlangley.com/wp-content/uploads/2025/07/DancingFish_Paella_MondayBites.png
GEO:48.009537;-122.525983
X-APPLE-STRUCTURED-LOCATION;VALUE=URI;X-ADDRESS=Dancing Fish Vineyard 1953 Newman Road Freeland WA 98249;X-APPLE-RADIUS=500;X-TITLE=1953 Newman Road:geo:-122.525983,48.009537
END:VEVENT
BEGIN:VEVENT
DTSTART;TZID=America/Los_Angeles:20250731T173000
DTEND;TZID=America/Los_Angeles:20250731T193000
DTSTAMP:20260422T025756
CREATED:20250722T202812Z
LAST-MODIFIED:20250722T202812Z
UID:10001783-1753983000-1753990200@visitlangley.com
SUMMARY:Thursday Night Music at Dancing Fish - Leo Moon Trio (with Brian Koch of Blitzen Trapper!)
DESCRIPTION:Join us this summer for live music by the Leo Moon Trio\, wine and appetizers! \nLeo Moon is the solo incarnation of actor\, singer-songwriter and multi-instrumentalist\, Brian Adrian Koch. California born and Oregon raised\, Brian has been active in the Portland theater\, film & music scene since arriving in 2000.  He is a current and founding member of indie rock band Blitzen Trapper (2000 – present)\, and formerly of psychedelic folk duo Dead Lee (2017-2023).  Appearing now as the head of a cinematic psych folk trio\, his minimal and haunting tunes are stripped down paeans to the glorious and filmic moments of life; harmonica spattered psalms to the mysterious\, whirling beauty of it all. He is joined by Kate O’ Brien on violin and vocals and Fred Thompson on lap steel & guitar. The addition of Kate & Fred open the emotional landscape of Leo’s musical scenery like a key in a lock. \nLeo has most recently opened for English troubadour Wesley Stace as well as Wild Horses\, Loch Lomond & Small Paul. He’s also appeared at Shady Pines Festival in Sandy OR\, Washougal Songcraft Festival and Portland Folk Festival. He is preparing to release a full length solo album\, The Fool and well into recording his next record. \nMusic Video ‘Same Old Song‘
URL:https://visitlangley.com/events/thursday-night-music-at-dancing-fish-leo-moon-trio-with-brian-koch-of-blitzen-trapper
LOCATION:Dancing Fish Vineyard\, 1953 Newman Road\, Freeland\, WA\, 98249
CATEGORIES:Live Music
ATTACH;FMTTYPE=image/jpeg:https://visitlangley.com/wp-content/uploads/2025/07/DancingFish_0731.jpg
GEO:48.009537;-122.525983
X-APPLE-STRUCTURED-LOCATION;VALUE=URI;X-ADDRESS=Dancing Fish Vineyard 1953 Newman Road Freeland WA 98249;X-APPLE-RADIUS=500;X-TITLE=1953 Newman Road:geo:-122.525983,48.009537
END:VEVENT
END:VCALENDAR