BEGIN:VCALENDAR
VERSION:2.0
PRODID:-//Langley Chamber of Commerce - ECPv6.15.20//NONSGML v1.0//EN
CALSCALE:GREGORIAN
METHOD:PUBLISH
X-WR-CALNAME:Langley Chamber of Commerce
X-ORIGINAL-URL:https://visitlangley.com
X-WR-CALDESC:Events for Langley Chamber of Commerce
REFRESH-INTERVAL;VALUE=DURATION:PT1H
X-Robots-Tag:noindex
X-PUBLISHED-TTL:PT1H
BEGIN:VTIMEZONE
TZID:America/Los_Angeles
BEGIN:DAYLIGHT
TZOFFSETFROM:-0800
TZOFFSETTO:-0700
TZNAME:PDT
DTSTART:20240310T100000
END:DAYLIGHT
BEGIN:STANDARD
TZOFFSETFROM:-0700
TZOFFSETTO:-0800
TZNAME:PST
DTSTART:20241103T090000
END:STANDARD
BEGIN:DAYLIGHT
TZOFFSETFROM:-0800
TZOFFSETTO:-0700
TZNAME:PDT
DTSTART:20250309T100000
END:DAYLIGHT
BEGIN:STANDARD
TZOFFSETFROM:-0700
TZOFFSETTO:-0800
TZNAME:PST
DTSTART:20251102T090000
END:STANDARD
BEGIN:DAYLIGHT
TZOFFSETFROM:-0800
TZOFFSETTO:-0700
TZNAME:PDT
DTSTART:20260308T100000
END:DAYLIGHT
BEGIN:STANDARD
TZOFFSETFROM:-0700
TZOFFSETTO:-0800
TZNAME:PST
DTSTART:20261101T090000
END:STANDARD
END:VTIMEZONE
BEGIN:VEVENT
DTSTART;TZID=America/Los_Angeles:20250718T190000
DTEND;TZID=America/Los_Angeles:20250718T210000
DTSTAMP:20260420T050638
CREATED:20250712T213913Z
LAST-MODIFIED:20250712T213913Z
UID:10001758-1752865200-1752872400@visitlangley.com
SUMMARY:Chitty Chitty Bang Bang @ Whidbey Children's Theatre
DESCRIPTION:Y’all\, are you needing something cheerful in your life?\nThen get your tickets and come see Chitty Chitty Bang Bang because it’s sweet\, funny and guaranteed to make you smile! These young actors have been working hard and creating a wonderful ensemble.\nPerformances:\nJuly 18\, 19\, 24\, 25\, 26 @ 7 p.m.\nJuly 20\, 27 @ 2 p.m.\nTickets: Youth (4-19) $15 Adults (20-119) $18\nwww.wctmagic.org is the hot spot for tickets\, information on classes\nand also on how you can help keep WCT in the magic making business!\nWhidbey Children’s Theatre\nSouth Whidbey Community Center\n723 Camano Ave.\, Langley \nhttp://www.wctmagic.org
URL:https://visitlangley.com/events/chitty-chitty-bang-bang-whidbey-childrens-theatre/2025-07-18
LOCATION:Whidbey Childrens Theatre\, South Whidbey Community Center\, Langley\, WA\, 98260\, United States
CATEGORIES:Live Music,Member Events
ATTACH;FMTTYPE=image/jpeg:https://visitlangley.com/wp-content/uploads/2025/07/ChittyChittyBangBangCast.jpg
END:VEVENT
BEGIN:VEVENT
DTSTART;TZID=America/Los_Angeles:20250719T190000
DTEND;TZID=America/Los_Angeles:20250719T210000
DTSTAMP:20260420T050638
CREATED:20250712T213913Z
LAST-MODIFIED:20250712T213913Z
UID:10001759-1752951600-1752958800@visitlangley.com
SUMMARY:Chitty Chitty Bang Bang @ Whidbey Children's Theatre
DESCRIPTION:Y’all\, are you needing something cheerful in your life?\nThen get your tickets and come see Chitty Chitty Bang Bang because it’s sweet\, funny and guaranteed to make you smile! These young actors have been working hard and creating a wonderful ensemble.\nPerformances:\nJuly 18\, 19\, 24\, 25\, 26 @ 7 p.m.\nJuly 20\, 27 @ 2 p.m.\nTickets: Youth (4-19) $15 Adults (20-119) $18\nwww.wctmagic.org is the hot spot for tickets\, information on classes\nand also on how you can help keep WCT in the magic making business!\nWhidbey Children’s Theatre\nSouth Whidbey Community Center\n723 Camano Ave.\, Langley \nhttp://www.wctmagic.org
URL:https://visitlangley.com/events/chitty-chitty-bang-bang-whidbey-childrens-theatre/2025-07-19
LOCATION:Whidbey Childrens Theatre\, South Whidbey Community Center\, Langley\, WA\, 98260\, United States
CATEGORIES:Live Music,Member Events
ATTACH;FMTTYPE=image/jpeg:https://visitlangley.com/wp-content/uploads/2025/07/ChittyChittyBangBangCast.jpg
END:VEVENT
BEGIN:VEVENT
DTSTART;TZID=America/Los_Angeles:20250720T140000
DTEND;TZID=America/Los_Angeles:20250720T160000
DTSTAMP:20260420T050638
CREATED:20250712T213913Z
LAST-MODIFIED:20250712T213913Z
UID:10001760-1753020000-1753027200@visitlangley.com
SUMMARY:Chitty Chitty Bang Bang @ Whidbey Children's Theatre
DESCRIPTION:Y’all\, are you needing something cheerful in your life?\nThen get your tickets and come see Chitty Chitty Bang Bang because it’s sweet\, funny and guaranteed to make you smile! These young actors have been working hard and creating a wonderful ensemble.\nPerformances:\nJuly 18\, 19\, 24\, 25\, 26 @ 7 p.m.\nJuly 20\, 27 @ 2 p.m.\nTickets: Youth (4-19) $15 Adults (20-119) $18\nwww.wctmagic.org is the hot spot for tickets\, information on classes\nand also on how you can help keep WCT in the magic making business!\nWhidbey Children’s Theatre\nSouth Whidbey Community Center\n723 Camano Ave.\, Langley \nhttp://www.wctmagic.org
URL:https://visitlangley.com/events/chitty-chitty-bang-bang-whidbey-childrens-theatre/2025-07-20
LOCATION:Whidbey Childrens Theatre\, South Whidbey Community Center\, Langley\, WA\, 98260\, United States
CATEGORIES:Live Music,Member Events
ATTACH;FMTTYPE=image/jpeg:https://visitlangley.com/wp-content/uploads/2025/07/ChittyChittyBangBangCast.jpg
END:VEVENT
BEGIN:VEVENT
DTSTART;TZID=America/Los_Angeles:20250724T190000
DTEND;TZID=America/Los_Angeles:20250724T210000
DTSTAMP:20260420T050638
CREATED:20250712T213913Z
LAST-MODIFIED:20250712T213913Z
UID:10001761-1753383600-1753390800@visitlangley.com
SUMMARY:Chitty Chitty Bang Bang @ Whidbey Children's Theatre
DESCRIPTION:Y’all\, are you needing something cheerful in your life?\nThen get your tickets and come see Chitty Chitty Bang Bang because it’s sweet\, funny and guaranteed to make you smile! These young actors have been working hard and creating a wonderful ensemble.\nPerformances:\nJuly 18\, 19\, 24\, 25\, 26 @ 7 p.m.\nJuly 20\, 27 @ 2 p.m.\nTickets: Youth (4-19) $15 Adults (20-119) $18\nwww.wctmagic.org is the hot spot for tickets\, information on classes\nand also on how you can help keep WCT in the magic making business!\nWhidbey Children’s Theatre\nSouth Whidbey Community Center\n723 Camano Ave.\, Langley \nhttp://www.wctmagic.org
URL:https://visitlangley.com/events/chitty-chitty-bang-bang-whidbey-childrens-theatre/2025-07-24
LOCATION:Whidbey Childrens Theatre\, South Whidbey Community Center\, Langley\, WA\, 98260\, United States
CATEGORIES:Live Music,Member Events
ATTACH;FMTTYPE=image/jpeg:https://visitlangley.com/wp-content/uploads/2025/07/ChittyChittyBangBangCast.jpg
END:VEVENT
BEGIN:VEVENT
DTSTART;TZID=America/Los_Angeles:20250725T190000
DTEND;TZID=America/Los_Angeles:20250725T210000
DTSTAMP:20260420T050638
CREATED:20250712T213913Z
LAST-MODIFIED:20250712T213913Z
UID:10001762-1753470000-1753477200@visitlangley.com
SUMMARY:Chitty Chitty Bang Bang @ Whidbey Children's Theatre
DESCRIPTION:Y’all\, are you needing something cheerful in your life?\nThen get your tickets and come see Chitty Chitty Bang Bang because it’s sweet\, funny and guaranteed to make you smile! These young actors have been working hard and creating a wonderful ensemble.\nPerformances:\nJuly 18\, 19\, 24\, 25\, 26 @ 7 p.m.\nJuly 20\, 27 @ 2 p.m.\nTickets: Youth (4-19) $15 Adults (20-119) $18\nwww.wctmagic.org is the hot spot for tickets\, information on classes\nand also on how you can help keep WCT in the magic making business!\nWhidbey Children’s Theatre\nSouth Whidbey Community Center\n723 Camano Ave.\, Langley \nhttp://www.wctmagic.org
URL:https://visitlangley.com/events/chitty-chitty-bang-bang-whidbey-childrens-theatre/2025-07-25
LOCATION:Whidbey Childrens Theatre\, South Whidbey Community Center\, Langley\, WA\, 98260\, United States
CATEGORIES:Live Music,Member Events
ATTACH;FMTTYPE=image/jpeg:https://visitlangley.com/wp-content/uploads/2025/07/ChittyChittyBangBangCast.jpg
END:VEVENT
BEGIN:VEVENT
DTSTART;TZID=America/Los_Angeles:20250726T190000
DTEND;TZID=America/Los_Angeles:20250726T210000
DTSTAMP:20260420T050638
CREATED:20250712T213913Z
LAST-MODIFIED:20250712T213913Z
UID:10001763-1753556400-1753563600@visitlangley.com
SUMMARY:Chitty Chitty Bang Bang @ Whidbey Children's Theatre
DESCRIPTION:Y’all\, are you needing something cheerful in your life?\nThen get your tickets and come see Chitty Chitty Bang Bang because it’s sweet\, funny and guaranteed to make you smile! These young actors have been working hard and creating a wonderful ensemble.\nPerformances:\nJuly 18\, 19\, 24\, 25\, 26 @ 7 p.m.\nJuly 20\, 27 @ 2 p.m.\nTickets: Youth (4-19) $15 Adults (20-119) $18\nwww.wctmagic.org is the hot spot for tickets\, information on classes\nand also on how you can help keep WCT in the magic making business!\nWhidbey Children’s Theatre\nSouth Whidbey Community Center\n723 Camano Ave.\, Langley \nhttp://www.wctmagic.org
URL:https://visitlangley.com/events/chitty-chitty-bang-bang-whidbey-childrens-theatre/2025-07-26
LOCATION:Whidbey Childrens Theatre\, South Whidbey Community Center\, Langley\, WA\, 98260\, United States
CATEGORIES:Live Music,Member Events
ATTACH;FMTTYPE=image/jpeg:https://visitlangley.com/wp-content/uploads/2025/07/ChittyChittyBangBangCast.jpg
END:VEVENT
BEGIN:VEVENT
DTSTART;TZID=America/Los_Angeles:20250727T140000
DTEND;TZID=America/Los_Angeles:20250727T160000
DTSTAMP:20260420T050638
CREATED:20250712T213913Z
LAST-MODIFIED:20250712T213913Z
UID:10001764-1753624800-1753632000@visitlangley.com
SUMMARY:Chitty Chitty Bang Bang @ Whidbey Children's Theatre
DESCRIPTION:Y’all\, are you needing something cheerful in your life?\nThen get your tickets and come see Chitty Chitty Bang Bang because it’s sweet\, funny and guaranteed to make you smile! These young actors have been working hard and creating a wonderful ensemble.\nPerformances:\nJuly 18\, 19\, 24\, 25\, 26 @ 7 p.m.\nJuly 20\, 27 @ 2 p.m.\nTickets: Youth (4-19) $15 Adults (20-119) $18\nwww.wctmagic.org is the hot spot for tickets\, information on classes\nand also on how you can help keep WCT in the magic making business!\nWhidbey Children’s Theatre\nSouth Whidbey Community Center\n723 Camano Ave.\, Langley \nhttp://www.wctmagic.org
URL:https://visitlangley.com/events/chitty-chitty-bang-bang-whidbey-childrens-theatre/2025-07-27
LOCATION:Whidbey Childrens Theatre\, South Whidbey Community Center\, Langley\, WA\, 98260\, United States
CATEGORIES:Live Music,Member Events
ATTACH;FMTTYPE=image/jpeg:https://visitlangley.com/wp-content/uploads/2025/07/ChittyChittyBangBangCast.jpg
END:VEVENT
END:VCALENDAR