BEGIN:VCALENDAR
VERSION:2.0
PRODID:-//Langley Chamber of Commerce - ECPv6.15.20//NONSGML v1.0//EN
CALSCALE:GREGORIAN
METHOD:PUBLISH
X-ORIGINAL-URL:https://visitlangley.com
X-WR-CALDESC:Events for Langley Chamber of Commerce
REFRESH-INTERVAL;VALUE=DURATION:PT1H
X-Robots-Tag:noindex
X-PUBLISHED-TTL:PT1H
BEGIN:VTIMEZONE
TZID:America/Los_Angeles
BEGIN:DAYLIGHT
TZOFFSETFROM:-0800
TZOFFSETTO:-0700
TZNAME:PDT
DTSTART:20280312T100000
END:DAYLIGHT
BEGIN:STANDARD
TZOFFSETFROM:-0700
TZOFFSETTO:-0800
TZNAME:PST
DTSTART:20281105T090000
END:STANDARD
BEGIN:DAYLIGHT
TZOFFSETFROM:-0800
TZOFFSETTO:-0700
TZNAME:PDT
DTSTART:20290311T100000
END:DAYLIGHT
BEGIN:STANDARD
TZOFFSETFROM:-0700
TZOFFSETTO:-0800
TZNAME:PST
DTSTART:20291104T090000
END:STANDARD
BEGIN:DAYLIGHT
TZOFFSETFROM:-0800
TZOFFSETTO:-0700
TZNAME:PDT
DTSTART:20300310T100000
END:DAYLIGHT
BEGIN:STANDARD
TZOFFSETFROM:-0700
TZOFFSETTO:-0800
TZNAME:PST
DTSTART:20301103T090000
END:STANDARD
END:VTIMEZONE
BEGIN:VEVENT
DTSTART;TZID=America/Los_Angeles:20290705T180000
DTEND;TZID=America/Los_Angeles:20290705T200000
DTSTAMP:20260423T014401
CREATED:20251001T202010Z
LAST-MODIFIED:20251001T202010Z
UID:10002117-1877968800-1877976000@visitlangley.com
SUMMARY:Trivia w/ Tabitha @ Greenbank Cidery
DESCRIPTION:Every Thursday! Join your host Tabitha for a brain-tickling Trivia series. Themes change weekly\, check Greenbank Cidery Facebook events for new themes.
URL:https://visitlangley.com/events/trivia-w-tabitha-greenbank-cidery/2029-07-05
LOCATION:Greenbank Cidery\, 5488 Freeland Ave\, Freeland\, WA\, 98249\, United States
CATEGORIES:Community Events
ATTACH;FMTTYPE=image/png:https://visitlangley.com/wp-content/uploads/2025/10/Screenshot-2025-07-22-141241.png
ORGANIZER;CN="Greenbank Cidery":MAILTO:info@greenbankcidery.com
END:VEVENT
BEGIN:VEVENT
DTSTART;TZID=America/Los_Angeles:20290707T170000
DTEND;TZID=America/Los_Angeles:20290707T190000
DTSTAMP:20260423T014401
CREATED:20240531T223422Z
LAST-MODIFIED:20250530T204402Z
UID:10001277-1878138000-1878145200@visitlangley.com
SUMMARY:Langley First Saturday Art Walk
DESCRIPTION:Calling all art lovers! Stroll the streets of Langley and visit galleries from 5 – 7 p.m. every first Saturday of the month. Langley galleries keep their doors open until 7 p.m. to allow visitors a leisurely and festive stroll through town to a variety of destinations showing new art. Meet the artists and be the first to view new installations. We look forward to seeing you at Langley’s First Saturday Art Walk! \nParticipating Galleries \nArtworks Gallery\nLasher Gallery at WICA\nMuseo Gallery\nRob Shouten Gallery\nWhidbey Art Gallery \n  \n 
URL:https://visitlangley.com/events/langley-first-saturday-art-walk/2029-07-07
LOCATION:Downtown Langley\, Langley\, 98260\, United States
CATEGORIES:Community Events,Member Events
ATTACH;FMTTYPE=image/jpeg:https://visitlangley.com/wp-content/uploads/2024/05/LANGLEY-ART-WALK.jpg
GEO:48.0400945;-122.406257
END:VEVENT
BEGIN:VEVENT
DTSTART;TZID=America/Los_Angeles:20290712T180000
DTEND;TZID=America/Los_Angeles:20290712T200000
DTSTAMP:20260423T014401
CREATED:20251001T202010Z
LAST-MODIFIED:20251001T202010Z
UID:10002118-1878573600-1878580800@visitlangley.com
SUMMARY:Trivia w/ Tabitha @ Greenbank Cidery
DESCRIPTION:Every Thursday! Join your host Tabitha for a brain-tickling Trivia series. Themes change weekly\, check Greenbank Cidery Facebook events for new themes.
URL:https://visitlangley.com/events/trivia-w-tabitha-greenbank-cidery/2029-07-12
LOCATION:Greenbank Cidery\, 5488 Freeland Ave\, Freeland\, WA\, 98249\, United States
CATEGORIES:Community Events
ATTACH;FMTTYPE=image/png:https://visitlangley.com/wp-content/uploads/2025/10/Screenshot-2025-07-22-141241.png
ORGANIZER;CN="Greenbank Cidery":MAILTO:info@greenbankcidery.com
END:VEVENT
BEGIN:VEVENT
DTSTART;TZID=America/Los_Angeles:20290719T180000
DTEND;TZID=America/Los_Angeles:20290719T200000
DTSTAMP:20260423T014401
CREATED:20251001T202010Z
LAST-MODIFIED:20251001T202010Z
UID:10002119-1879178400-1879185600@visitlangley.com
SUMMARY:Trivia w/ Tabitha @ Greenbank Cidery
DESCRIPTION:Every Thursday! Join your host Tabitha for a brain-tickling Trivia series. Themes change weekly\, check Greenbank Cidery Facebook events for new themes.
URL:https://visitlangley.com/events/trivia-w-tabitha-greenbank-cidery/2029-07-19
LOCATION:Greenbank Cidery\, 5488 Freeland Ave\, Freeland\, WA\, 98249\, United States
CATEGORIES:Community Events
ATTACH;FMTTYPE=image/png:https://visitlangley.com/wp-content/uploads/2025/10/Screenshot-2025-07-22-141241.png
ORGANIZER;CN="Greenbank Cidery":MAILTO:info@greenbankcidery.com
END:VEVENT
BEGIN:VEVENT
DTSTART;TZID=America/Los_Angeles:20290726T180000
DTEND;TZID=America/Los_Angeles:20290726T200000
DTSTAMP:20260423T014401
CREATED:20251001T202010Z
LAST-MODIFIED:20251001T202010Z
UID:10002120-1879783200-1879790400@visitlangley.com
SUMMARY:Trivia w/ Tabitha @ Greenbank Cidery
DESCRIPTION:Every Thursday! Join your host Tabitha for a brain-tickling Trivia series. Themes change weekly\, check Greenbank Cidery Facebook events for new themes.
URL:https://visitlangley.com/events/trivia-w-tabitha-greenbank-cidery/2029-07-26
LOCATION:Greenbank Cidery\, 5488 Freeland Ave\, Freeland\, WA\, 98249\, United States
CATEGORIES:Community Events
ATTACH;FMTTYPE=image/png:https://visitlangley.com/wp-content/uploads/2025/10/Screenshot-2025-07-22-141241.png
ORGANIZER;CN="Greenbank Cidery":MAILTO:info@greenbankcidery.com
END:VEVENT
END:VCALENDAR