BEGIN:VCALENDAR
VERSION:2.0
PRODID:-//Langley Chamber of Commerce - ECPv6.15.20//NONSGML v1.0//EN
CALSCALE:GREGORIAN
METHOD:PUBLISH
X-ORIGINAL-URL:https://visitlangley.com
X-WR-CALDESC:Events for Langley Chamber of Commerce
REFRESH-INTERVAL;VALUE=DURATION:PT1H
X-Robots-Tag:noindex
X-PUBLISHED-TTL:PT1H
BEGIN:VTIMEZONE
TZID:America/Los_Angeles
BEGIN:DAYLIGHT
TZOFFSETFROM:-0800
TZOFFSETTO:-0700
TZNAME:PDT
DTSTART:20250309T100000
END:DAYLIGHT
BEGIN:STANDARD
TZOFFSETFROM:-0700
TZOFFSETTO:-0800
TZNAME:PST
DTSTART:20251102T090000
END:STANDARD
BEGIN:DAYLIGHT
TZOFFSETFROM:-0800
TZOFFSETTO:-0700
TZNAME:PDT
DTSTART:20260308T100000
END:DAYLIGHT
BEGIN:STANDARD
TZOFFSETFROM:-0700
TZOFFSETTO:-0800
TZNAME:PST
DTSTART:20261101T090000
END:STANDARD
BEGIN:DAYLIGHT
TZOFFSETFROM:-0800
TZOFFSETTO:-0700
TZNAME:PDT
DTSTART:20270314T100000
END:DAYLIGHT
BEGIN:STANDARD
TZOFFSETFROM:-0700
TZOFFSETTO:-0800
TZNAME:PST
DTSTART:20271107T090000
END:STANDARD
END:VTIMEZONE
BEGIN:VEVENT
DTSTART;TZID=America/Los_Angeles:20260531T190000
DTEND;TZID=America/Los_Angeles:20260531T210000
DTSTAMP:20260424T001424
CREATED:20260409T194836Z
LAST-MODIFIED:20260409T194956Z
UID:10002463-1780254000-1780261200@visitlangley.com
SUMMARY:Whidbey's Saratoga Orchestra Presents Ravel\, Mozart\, Garrop
DESCRIPTION:Saratoga Orchestra\nRavel.Mozart.Garrop\nTickets Now on Sale! \nSunday May 31\, 7:00 p.m.\nFirst Reformed Church\nOak Harbor \nSpecial Event —\nDon’t Miss Out\nJoin Whidbey Island’s professional orchestra for a special one-night-only performance of Maurice Ravel’s magnificent Piano Concerto in G Major. \nFeaturing acclaimed guest soloist Julian Garvue\, this dazzling work blends jazz-inspired flair with complex rhythmic passages and exquisitely delicate melodies. \nA rare chance to experience one of Ravel’s most vibrant and captivating masterpieces—live on Whidbey Island.
URL:https://visitlangley.com/events/whidbeys-saratoga-orchestra-presents-ravel-mozart-garrop
CATEGORIES:Live Music,Member Events
ATTACH;FMTTYPE=image/png:https://visitlangley.com/wp-content/uploads/2026/04/RavelMozartGarrop.png
END:VEVENT
END:VCALENDAR