BEGIN:VCALENDAR
VERSION:2.0
PRODID:-//Langley Chamber of Commerce - ECPv6.15.20//NONSGML v1.0//EN
CALSCALE:GREGORIAN
METHOD:PUBLISH
X-WR-CALNAME:Langley Chamber of Commerce
X-ORIGINAL-URL:https://visitlangley.com
X-WR-CALDESC:Events for Langley Chamber of Commerce
REFRESH-INTERVAL;VALUE=DURATION:PT1H
X-Robots-Tag:noindex
X-PUBLISHED-TTL:PT1H
BEGIN:VTIMEZONE
TZID:America/Los_Angeles
BEGIN:DAYLIGHT
TZOFFSETFROM:-0800
TZOFFSETTO:-0700
TZNAME:PDT
DTSTART:20250309T100000
END:DAYLIGHT
BEGIN:STANDARD
TZOFFSETFROM:-0700
TZOFFSETTO:-0800
TZNAME:PST
DTSTART:20251102T090000
END:STANDARD
BEGIN:DAYLIGHT
TZOFFSETFROM:-0800
TZOFFSETTO:-0700
TZNAME:PDT
DTSTART:20260308T100000
END:DAYLIGHT
BEGIN:STANDARD
TZOFFSETFROM:-0700
TZOFFSETTO:-0800
TZNAME:PST
DTSTART:20261101T090000
END:STANDARD
BEGIN:DAYLIGHT
TZOFFSETFROM:-0800
TZOFFSETTO:-0700
TZNAME:PDT
DTSTART:20270314T100000
END:DAYLIGHT
BEGIN:STANDARD
TZOFFSETFROM:-0700
TZOFFSETTO:-0800
TZNAME:PST
DTSTART:20271107T090000
END:STANDARD
END:VTIMEZONE
BEGIN:VEVENT
DTSTART;TZID=America/Los_Angeles:20260419T130000
DTEND;TZID=America/Los_Angeles:20260419T150000
DTSTAMP:20260423T155816
CREATED:20260415T221345Z
LAST-MODIFIED:20260415T221345Z
UID:10002476-1776603600-1776610800@visitlangley.com
SUMMARY:Artist Talk with Robin Kerr at Museo Gallery
DESCRIPTION:Artist Talk with Robin Kerr at Museo Gallery \nSunday\, April 19th  ~  1 – 3 p.m. \nThis weekend\, come down to the gallery for a fun edition of our Sundays with Michael Artist Talk Series featuring Robin Kerr. Michael will chat with Robin about the inspiration behind her work\, the process and much more! Enjoy light refreshments and a delightful afternoon of art and conversation. \nRSVP on Facebook (https://www.facebook.com/events/1212460107349820) or email us at museo@whidbey.com\, but an RSVP is not required to attend. \nView the April exhibit online: www.museolangley.com/current-exhibit-1 \nGallery Hours\n11-4 Mon & Sun\n11-5 Wed-Sat\nClosed Tuesdays\nPrivate appointments are always welcome\, contact us for availability. \ninstagram.com/museolangley\nfacebook.com/contemporaryartlangley\nSubscribe to our newsletter at museo.cc/subscribe \nMuseo Gallery \n215 First Street\, Langley \n(360) 221-7737  http://museo.cc
URL:https://visitlangley.com/events/artist-talk-with-robin-kerr-at-museo-gallery
LOCATION:Museo Gallery\, 215 First Street\, Langley\, WA\, 98260\, United States
CATEGORIES:Member Events
ATTACH;FMTTYPE=image/png:https://visitlangley.com/wp-content/uploads/2026/04/ArtistTalkmegankerr.png
GEO:48.040633;-122.408891
X-APPLE-STRUCTURED-LOCATION;VALUE=URI;X-ADDRESS=Museo Gallery 215 First Street Langley WA 98260 United States;X-APPLE-RADIUS=500;X-TITLE=215 First Street:geo:-122.408891,48.040633
END:VEVENT
BEGIN:VEVENT
DTSTART;TZID=America/Los_Angeles:20260419T140000
DTEND;TZID=America/Los_Angeles:20260419T163000
DTSTAMP:20260423T155816
CREATED:20260321T193740Z
LAST-MODIFIED:20260327T190647Z
UID:10002441-1776607200-1776616200@visitlangley.com
SUMMARY:Sense & Sensibility @ WICA April 10-25
DESCRIPTION:WICA Theatre Productions | Sense and Sensibility \nSense and Sensibility\nBy Kate Hamill\nBased on the novel by Jane Austen\nDirected by Rose Woods \nApril 10th – 25th \nMichael Nutt Mainstage \nTickets available now! \nAbout the Production\nWICA Theatre Productions presents Sense and Sensibility\, a lively and inventive adaptation by Kate Hamill\, opening a new chapter for the Whidbey Island Center for the Arts. As the first full theatre production on the newly renovated Mainstage\, this staging marks both a celebration of a beloved literary classic and a milestone for the theatre and its community. \nOriginally published in 1811\, Sense and Sensibility follows the Dashwood sisters\, Elinor and Marianne\, as they navigate love\, loss\, and societal expectations. Balancing emotional restraint with passionate expression\, the story remains one of Austen’s most enduring and relatable works. \nPresented in the reimagined Mainstage\, this production offers a fresh and intimate theatrical experience. The updated space enhances connection between performers and audience\, creating new opportunities for dynamic storytelling and design. \nAs the inaugural production in this renewed venue\, Sense and Sensibility reflects a spirit of renewal and creativity\, honoring classic storytelling while looking ahead to the future of theatre at WICA. \nCast\nAndrew Fling – Edward Ferrars\nApril Jane Herrild – Elinor Dashwood\nGrace Webb – Lucy Steele / Lady Middleton / Charlotte / Gossip\nJeff Natter – Sir John / Doctor / Mr. Dashwood / Gossip\nLaura Berkley – Mrs. Jennings / Gossip\nLevi Redmill – Willoughby / Robert Ferrars / Thomas / Servant / Gossip\nLucy Curling – Marianne Dashwood\nMarta Mulholland – Fanny Dashwood / Mrs. Dashwood / Gossip\nMiles Harrison – Colonel Brandon / John Dashwood\nRachael Spencer – Margaret Dashwood / Anne Steele / Gossip \nCreative Team\nRose Woods – Director\nMichelle Durr – Stage Manager / Props / Stage Dressing \nAdvance ticket purchase is recommended for this landmark production. \nTickets:\nhttps://purchase.wicaonline.org/EventAvailability?EventId=20802&ref=book… \nBox Office \n565 Camano Avenue\, Langley \n(360) 221-8268
URL:https://visitlangley.com/events/36148/2026-04-19
LOCATION:Whidbey Island Center for the Arts
CATEGORIES:Member Events
ATTACH;FMTTYPE=image/jpeg:https://visitlangley.com/wp-content/uploads/2026/03/SenseSensibility.jpg
END:VEVENT
END:VCALENDAR