BEGIN:VCALENDAR
VERSION:2.0
PRODID:-//Langley Chamber of Commerce - ECPv6.15.20//NONSGML v1.0//EN
CALSCALE:GREGORIAN
METHOD:PUBLISH
X-WR-CALNAME:Langley Chamber of Commerce
X-ORIGINAL-URL:https://visitlangley.com
X-WR-CALDESC:Events for Langley Chamber of Commerce
REFRESH-INTERVAL;VALUE=DURATION:PT1H
X-Robots-Tag:noindex
X-PUBLISHED-TTL:PT1H
BEGIN:VTIMEZONE
TZID:America/Los_Angeles
BEGIN:DAYLIGHT
TZOFFSETFROM:-0800
TZOFFSETTO:-0700
TZNAME:PDT
DTSTART:20250309T100000
END:DAYLIGHT
BEGIN:STANDARD
TZOFFSETFROM:-0700
TZOFFSETTO:-0800
TZNAME:PST
DTSTART:20251102T090000
END:STANDARD
BEGIN:DAYLIGHT
TZOFFSETFROM:-0800
TZOFFSETTO:-0700
TZNAME:PDT
DTSTART:20260308T100000
END:DAYLIGHT
BEGIN:STANDARD
TZOFFSETFROM:-0700
TZOFFSETTO:-0800
TZNAME:PST
DTSTART:20261101T090000
END:STANDARD
BEGIN:DAYLIGHT
TZOFFSETFROM:-0800
TZOFFSETTO:-0700
TZNAME:PDT
DTSTART:20270314T100000
END:DAYLIGHT
BEGIN:STANDARD
TZOFFSETFROM:-0700
TZOFFSETTO:-0800
TZNAME:PST
DTSTART:20271107T090000
END:STANDARD
END:VTIMEZONE
BEGIN:VEVENT
DTSTART;TZID=America/Los_Angeles:20260415T110000
DTEND;TZID=America/Los_Angeles:20260415T130000
DTSTAMP:20260419T163703
CREATED:20260321T194250Z
LAST-MODIFIED:20260321T194250Z
UID:10002445-1776250800-1776258000@visitlangley.com
SUMMARY:Art Talks with Rebecca Albiani: Jane Austen
DESCRIPTION:Art Talks with Rebecca Albiani: Jane Austen \nWednesday\, April 15th @ 11 a.m. \nZech Hall \nTickets: $18 / $28 \nStep into the world of Jane Austen through a rich and engaging talk\nled by art historian Rebecca Albiani. \nThis presentation explores the architecture\, interiors\, and social environments of the Regency era\, revealing how design and place shaped Austen’s stories. With insight into both visual culture and historical context\, Albiani offers a fresh perspective for those who appreciate literature\, history\, and the built environment. \nA thoughtful and illuminating experience for Austen fans and curious minds alike. \nPurchase tickets:\nhttps://purchase.wicaonline.org/EventAvailability?EventId=21201&ref=book… \nWhidbey Island Center for the Arts \n565 Camano Avenue\, Langley \n(360) 221-8268Art Talks with Rebecca Albiani: Jane Austen
URL:https://visitlangley.com/events/art-talks-with-rebecca-albiani-jane-austen
LOCATION:Whidbey Island Center for the Arts
CATEGORIES:Member Events
ATTACH;FMTTYPE=image/png:https://visitlangley.com/wp-content/uploads/2026/03/ArtTalkJaneAusten.png
END:VEVENT
END:VCALENDAR