BEGIN:VCALENDAR
VERSION:2.0
PRODID:-//Langley Chamber of Commerce - ECPv6.15.20//NONSGML v1.0//EN
CALSCALE:GREGORIAN
METHOD:PUBLISH
X-WR-CALNAME:Langley Chamber of Commerce
X-ORIGINAL-URL:https://visitlangley.com
X-WR-CALDESC:Events for Langley Chamber of Commerce
REFRESH-INTERVAL;VALUE=DURATION:PT1H
X-Robots-Tag:noindex
X-PUBLISHED-TTL:PT1H
BEGIN:VTIMEZONE
TZID:America/Los_Angeles
BEGIN:DAYLIGHT
TZOFFSETFROM:-0800
TZOFFSETTO:-0700
TZNAME:PDT
DTSTART:20250309T100000
END:DAYLIGHT
BEGIN:STANDARD
TZOFFSETFROM:-0700
TZOFFSETTO:-0800
TZNAME:PST
DTSTART:20251102T090000
END:STANDARD
BEGIN:DAYLIGHT
TZOFFSETFROM:-0800
TZOFFSETTO:-0700
TZNAME:PDT
DTSTART:20260308T100000
END:DAYLIGHT
BEGIN:STANDARD
TZOFFSETFROM:-0700
TZOFFSETTO:-0800
TZNAME:PST
DTSTART:20261101T090000
END:STANDARD
BEGIN:DAYLIGHT
TZOFFSETFROM:-0800
TZOFFSETTO:-0700
TZNAME:PDT
DTSTART:20270314T100000
END:DAYLIGHT
BEGIN:STANDARD
TZOFFSETFROM:-0700
TZOFFSETTO:-0800
TZNAME:PST
DTSTART:20271107T090000
END:STANDARD
END:VTIMEZONE
BEGIN:VEVENT
DTSTART;TZID=America/Los_Angeles:20260321T130000
DTEND;TZID=America/Los_Angeles:20260321T160000
DTSTAMP:20260420T085029
CREATED:20260311T194720Z
LAST-MODIFIED:20260311T194720Z
UID:10002422-1774098000-1774108800@visitlangley.com
SUMMARY:FREE Film & Conversation: The Farewell @ The Clyde
DESCRIPTION:FREE Film & Conversation: The Farewell \nJoin us for TWO free community showings of the award winning movie\, The Farewell! \nThis hit comedy/drama explores family\, culture\, truth\, and the different ways we face the end of life – all with humor and heart. (And yes… it’s based on an actual lie!) \nAfter each screening\, stay for a thoughtful guided discussion with Andrea Denke\,\nMSW\, LICSW and Nathalie Gauteron\, MSW\, LICSW from WhidbeyHealth Hospice.\nThis will be a welcoming space to talk\, reflect\, and learn. \nSaturday\, March 21st  ~  1 – 4 p.m.\nThe Clyde Theater\n217 1st St.\, Langley\nhttps://senior-resources.org/calendar/free-film-and-conversation/2026-03… \nMonday\, April 6th  ~  1 – 4 p.m.\nOak Harbor Cinema\n1321 SW Barlow St.\, Oak Harbor\nhttps://senior-resources.org/calendar/free-film-and-conversation/2026-04… \nFree admission. All are welcome. No tickets or RSVP’s necessary. \nIsland Senior Resources \n(360) 321-1600 \nhttps://senior-resources.org/
URL:https://visitlangley.com/events/free-film-conversation-the-farewell-the-clyde
LOCATION:The Clyde Theater
CATEGORIES:Member Events
ATTACH;FMTTYPE=image/jpeg:https://visitlangley.com/wp-content/uploads/2026/03/Farewell.jpg
END:VEVENT
BEGIN:VEVENT
DTSTART;TZID=America/Los_Angeles:20260321T170000
DTEND;TZID=America/Los_Angeles:20260321T200000
DTSTAMP:20260420T085029
CREATED:20260307T200321Z
LAST-MODIFIED:20260307T200321Z
UID:10002420-1774112400-1774123200@visitlangley.com
SUMMARY:Whidbey Island Dance Theater Auction Gala
DESCRIPTION:Step Up Into the Magic – and Make a Difference \nJoin us for an unforgettable evening at Whidbey Island Dance Theater’s Spring Auction & Gala\, where artistry\, community\, and opportunity come together to support the next generation of dancers. All year long\, our dedicated young dancers commit themselves to the demanding discipline of concert dance—training with passion\, perseverance\, and creativity. Through their hard work\, they bring our community inspiring performances like The Nutcracker and Celebration of Dance. But creating these extraordinary opportunities requires the support of our entire community. Our beloved holiday production of The Nutcracker helps sustain our programs\, yet it doesn’t carry us through the full year. The Spring Auction & Gala is the event that keeps our dancers moving forward — providing the training\, mentorship\, and performance opportunities that shape confident young artists and leaders. \nYour presence matters.\nWhen you attend\, bid\, donate\, or volunteer\, you help WIDT:\n• Provide high-level dance training and performance opportunities for local youth\n• Bring beautiful\, professional-quality dance performances to the Whidbey community\n• Connect dancers with national opportunities through The Ballet Alliance\, including scholarships\, university programs\, and professional training\n• Continue a cherished Whidbey tradition that has inspired audiences and dancers for over 33 years \nWHO: You and Whidbey Island Dance Theatre\nWHAT: WIDT’s Auction Gala with food\, nice items to bid on\, performances\, and more.\nWHEN: Saturday\, March 21st @ 5 p.m.\nWHERE: Useless Bay Golf & Country Club\nHOW: Get your ticket now. Come and bid\, mingle\, meet the dancers\,\neat\, drink\, and be merry. \nGet your tickets NOW on OnTheStage: https://our.show/gala2026
URL:https://visitlangley.com/events/whidbey-island-dance-theater-auction-gala
LOCATION:Useless Bay Golf and Country Club\, 5725 Country Club Dr\, Langley\, 98260\, United States
CATEGORIES:Member Events
ATTACH;FMTTYPE=image/jpeg:https://visitlangley.com/wp-content/uploads/2026/03/WIDTAuctionGala2026.jpg
GEO:48.0033091;-122.4832412
X-APPLE-STRUCTURED-LOCATION;VALUE=URI;X-ADDRESS=Useless Bay Golf and Country Club 5725 Country Club Dr Langley 98260 United States;X-APPLE-RADIUS=500;X-TITLE=5725 Country Club Dr:geo:-122.4832412,48.0033091
END:VEVENT
BEGIN:VEVENT
DTSTART;TZID=America/Los_Angeles:20260321T173000
DTEND;TZID=America/Los_Angeles:20260321T193000
DTSTAMP:20260420T085029
CREATED:20260311T210717Z
LAST-MODIFIED:20260311T210717Z
UID:10002423-1774114200-1774121400@visitlangley.com
SUMMARY:RossaConn @ Double Bluff Brewing Co.
DESCRIPTION:Celebrate the Spring Equinox with Rossaconn @ Double Bluff Brewing Company on March 21\, 5:30-7:30 p.m.
URL:https://visitlangley.com/events/rossaconn-double-bluff-brewing-co
LOCATION:Double Bluff Brewing Company\, 121 Second Street\, Langley\, WA\, 98260
CATEGORIES:Live Music,Member Events
ATTACH;FMTTYPE=image/jpeg:https://visitlangley.com/wp-content/uploads/2026/03/Rossaconn.jpg
END:VEVENT
BEGIN:VEVENT
DTSTART;TZID=America/Los_Angeles:20260321T173000
DTEND;TZID=America/Los_Angeles:20260321T193000
DTSTAMP:20260420T085029
CREATED:20260314T181405Z
LAST-MODIFIED:20260314T181405Z
UID:10002428-1774114200-1774121400@visitlangley.com
SUMMARY:Double Bluff Brewing Co. presents: Spring Equinox Dance with ROSSaCONN
DESCRIPTION:Double Bluff Brewing Co. presents: Spring Equinox Dance with ROSSaCONN \nCome shake off the winter blues with ROSSaCONN! \nSaturday March 21st  ~  5:30 – 7:30 p.m. \n121 2nd st\, Langley \nSpace for dancing\, drinks\, and food from the Ikaika grill \nROSSaCONN is\nRachman Ross on the Drums\, Stephan Ross on the Bass\,\nand Eric Nightsong Conn on the Guitar.\nBringing a diverse mix of danceable instrumental originals as a trio format\, with a spacious but tight sound and arrangements. Blending funk\, African\, reggae\, rock and life influences into our own unique and delicious stew! Keeping it fun and letting the music be the guide\, in the spirit of gratitude\, love\, and healing! \nNo cover charge\, but tips greatly appreciated! \nDouble Bluff Brewery \nhttps://www.rossaconn.com \n 
URL:https://visitlangley.com/events/double-bluff-brewing-co-presents-spring-equinox-dance-with-rossaconn
LOCATION:Double Bluff Brewing Company\, 121 Second Street\, Langley\, WA\, 98260
CATEGORIES:Live Music,Member Events
ATTACH;FMTTYPE=image/jpeg:https://visitlangley.com/wp-content/uploads/2026/03/RossaConn2026.jpg
END:VEVENT
BEGIN:VEVENT
DTSTART;TZID=America/Los_Angeles:20260321T173000
DTEND;TZID=America/Los_Angeles:20260321T193000
DTSTAMP:20260420T085029
CREATED:20260319T224932Z
LAST-MODIFIED:20260319T224932Z
UID:10002430-1774114200-1774121400@visitlangley.com
SUMMARY:Brad Thomas @ Leo & Leto's
DESCRIPTION:Make plans now for a fabulous evening of music with Brad Thomas on piano and vocals at Leo & Leto’s Winery and Bistro this Saturday 3/21 from 5:30-7:30! Great food\, great wine\, great music! Life is good!
URL:https://visitlangley.com/events/brad-thomas-leo-letos
LOCATION:Leo & Leto’s\, Freeland\, United States
CATEGORIES:Live Music,Member Events
ATTACH;FMTTYPE=image/jpeg:https://visitlangley.com/wp-content/uploads/2026/03/BradThomas.jpg
END:VEVENT
BEGIN:VEVENT
DTSTART;TZID=America/Los_Angeles:20260321T190000
DTEND;TZID=America/Los_Angeles:20260321T210000
DTSTAMP:20260420T085029
CREATED:20260225T225935Z
LAST-MODIFIED:20260225T225935Z
UID:10002404-1774119600-1774126800@visitlangley.com
SUMMARY:Ott & Hunter Winery Tasting Room Presents Ian Hughes Quartet
DESCRIPTION:Ott & Hunter Winery Tasting Room Presents \nIan Hughes Quartet \nSaturday\, March 21st @ 7 p.m. \n$25 \nCelebrate the return of Spring with the Ian Hughes Quartet at Ott & Hunters intimate cabaret room where four standout Northwest musicians gather to create a sound both soulful and electrifying.  At the center of this group is Ian Hughes\, whose guitar work blends lyricism\, groove\, and a touch of fire—shaping melodies that feel both fresh and timeless. Joining Ian are Marina Christopher on upright bass\, Michael Jedynak on alto sax and percussion\, and Chris Patin on drums.  Their latest recording “Dreamscapes” will be featured during the show and also available for sale on CD and vinyl. \nIn Ott & Hunter’s cozy cabaret room\, this ensemble becomes something special—intimate\, expressive\, and alive. Settle in with a glass of our award‑winning wine and let the evening unfold in rich tones\, deep grooves\, and the kind of musical conversation that happens when great players share a small stage. \nhttps://ianhughesmusic.com/ \nTickets are available for purchase online at:\nhttps://otthunter.orderport.net/wines/Events \nOtt & Hunter Winery Tasting Room \n204 1st Street\, Langley \n(360) 221-7131 \nhttps://otthunter.com
URL:https://visitlangley.com/events/ott-hunter-winery-tasting-room-presents-ian-hughes-quartet
LOCATION:Ott & Hunter Tasting Room\, 204 1st Street\, Langley\, WA\, 98260\, United States
CATEGORIES:Live Music,Member Events
ATTACH;FMTTYPE=image/jpeg:https://visitlangley.com/wp-content/uploads/2026/02/IanHughesQuartet.jpg
ORGANIZER;CN="Ott & Hunter Tasting Room":MAILTO:info@otthunterwines.com
GEO:48.0409015;-122.4082782
X-APPLE-STRUCTURED-LOCATION;VALUE=URI;X-ADDRESS=Ott & Hunter Tasting Room 204 1st Street Langley WA 98260 United States;X-APPLE-RADIUS=500;X-TITLE=204 1st Street:geo:-122.4082782,48.0409015
END:VEVENT
BEGIN:VEVENT
DTSTART;TZID=America/Los_Angeles:20260321T193000
DTEND;TZID=America/Los_Angeles:20260321T210000
DTSTAMP:20260420T085029
CREATED:20260211T202810Z
LAST-MODIFIED:20260211T202946Z
UID:10002395-1774121400-1774126800@visitlangley.com
SUMMARY:Cozy Comedy Presents Scott Losse @ WICA
DESCRIPTION:Cozy Comedy Presents Scott Losse! \nCozy Comedy at Whidbey Island Center for the Arts \nSaturday\, March 21st @ 7:30 p.m. \nMainstage | $30 all seats \nSee Scott Losse live on the Mainstage in a night of sharp\, relatable stand-up featuring the viral “I live in the Pacific Northwest” comedian. Scott hails from Seattle\, where he has built a dedicated following both on social media and on stage with his observational humor about life in the Northwest and beyond. He has released specials through Dry Bar Comedy\, been featured on Laughs on Fox\, and performed at major festivals and clubs around the region. \nScott’s comedy blends his experience with everyday absurdities\, outdoor culture\, and modern life into an engaging set that resonates with locals and visitors alike. Known for his sharp wit\, grounded delivery\, and ability to find humor in the familiar\, he brings over a decade of stand-up experience to this show. \nA fun\, lively comedy evening that will have you laughing\nat the quirks of life in the Pacific Northwest and beyond. \nPlease click the link below to purchase tickets to this event \nhttps://purchase.wicaonline.org/EventAvailability?EventId=20602&ref=book… \nWhidbey Island Center for the Arts \n565 Camano Avenue\, Langley \n(360) 221-8268 \nhttps://www.wicaonline.org
URL:https://visitlangley.com/events/cozy-comedy-presents-scott-losse-wica
LOCATION:Whidbey Island Center for the Arts
CATEGORIES:Member Events
END:VEVENT
BEGIN:VEVENT
DTSTART;TZID=America/Los_Angeles:20260321T193000
DTEND;TZID=America/Los_Angeles:20260321T213000
DTSTAMP:20260420T085029
CREATED:20260307T195906Z
LAST-MODIFIED:20260307T195906Z
UID:10002415-1774121400-1774128600@visitlangley.com
SUMMARY:Alabaster @ Outcast Productions
DESCRIPTION:ALABASTER \nMarch 13th – 29th \nALABASTER\, by Audrey Cefaly\nDirected by Gail Liston \nThis all-female\, darkly comic Southern drama offers a profound exploration of art’s elusive nature. ​In the aftermath of a catastrophic tornado that reduces a town to ruin\, only a reclusive artist\, June\, and her devoted companion\, Weezy\, remain to bear witness. When a renowned photographer arrives to capture the indelible marks of June’s ordeal\, together\, they navigate the delicate interplay of grief and healing\, finding in each other not only a mirror for their own pain but also a muse for artistic rebirth. \nFridays\, March 13th\, 20th\, 27th @ 7:30 p.m.\nSaturdays\, March 14th\, 21st\, 28th @ 7:30 p.m.\nSundays\, March 22nd (sold out) & 29th @ 4 p.m. \nStudent/Senior – $16\nAdult – $20 \nPurchase tickets online at:\nhttps://events.ticketleap.com/tickets/outcast-productions/alabaster \nReserve seats and pay at the door by emailing us at: ocp@whidbey.com \nOutCast Productions \n819 Camano Avenue\, Langley    http://www.outcastproductions.net
URL:https://visitlangley.com/events/alabaster-outcast-productions/2026-03-21
LOCATION:OutCast Black Box Theater\, 819 Camano Avenue\, Langley\, WA\, 98260\, United States
CATEGORIES:Member Events
ATTACH;FMTTYPE=image/jpeg:https://visitlangley.com/wp-content/uploads/2026/03/AlabasterSingle.jpg
GEO:48.0328083;-122.4021093
X-APPLE-STRUCTURED-LOCATION;VALUE=URI;X-ADDRESS=OutCast Black Box Theater 819 Camano Avenue Langley WA 98260 United States;X-APPLE-RADIUS=500;X-TITLE=819 Camano Avenue:geo:-122.4021093,48.0328083
END:VEVENT
END:VCALENDAR