BEGIN:VCALENDAR
VERSION:2.0
PRODID:-//Langley Chamber of Commerce - ECPv6.15.20//NONSGML v1.0//EN
CALSCALE:GREGORIAN
METHOD:PUBLISH
X-WR-CALNAME:Langley Chamber of Commerce
X-ORIGINAL-URL:https://visitlangley.com
X-WR-CALDESC:Events for Langley Chamber of Commerce
REFRESH-INTERVAL;VALUE=DURATION:PT1H
X-Robots-Tag:noindex
X-PUBLISHED-TTL:PT1H
BEGIN:VTIMEZONE
TZID:America/Los_Angeles
BEGIN:DAYLIGHT
TZOFFSETFROM:-0800
TZOFFSETTO:-0700
TZNAME:PDT
DTSTART:20240310T100000
END:DAYLIGHT
BEGIN:STANDARD
TZOFFSETFROM:-0700
TZOFFSETTO:-0800
TZNAME:PST
DTSTART:20241103T090000
END:STANDARD
BEGIN:DAYLIGHT
TZOFFSETFROM:-0800
TZOFFSETTO:-0700
TZNAME:PDT
DTSTART:20250309T100000
END:DAYLIGHT
BEGIN:STANDARD
TZOFFSETFROM:-0700
TZOFFSETTO:-0800
TZNAME:PST
DTSTART:20251102T090000
END:STANDARD
BEGIN:DAYLIGHT
TZOFFSETFROM:-0800
TZOFFSETTO:-0700
TZNAME:PDT
DTSTART:20260308T100000
END:DAYLIGHT
BEGIN:STANDARD
TZOFFSETFROM:-0700
TZOFFSETTO:-0800
TZNAME:PST
DTSTART:20261101T090000
END:STANDARD
END:VTIMEZONE
BEGIN:VEVENT
DTSTART;TZID=America/Los_Angeles:20251121T190000
DTEND;TZID=America/Los_Angeles:20251121T210000
DTSTAMP:20260420T202240
CREATED:20251112T200223Z
LAST-MODIFIED:20251112T200251Z
UID:10002280-1763751600-1763758800@visitlangley.com
SUMMARY:The Addams Family Musical @ Whidbey Children's Theatre
DESCRIPTION:The Addams Family at Whidbey Children’s Theatre! \nHelp us kick off our 2025-2026 season: Chiaroscuro!\nCome see The Addams Family Musical!\nTickets available at the door or online at www.wctmagic.org \nNovember\n14th\, 15th\, 20th\, 21st\, 22nd @ 7 p.m.\n16th\, 23rd @ 2 p.m.\nTickets: adult $18\nYouth $15 \nHave you ever felt SO unique that it seemed like you were living in a different reality than the rest of the world? That maybe you weren’t “normal” like everyone else? This story is one of belonging\, family\, and opening minds. In the kooky\, upside-down world of the Addams Family\, to be sad is to be happy\, to feel pain is to feel joy\, and death and suffering are the stuff of their dreams. The Addamses have lived by their unique values for hundreds of years and Gomez and Morticia would be only too happy to continue living that way. Their daughter Wednesday\, however\, is now a young adult who is ready for a life of her own. She has fallen in love with Lucas\, a sweet\, smart boy from a normal\, respectable Ohio family — the most un-Addams sounding person one could be! And to make matters worse\, she has invited Lucas’s family to their home for dinner. In one fateful\, hilarious night\, secrets are disclosed\, relationships are tested\, and the Addams family must face up to the one horrible thing they’ve managed to avoid for generations: change. \nWhidbey Children’s Theatre  723 Camano Ave   http://www.wctmagic.org
URL:https://visitlangley.com/events/the-addams-family-musical-whidbey-childrens-theatre/2025-11-21
LOCATION:Whidbey Childrens Theatre\, South Whidbey Community Center\, Langley\, WA\, 98260\, United States
CATEGORIES:Live Music,Member Events
END:VEVENT
BEGIN:VEVENT
DTSTART;TZID=America/Los_Angeles:20251121T193000
DTEND;TZID=America/Los_Angeles:20251121T210000
DTSTAMP:20260420T202240
CREATED:20251030T191034Z
LAST-MODIFIED:20251030T191034Z
UID:10002251-1763753400-1763758800@visitlangley.com
SUMMARY:Victims of Love: A Tribute to the Eagles @ WICA
DESCRIPTION:Victims of Love – A Tribute to the Eagles \nVictims of Love – A Tribute to the Eagles!\nOne extraordinary tribute band\, two days to see them live! \nFriday & Saturday\, November 21st & 22nd @ 7:30 p.m. \nWhile the Eagles may have the record for the #1 and #3 selling albums of all-time\,\nhundreds of millions of people have never seen them play live. \nA big reason for that is that they quit touring for almost 14 years\ndue to intrinsic personality conflicts and offstage cohesiveness within the band. \nVictims of Love – A Tribute to the Eagles\, is comprised of 5 Seattle-area music veterans who formed a project to give anyone within earshot the opportunity to hear those Eagles songs they love played live. \nPlease click the link below to purchase tickets today! \nhttps://purchase.wicaonline.org/EventAvailability?EventId=13001 \nWhidbey Island Center for the Arts \n565 Camano Avenue\, Langley \n(360) 221-8268 \ntickets@wicaonline.org \nhttps://www.wicaonline.org
URL:https://visitlangley.com/events/victims-of-love-a-tribute-to-the-eagles-wica/2025-11-21
LOCATION:Whidbey Island Center for the Arts\, Langley\, 98260\, United States
CATEGORIES:Live Music,Member Events
ATTACH;FMTTYPE=image/jpeg:https://visitlangley.com/wp-content/uploads/2025/10/VictimsofLove.jpg
GEO:48.0362993;-122.4039713
END:VEVENT
END:VCALENDAR