BEGIN:VCALENDAR
VERSION:2.0
PRODID:-//Langley Chamber of Commerce - ECPv6.15.20//NONSGML v1.0//EN
CALSCALE:GREGORIAN
METHOD:PUBLISH
X-WR-CALNAME:Langley Chamber of Commerce
X-ORIGINAL-URL:https://visitlangley.com
X-WR-CALDESC:Events for Langley Chamber of Commerce
REFRESH-INTERVAL;VALUE=DURATION:PT1H
X-Robots-Tag:noindex
X-PUBLISHED-TTL:PT1H
BEGIN:VTIMEZONE
TZID:America/Los_Angeles
BEGIN:DAYLIGHT
TZOFFSETFROM:-0800
TZOFFSETTO:-0700
TZNAME:PDT
DTSTART:20240310T100000
END:DAYLIGHT
BEGIN:STANDARD
TZOFFSETFROM:-0700
TZOFFSETTO:-0800
TZNAME:PST
DTSTART:20241103T090000
END:STANDARD
BEGIN:DAYLIGHT
TZOFFSETFROM:-0800
TZOFFSETTO:-0700
TZNAME:PDT
DTSTART:20250309T100000
END:DAYLIGHT
BEGIN:STANDARD
TZOFFSETFROM:-0700
TZOFFSETTO:-0800
TZNAME:PST
DTSTART:20251102T090000
END:STANDARD
BEGIN:DAYLIGHT
TZOFFSETFROM:-0800
TZOFFSETTO:-0700
TZNAME:PDT
DTSTART:20260308T100000
END:DAYLIGHT
BEGIN:STANDARD
TZOFFSETFROM:-0700
TZOFFSETTO:-0800
TZNAME:PST
DTSTART:20261101T090000
END:STANDARD
END:VTIMEZONE
BEGIN:VEVENT
DTSTART;TZID=America/Los_Angeles:20251117T140000
DTEND;TZID=America/Los_Angeles:20251117T150000
DTSTAMP:20260422T021217
CREATED:20251112T195446Z
LAST-MODIFIED:20251112T195446Z
UID:10002275-1763388000-1763391600@visitlangley.com
SUMMARY:Marine Mammals of the Salish Sea  @ Langley Library
DESCRIPTION:Marine Mammals of the Salish Sea \nMonday\, November 17th  ~  2 – 3 p.m. \nLangley Library\n104 Second Street \nDo you love taking walks on the beach or kayaking around the island? Have you wondered what to do if you come across a stranded seal\, sea lion\, pup\, whale\, dolphin\, or porpoise? Join Garry Heinrich to learn about the marine mammals of the Salish Sea and what to do when you find a marine mammal on the beach. \nGarry is the Response Coordinator and Investigator for the Central Puget Sound Marine Mammal Stranding Network. He currently holds a 200-ton masters license and works part time as a Captain on west coast tall ships. He has been a marine mammal keeper/vet aide at Marineland of the Pacific in California and has taught marine science at the Los Angeles Maritime Institute. Garry received his marine mammal naturalist certification from the Whale Center on San Juan Island in 2010. \nBen \n(360) 221-4383 \naskus@sno-isle.libanswers.com
URL:https://visitlangley.com/events/marine-mammals-of-the-salish-sea-langley-library
LOCATION:Langley Library
CATEGORIES:Member Events
GEO:48.0400703;-122.4064869
END:VEVENT
BEGIN:VEVENT
DTSTART;TZID=America/Los_Angeles:20251117T170000
DTEND;TZID=America/Los_Angeles:20251117T190000
DTSTAMP:20260422T021217
CREATED:20251114T192602Z
LAST-MODIFIED:20251114T192602Z
UID:10002287-1763398800-1763406000@visitlangley.com
SUMMARY:Monday Bites: Japonica Sushi Dinner @ Dancing Fish
DESCRIPTION:Monday Bites! Japonica Sushi Dinner\, Wine & Live Music by Stephen Barbour \nMonday\, November 17th  ~  5 – 7 p.m. \nDon’t want to cook on Monday?\nCome on over to Dancing Fish and enjoy a delicious sushi dinner by Japonica\,\nwine\, and live music by…Stephen Barbour! Bring the whole family! \nJaponica is heading to Dancing Fish for Monday Bites\, and bringing their delicious sushi!\nFull menu coming soon. \nMAKE RESERVATIONS! https://dancingfishvineyards.orderport.net/product-details/0760/11172025… \nReservations highly recommended to ensure seating and dinner with first come\, first serve\, community tables. Walk-ins are welcome after those with reservations are served\, while supplies last. Wine available for purchase by glass or bottle. \nTo make your reservation\, add the number of seats you would like to reserve to the shopping cart and make sure to fully check out. You will receive an email notification when the reservation goes through. If you do not receive an e-mail notification\, please e-mail us at info@dancingfishvineyards.com. \nFor questions or more information regarding this event please call or email us. \nDancing Fish Vineyards \n1953 Newman Road\, Freeland (360) 632-4190
URL:https://visitlangley.com/events/monday-bites-japonica-sushi-dinner-dancing-fish
LOCATION:Dancing Fish Vineyard\, 1953 Newman Road\, Freeland\, WA\, 98249
CATEGORIES:Live Music,Member Events
ATTACH;FMTTYPE=image/png:https://visitlangley.com/wp-content/uploads/2025/11/JaponicaStevenBarbour.png
GEO:48.009537;-122.525983
X-APPLE-STRUCTURED-LOCATION;VALUE=URI;X-ADDRESS=Dancing Fish Vineyard 1953 Newman Road Freeland WA 98249;X-APPLE-RADIUS=500;X-TITLE=1953 Newman Road:geo:-122.525983,48.009537
END:VEVENT
END:VCALENDAR