BEGIN:VCALENDAR
VERSION:2.0
PRODID:-//Langley Chamber of Commerce - ECPv6.15.20//NONSGML v1.0//EN
CALSCALE:GREGORIAN
METHOD:PUBLISH
X-ORIGINAL-URL:https://visitlangley.com
X-WR-CALDESC:Events for Langley Chamber of Commerce
REFRESH-INTERVAL;VALUE=DURATION:PT1H
X-Robots-Tag:noindex
X-PUBLISHED-TTL:PT1H
BEGIN:VTIMEZONE
TZID:America/Los_Angeles
BEGIN:DAYLIGHT
TZOFFSETFROM:-0800
TZOFFSETTO:-0700
TZNAME:PDT
DTSTART:20240310T100000
END:DAYLIGHT
BEGIN:STANDARD
TZOFFSETFROM:-0700
TZOFFSETTO:-0800
TZNAME:PST
DTSTART:20241103T090000
END:STANDARD
BEGIN:DAYLIGHT
TZOFFSETFROM:-0800
TZOFFSETTO:-0700
TZNAME:PDT
DTSTART:20250309T100000
END:DAYLIGHT
BEGIN:STANDARD
TZOFFSETFROM:-0700
TZOFFSETTO:-0800
TZNAME:PST
DTSTART:20251102T090000
END:STANDARD
BEGIN:DAYLIGHT
TZOFFSETFROM:-0800
TZOFFSETTO:-0700
TZNAME:PDT
DTSTART:20260308T100000
END:DAYLIGHT
BEGIN:STANDARD
TZOFFSETFROM:-0700
TZOFFSETTO:-0800
TZNAME:PST
DTSTART:20261101T090000
END:STANDARD
END:VTIMEZONE
BEGIN:VEVENT
DTSTART;TZID=America/Los_Angeles:20251017T160000
DTEND;TZID=America/Los_Angeles:20251017T170000
DTSTAMP:20260419T075023
CREATED:20251011T210507Z
LAST-MODIFIED:20251011T210507Z
UID:10002228-1760716800-1760720400@visitlangley.com
SUMMARY:Shakespeare's Spooky Tales
DESCRIPTION:Kent Junge returns for some Spooky Tales. Friday\, October 17th at 4 pm. All are welcome! \nSouth Whidbey Commons\n124 2nd St\, Langley
URL:https://visitlangley.com/events/shakespeares-spooky-tales
LOCATION:South Whidbey Commons
CATEGORIES:Member Events,Seasonal Events
ATTACH;FMTTYPE=image/jpeg:https://visitlangley.com/wp-content/uploads/2025/10/ShakespearesSpookyTales.jpg
GEO:48.0400945;-122.406257
END:VEVENT
BEGIN:VEVENT
DTSTART;TZID=America/Los_Angeles:20251017T173000
DTEND;TZID=America/Los_Angeles:20251017T190000
DTSTAMP:20260419T075023
CREATED:20251008T204457Z
LAST-MODIFIED:20251008T204457Z
UID:10002212-1760722200-1760727600@visitlangley.com
SUMMARY:Live Music @ Dancing Fish: Nathanial Talbot Trio
DESCRIPTION:Join us for excellent live music and wine in community!\n\nWe’re excited to welcome back the Nathaniel Talbot Trio to the Dancing Fish Barn stage. This is one one those\, ‘if you know\, you know” kind of shows. Nathaniel is a true talent and his Trio brings it to a new level. Originals you’ll feel you’ve known for years along with incredible renditions of some of your favorites. This is going to be a great show.\n\nNathaniel is a guitarist and singer from Washington’s Whidbey Island\, writes American roots music that combines the soulful edge of tradition with the Pacific Northwest’s legacy of freedom and innovation. He began learning piano at age 7\, started his first punk band at 13 and quickly thereafter began steeping himself of the guitar-driven sounds of Bill Frisell\, Kelly Joe Phelps\, Elliott Smith and other Northwest heroes. Over the next 15 years Talbot honed an approach to songwriting and storytelling\, driven by his complex fingerstyle guitar work\, that has earned him a distinct place in the folk scene.\n\n\nAccompanied by Whidbey Island’s Keegan Harshman on upright bass and Aaron Chaiclin on drums\, the Trio is powered by their tight acoustic arrangements\, lush vocals and the ability to suddenly stretch into the unexpected.\n\nThis event is by reservation only and includes a shared appetizer board served to your table. Please be aware that due to limited seating capacity in the Dancing Fish Barn\, some patrons may be assigned to larger communal tables. Alternatively\, if you have friends who are also attending this event\, please let us know via text/phone (360.632.4190) or e-mail (info@dancingfishvineyards.com) in advance of the performance so we can seat you at the same table. 
URL:https://visitlangley.com/events/live-music-dancing-fish-nathanial-talbot-trio
LOCATION:Dancing Fish
ATTACH;FMTTYPE=image/jpeg:https://visitlangley.com/wp-content/uploads/2025/10/DancingFish_1017.jpeg
END:VEVENT
BEGIN:VEVENT
DTSTART;TZID=America/Los_Angeles:20251017T173000
DTEND;TZID=America/Los_Angeles:20251017T193000
DTSTAMP:20260419T075023
CREATED:20251008T195827Z
LAST-MODIFIED:20251008T195827Z
UID:10002208-1760722200-1760729400@visitlangley.com
SUMMARY:Master the Art of Pizza Making @ Biercuterie
DESCRIPTION:Ready to master the art of pizza making? Join us for a fun and educational evening with co-owner Brian\, who has been perfecting his craft for over 15 years. You’ll learn the very same dough-making secrets we use for the pizzas we sell every Friday! \nEvery attendee gets their own 12-inch dough ball and a curated selection of our finest gourmet ingredients to craft a one-of-a-kind masterpiece. As you get hands-on with the toppings—from our housemade pizza sauce to fresh mozzarella\, savory prosciutto\, and more—we’ll guide you through the process. \nTo make the evening even better\, we’ll have a selection of wines and craft beers on hand for you to sample\, showing you how to perfectly pair with your creations. Take your freshly baked pizza home to enjoy\, or pull up a seat and savor it with us! \nSpace is limited to only 10 people for this intimate class\, so reserve your spot for a truly delicious night of fun and learning. \nBuy tickets here
URL:https://visitlangley.com/events/master-the-art-of-pizza-making-biercuterie
LOCATION:Biercuterie\, 1664 E Main St #3\, Freeland\, 98249\, United States
ATTACH;FMTTYPE=image/jpeg:https://visitlangley.com/wp-content/uploads/2025/10/Biercuterie_1017.jpg
ORGANIZER;CN="Biercuterie":MAILTO:info@biercuterie.com
END:VEVENT
BEGIN:VEVENT
DTSTART;TZID=America/Los_Angeles:20251017T180000
DTEND;TZID=America/Los_Angeles:20251017T210000
DTSTAMP:20260419T075023
CREATED:20251004T180947Z
LAST-MODIFIED:20251004T180947Z
UID:10002200-1760724000-1760734800@visitlangley.com
SUMMARY:Hatter's Tea Party @ Bayview Hall
DESCRIPTION:All events free by donation.\n5642 Bayview Road\, South Whidbey\nOctober 17th ~ 6 – 9 p.m.\nHatter’s Tea Party: Silent Disco & Creepy Food Potluck\nAll ages; Family Friendly.\nCome dressed in your best for Halloween dancing\nand bring a spooky snack to share.
URL:https://visitlangley.com/events/hatters-tea-party-bayview-hall
LOCATION:Bayview Hall\, 5642 Bayview Rd\, Langley\, WA\, 98260\, United States
CATEGORIES:Member Events,Seasonal Events
ATTACH;FMTTYPE=image/jpeg:https://visitlangley.com/wp-content/uploads/2025/10/hattersTeaParty.hpg_.jpg
END:VEVENT
BEGIN:VEVENT
DTSTART;TZID=America/Los_Angeles:20251017T190000
DTEND;TZID=America/Los_Angeles:20251017T210000
DTSTAMP:20260419T075023
CREATED:20251003T193114Z
LAST-MODIFIED:20251010T214422Z
UID:10002195-1760727600-1760734800@visitlangley.com
SUMMARY:Dead Guise at Greenbank Farm October 17
DESCRIPTION:  \nLive Music\nGreenbank Farm Barn\nFri\, Oct 17\n  \nThe Greenbank Farm Wine Shop presents an evening of music with the Grateful Dead tribute band Dead Guise!
URL:https://visitlangley.com/events/32614
LOCATION:Greenbank Farm
CATEGORIES:Live Music,Member Events
ATTACH;FMTTYPE=image/jpeg:https://visitlangley.com/wp-content/uploads/2025/10/DeadGuise.jpg
GEO:48.106919;-122.574052
END:VEVENT
BEGIN:VEVENT
DTSTART;TZID=America/Los_Angeles:20251017T193000
DTEND;TZID=America/Los_Angeles:20251017T213000
DTSTAMP:20260419T075023
CREATED:20250913T185714Z
LAST-MODIFIED:20250913T185714Z
UID:10001882-1760729400-1760736600@visitlangley.com
SUMMARY:Cowboys are My Weakness @ WICA
DESCRIPTION:Cowboys Are My Weakness \nCowboys Are My Weakness\nAdapted & Directed by Myra Platt \nOctober 9th – 25th at WICA \nWICA is proud to present Cowboys Are My Weakness in partnership with Seattle’s renowned Book-It Repertory Theatre. Adapted from Pam Houston’s celebrated short story collection\, this vivid production blends sharp wit\, emotional honesty\, and a touch of Western mystique to explore love\, longing\, and independence on the rugged frontier. \nOriginally a hit in 1999\, this Book-It classic returns under the direction of Book-It’s Artistic Director\, Myra Platt\, with live music by Edd Key and Theresa Holmes. Four interwoven stories come to life on stage: How to Talk to a Hunter\, Selway\, For Bo\, and the title story\, Cowboys Are My Weakness. From the humor of loving a man more devoted to his deer head than his girlfriend\, to a white-knuckle raft ride through romance and wilderness\, to the tender joy of dogs\, Houston’s tales capture the complexities of desire and the lure of the West. \nSeven dynamic performers\, including Equity actors Hilary Pickles* and Hailey Henderson*\, bring a kaleidoscope of characters to life across these stories\, offering Whidbey audiences a fresh take on this Seattle favorite. \nCast includes: Alyssa Keene\, Hilary Pickles*\, Hailey Henderson*\, April Jane Herrild\, Miles Harrison\, David Mayer\, Max Cole-Takanikos \nPlease click the link below to purchase tickets!\nhttps://purchase.wicaonline.org/EventAvailability?EventId=11402 \nWICA \n565 Camano Ave.\, Langley \n(360) 221-8268 http://www.wicaonline.org
URL:https://visitlangley.com/events/cowboys-are-my-weakness-wica/2025-10-17
LOCATION:Whidbey Island Center for the Arts\, Camano Avenue\, Langley\, WA\, 98260\, United States
CATEGORIES:Member Events
ATTACH;FMTTYPE=image/jpeg:https://visitlangley.com/wp-content/uploads/2025/09/Cowboys.jpg
GEO:48.0343689;-122.4023281
X-APPLE-STRUCTURED-LOCATION;VALUE=URI;X-ADDRESS=Whidbey Island Center for the Arts Camano Avenue Langley WA 98260 United States;X-APPLE-RADIUS=500;X-TITLE=Camano Avenue:geo:-122.4023281,48.0343689
END:VEVENT
END:VCALENDAR