BEGIN:VCALENDAR
VERSION:2.0
PRODID:-//Langley Chamber of Commerce - ECPv6.15.20//NONSGML v1.0//EN
CALSCALE:GREGORIAN
METHOD:PUBLISH
X-WR-CALNAME:Langley Chamber of Commerce
X-ORIGINAL-URL:https://visitlangley.com
X-WR-CALDESC:Events for Langley Chamber of Commerce
REFRESH-INTERVAL;VALUE=DURATION:PT1H
X-Robots-Tag:noindex
X-PUBLISHED-TTL:PT1H
BEGIN:VTIMEZONE
TZID:America/Los_Angeles
BEGIN:DAYLIGHT
TZOFFSETFROM:-0800
TZOFFSETTO:-0700
TZNAME:PDT
DTSTART:20240310T100000
END:DAYLIGHT
BEGIN:STANDARD
TZOFFSETFROM:-0700
TZOFFSETTO:-0800
TZNAME:PST
DTSTART:20241103T090000
END:STANDARD
BEGIN:DAYLIGHT
TZOFFSETFROM:-0800
TZOFFSETTO:-0700
TZNAME:PDT
DTSTART:20250309T100000
END:DAYLIGHT
BEGIN:STANDARD
TZOFFSETFROM:-0700
TZOFFSETTO:-0800
TZNAME:PST
DTSTART:20251102T090000
END:STANDARD
BEGIN:DAYLIGHT
TZOFFSETFROM:-0800
TZOFFSETTO:-0700
TZNAME:PDT
DTSTART:20260308T100000
END:DAYLIGHT
BEGIN:STANDARD
TZOFFSETFROM:-0700
TZOFFSETTO:-0800
TZNAME:PST
DTSTART:20261101T090000
END:STANDARD
END:VTIMEZONE
BEGIN:VEVENT
DTSTART;TZID=America/Los_Angeles:20250723T080000
DTEND;TZID=America/Los_Angeles:20250811T210000
DTSTAMP:20260420T191449
CREATED:20250728T234532Z
LAST-MODIFIED:20250728T234553Z
UID:10001793-1753257600-1754946000@visitlangley.com
SUMMARY:Welcome to Langley: An Art Auction Featuring Original Signage Paintings
DESCRIPTION:Welcome to the Langley Creative District Auction! \nWe’re auctioning three original paintings by local artist Laura Hudson\, the very works that inspired Langley’s beautiful new Welcome Signs in collaboration with graphic designer Emily Wandres. These one-of-a-kind pieces celebrate the spirit of our town—its natural beauty\, artistic talent\, and deep sense of community. \nAll proceeds will support future Creative District projects—including public art\, community events\, artist support\, and cultural programming—helping us continue to grow Langley as a vibrant\, creative hub for residents and visitors alike. \nWinners will be contacted after the auction closes to coordinate local pickup or delivery. If you’re bidding from outside the area\, we’ll gladly arrange safe shipping at cost. \nYour bid isn’t just for art—it’s an investment in Langley’s creative future. Thank you for supporting the artists and energy that make this place so special. \nSpread the word\, rally your friends and family\, and together\, let’s make this generous fundraising opportunity a success! \nThank you for your support\, and happy bidding! \nLangley Creative District\nAdministered by Langley Chamber Of Commerce
URL:https://visitlangley.com/events/welcome-to-langley-an-art-auction-featuring-original-signage-paintings
LOCATION:https://visitlangley.com/events/welcome-to-langley-an-art-auction-featuring-original-signage-paintings
END:VEVENT
BEGIN:VEVENT
DTSTART;TZID=America/Los_Angeles:20250724T090000
DTEND;TZID=America/Los_Angeles:20250727T220000
DTSTAMP:20260420T191449
CREATED:20250603T222743Z
LAST-MODIFIED:20250603T222743Z
UID:10001624-1753347600-1753653600@visitlangley.com
SUMMARY:The 100th Whidbey Island Fair
DESCRIPTION:We are a small town Fair with fun and well-known head liners. We love promoting local bands from on and around the Island!\nFull list of entertainment will be published once everyone is booked and confirmed.
URL:https://visitlangley.com/events/the-100th-whidbey-island-fair
LOCATION:Whidbey Island Fairgrounds and Events Center\, Fair Grounds & Event Center\, Langley\, Wa\, 98260
ATTACH;FMTTYPE=image/png:https://visitlangley.com/wp-content/uploads/2025/06/Screenshot-2025-06-03-151648.png
ORGANIZER;CN="Whidbey Island Fair Association":MAILTO:staff@whidbeyislandfair.com
GEO:48.0318432;-122.4026331
X-APPLE-STRUCTURED-LOCATION;VALUE=URI;X-ADDRESS=Whidbey Island Fairgrounds and Events Center Fair Grounds & Event Center Langley Wa 98260;X-APPLE-RADIUS=500;X-TITLE=Fair Grounds & Event Center:geo:-122.4026331,48.0318432
END:VEVENT
BEGIN:VEVENT
DTSTART;TZID=America/Los_Angeles:20250725T140000
DTEND;TZID=America/Los_Angeles:20250725T160000
DTSTAMP:20260420T191449
CREATED:20250607T182831Z
LAST-MODIFIED:20250607T183455Z
UID:10001645-1753452000-1753459200@visitlangley.com
SUMMARY:Bernhardt/Hamlet @ WICA
DESCRIPTION:Bernhardt/Hamlet | New Works June at WICA! \nJuly 25th – 26th\n2:00 p.m. & 7:30 p.m. performances \nIn 1899\, the legendary Sarah Bernhardt set her sights on an audacious new role: Hamlet. In Bernhardt/Hamlet\, playwright Theresa Rebeck brings this daring true story to life with wit\, passion\, and theatrical flair. As Bernhardt takes on Shakespeare’s most tormented prince\, questions of gender\, power\, and performance take center stage. Directed by local playwright Amy Wheeler and featuring an all-star cast\, this staged reading is part of Whidbey Island Center for the Arts’ New Works June festival. A bold\, captivating exploration of one woman’s quest to redefine the stage. \nPlease click the link below to purchase tickets to this event! \nhttps://purchase.wicaonline.org/EventAvailability?EventId=7801 \nBox Office \n(360) 221-8268 \n565 Camano Avenue\, Langley
URL:https://visitlangley.com/events/bernhardt-hamlet-wica
LOCATION:Whidbey Island Center for the Arts\, Camano Avenue\, Langley\, WA\, 98260\, United States
CATEGORIES:Member Events
ATTACH;FMTTYPE=image/jpeg:https://visitlangley.com/wp-content/uploads/2025/06/BernhardtHamlet.jpg
GEO:48.0343689;-122.4023281
X-APPLE-STRUCTURED-LOCATION;VALUE=URI;X-ADDRESS=Whidbey Island Center for the Arts Camano Avenue Langley WA 98260 United States;X-APPLE-RADIUS=500;X-TITLE=Camano Avenue:geo:-122.4023281,48.0343689
END:VEVENT
BEGIN:VEVENT
DTSTART;TZID=America/Los_Angeles:20250725T170000
DTEND;TZID=America/Los_Angeles:20250725T190000
DTSTAMP:20260420T191449
CREATED:20250712T212555Z
LAST-MODIFIED:20250712T212918Z
UID:10001745-1753462800-1753470000@visitlangley.com
SUMMARY:Happy Hour Under the Tent @ WICA
DESCRIPTION:Free Live Music All Summer at WICA\nThe Whidbey Telecom Summer Nights Series is your invitation to enjoy free local live music all season long at Whidbey Island Center for the Arts in Langley.\nJoin us for Happy Hour Under the Tent\, every Friday and Saturday from June through August\, 5:00 to 7:00 PM. Relax outdoors\, hear talented local artists\, and grab a drink from the no-host Zech Hall Bar — no tickets\, no cost.\nThis weekend’s performers: \nSATURDAY\, JULY 12\nJoann Quintana Trio — Joann Quintana (vocals)\, Yana Viniko (keys)\, Dale Stirling (bass)\nSway along with Joann Quintana and her talented trio as they deliver a playful blend of jazz\, blues\, and pop standards. Sophisticated yet unpretentious — a delightful soundtrack for a summer evening out.\nFRIDAY\, JULY 18\nNorthern Storm — Bob Aldrich (bass/guitar/vocals)\, Russell Clepper (guitar/vocals)\, Michael McInerney (mandola/vocals)\, Bev Heising (fiddle/mandolin/vocals)\nNorthern Storm sweeps in with lush vocal harmonies\, rootsy Americana tunes\, and a sprinkle of originals. Their laid-back storytelling and musical camaraderie make every performance feel like a Pacific Northwest road trip.\nSATURDAY\, JULY 19\nHigh Tide — Penny Livingston\, Jing Jing Tsong\, Bev Heising\, Barbara Dunn\nA powerhouse quartet blending strong vocals and multi-instrumental magic: guitar\, mandolin\, violin\, bass\, piano\, ukulele\, and cello. Their sound drifts from folk to bluegrass\, all delivered with warmth and joy.\nWhidbey Island Center for the Arts
URL:https://visitlangley.com/events/30121/2025-07-25
LOCATION:Whidbey Island Center for the Arts Zech Hall\, 565 Camano Avenue\, Langley\, 98260\, United States
CATEGORIES:Live Music,Member Events
ATTACH;FMTTYPE=image/jpeg:https://visitlangley.com/wp-content/uploads/2025/07/HappyHourWICA2025.jpg
END:VEVENT
BEGIN:VEVENT
DTSTART;TZID=America/Los_Angeles:20250725T180000
DTEND;TZID=America/Los_Angeles:20250725T210000
DTSTAMP:20260420T191449
CREATED:20250712T210408Z
LAST-MODIFIED:20250712T210408Z
UID:10001710-1753466400-1753477200@visitlangley.com
SUMMARY:Island Shakespeare Festival
DESCRIPTION:Island Shakespeare Fest Opens its 16th Season July 18!\nThis season\, fearless women defy the status quo\, rewrite the rules\, and prove that love and selfhood are not a choice—they’re a revolution.\n“Much Ado About Nothing”By: William Shakespeare\, Directed by: Chad “Dex” Kinsman\nEvent Date(s): July 18 – Aug. 31 \nIn Shakespeare’s “Much Ado About Nothing\,” words are weapons and wit is a shield. Beatrice refuses to be anything but fiercely independent—until she finds herself caught in a battle of the heart with the equally sharp-tongued Benedick. Meanwhile\, her cousin Hero’s gentle strength is tested by a world obsessed with female purity—making a whole lot of “ado” over nothing. Shakespeare’s “Much Ado” is a sparkling comedy of deception\, honor\, and unexpected love\, where women must carve their own paths amid a society eager to define them. \n“Anima (or Her Soul)” By: Amelia Pincherle Rosselli\, Directed by: Emily Lyon\nEvent Dates: July 26 – Aug 30\nOnce again\, we partner with Expand the Canon to bring a brilliant yet lesser-known classic to our audience’s attention. The art world is rarely considered the intersection of passion and propriety. But In Amelia Roselli’s “Anima” (translated to English as “Her Soul”)\, painter Olga de Velaris finds herself at just that crossroads\, testing the limits of how much she can express. In 1890’s Rome\, she is surrounded by women who must navigate the tightrope of reputation\, desire\, and survival. “Anima” is a powerful\, rarely staged drama that lays bare the tension between self-determination and the longing for connection\, revealing that love—when truly seen—does not have to mean surrender. Step into this quirky\, disarming\, and award-winning play for an examination of who we’re really seeking. \nIsland Shakespeare Festival\, 5476 Maxwelton Road\, Langley WA\nPrice: Pay What You Will\, or reserve a seat for $36\nGet Tickets Here:\nhttps://www.ticketsource.com/island-shakespeare-festival
URL:https://visitlangley.com/events/island-shakespeare-festival-2/2025-07-25
LOCATION:Island Shakespeare Festival\, 5476 Maxwelton Road\, Langley\, United States
CATEGORIES:Member Events,Seasonal Events
ATTACH;FMTTYPE=image/png:https://visitlangley.com/wp-content/uploads/2025/07/ISF2025.png
END:VEVENT
BEGIN:VEVENT
DTSTART;TZID=America/Los_Angeles:20250725T190000
DTEND;TZID=America/Los_Angeles:20250725T210000
DTSTAMP:20260420T191449
CREATED:20250712T213913Z
LAST-MODIFIED:20250712T213913Z
UID:10001762-1753470000-1753477200@visitlangley.com
SUMMARY:Chitty Chitty Bang Bang @ Whidbey Children's Theatre
DESCRIPTION:Y’all\, are you needing something cheerful in your life?\nThen get your tickets and come see Chitty Chitty Bang Bang because it’s sweet\, funny and guaranteed to make you smile! These young actors have been working hard and creating a wonderful ensemble.\nPerformances:\nJuly 18\, 19\, 24\, 25\, 26 @ 7 p.m.\nJuly 20\, 27 @ 2 p.m.\nTickets: Youth (4-19) $15 Adults (20-119) $18\nwww.wctmagic.org is the hot spot for tickets\, information on classes\nand also on how you can help keep WCT in the magic making business!\nWhidbey Children’s Theatre\nSouth Whidbey Community Center\n723 Camano Ave.\, Langley \nhttp://www.wctmagic.org
URL:https://visitlangley.com/events/chitty-chitty-bang-bang-whidbey-childrens-theatre/2025-07-25
LOCATION:Whidbey Childrens Theatre\, South Whidbey Community Center\, Langley\, WA\, 98260\, United States
CATEGORIES:Live Music,Member Events
ATTACH;FMTTYPE=image/jpeg:https://visitlangley.com/wp-content/uploads/2025/07/ChittyChittyBangBangCast.jpg
END:VEVENT
END:VCALENDAR