BEGIN:VCALENDAR
VERSION:2.0
PRODID:-//Langley Chamber of Commerce - ECPv6.15.20//NONSGML v1.0//EN
CALSCALE:GREGORIAN
METHOD:PUBLISH
X-WR-CALNAME:Langley Chamber of Commerce
X-ORIGINAL-URL:https://visitlangley.com
X-WR-CALDESC:Events for Langley Chamber of Commerce
REFRESH-INTERVAL;VALUE=DURATION:PT1H
X-Robots-Tag:noindex
X-PUBLISHED-TTL:PT1H
BEGIN:VTIMEZONE
TZID:America/Los_Angeles
BEGIN:DAYLIGHT
TZOFFSETFROM:-0800
TZOFFSETTO:-0700
TZNAME:PDT
DTSTART:20240310T100000
END:DAYLIGHT
BEGIN:STANDARD
TZOFFSETFROM:-0700
TZOFFSETTO:-0800
TZNAME:PST
DTSTART:20241103T090000
END:STANDARD
BEGIN:DAYLIGHT
TZOFFSETFROM:-0800
TZOFFSETTO:-0700
TZNAME:PDT
DTSTART:20250309T100000
END:DAYLIGHT
BEGIN:STANDARD
TZOFFSETFROM:-0700
TZOFFSETTO:-0800
TZNAME:PST
DTSTART:20251102T090000
END:STANDARD
BEGIN:DAYLIGHT
TZOFFSETFROM:-0800
TZOFFSETTO:-0700
TZNAME:PDT
DTSTART:20260308T100000
END:DAYLIGHT
BEGIN:STANDARD
TZOFFSETFROM:-0700
TZOFFSETTO:-0800
TZNAME:PST
DTSTART:20261101T090000
END:STANDARD
END:VTIMEZONE
BEGIN:VEVENT
DTSTART;TZID=America/Los_Angeles:20250430T173000
DTEND;TZID=America/Los_Angeles:20250430T190000
DTSTAMP:20260421T235115
CREATED:20250430T184120Z
LAST-MODIFIED:20250430T184120Z
UID:10001550-1746034200-1746039600@visitlangley.com
SUMMARY:Solo in the City @ Double Bluff Brewing: Mason Marcus Turner
DESCRIPTION:Join us for a more intimate mid-week musical performance by Mason Marcus Turner!\nThere is no cover charge but tipping the musician is highly appreciated.\nWe are kid friendly and dogs are allowed on the patio.\nFood available from Ikaika Grill.
URL:https://visitlangley.com/events/solo-in-the-city-double-bluff-brewing-mason-marcus-turner
LOCATION:Double Bluff Brewing Company\, 121 Second Street\, Langley\, WA\, 98260
ATTACH;FMTTYPE=image/png:https://visitlangley.com/wp-content/uploads/2025/04/DoubleBluffBrewing_social-1.png
END:VEVENT
BEGIN:VEVENT
DTSTART;TZID=America/Los_Angeles:20250430T183000
DTEND;TZID=America/Los_Angeles:20250430T203000
DTSTAMP:20260421T235115
CREATED:20250410T200337Z
LAST-MODIFIED:20250410T200337Z
UID:10001505-1746037800-1746045000@visitlangley.com
SUMMARY:Bluegrass Jam @ WICA
DESCRIPTION:WICA welcomes all intermediate and advanced bluegrass players to join our bluegrass jam\, Listeners welcome too! No entrance fee\, the WICA bar will be open for refreshments.
URL:https://visitlangley.com/events/bluegrass-jam-wica
CATEGORIES:Live Music,Member Events
ATTACH;FMTTYPE=image/jpeg:https://visitlangley.com/wp-content/uploads/2025/04/BluegrassjamsGeneric.jpg
END:VEVENT
END:VCALENDAR