BEGIN:VCALENDAR
VERSION:2.0
PRODID:-//Langley Chamber of Commerce - ECPv6.15.20//NONSGML v1.0//EN
CALSCALE:GREGORIAN
METHOD:PUBLISH
X-ORIGINAL-URL:https://visitlangley.com
X-WR-CALDESC:Events for Langley Chamber of Commerce
REFRESH-INTERVAL;VALUE=DURATION:PT1H
X-Robots-Tag:noindex
X-PUBLISHED-TTL:PT1H
BEGIN:VTIMEZONE
TZID:America/Los_Angeles
BEGIN:DAYLIGHT
TZOFFSETFROM:-0800
TZOFFSETTO:-0700
TZNAME:PDT
DTSTART:20240310T100000
END:DAYLIGHT
BEGIN:STANDARD
TZOFFSETFROM:-0700
TZOFFSETTO:-0800
TZNAME:PST
DTSTART:20241103T090000
END:STANDARD
BEGIN:DAYLIGHT
TZOFFSETFROM:-0800
TZOFFSETTO:-0700
TZNAME:PDT
DTSTART:20250309T100000
END:DAYLIGHT
BEGIN:STANDARD
TZOFFSETFROM:-0700
TZOFFSETTO:-0800
TZNAME:PST
DTSTART:20251102T090000
END:STANDARD
BEGIN:DAYLIGHT
TZOFFSETFROM:-0800
TZOFFSETTO:-0700
TZNAME:PDT
DTSTART:20260308T100000
END:DAYLIGHT
BEGIN:STANDARD
TZOFFSETFROM:-0700
TZOFFSETTO:-0800
TZNAME:PST
DTSTART:20261101T090000
END:STANDARD
END:VTIMEZONE
BEGIN:VEVENT
DTSTART;TZID=America/Los_Angeles:20250324T170000
DTEND;TZID=America/Los_Angeles:20250324T190000
DTSTAMP:20260423T102934
CREATED:20250321T185747Z
LAST-MODIFIED:20250321T185747Z
UID:10001459-1742835600-1742842800@visitlangley.com
SUMMARY:Monday Dinner & Music – Paella by Dancing Fish & Live Music by Kristo Allred
DESCRIPTION:Monday Dinner & Music – Paella by Dancing Fish & Live Music by Kristo Allred \nMonday\, March 24th  ~  5 – 7 p.m. \nJoin us for dinner on Monday\, March 24th\, for a warm plate of traditional Paella by yours truly\, Dancing Fish Vineyards! Monday Bites is traditionally ‘free admission’ as we partner with other outside caterers\, with food and wine being purchased separately at the event. This Monday\, we will be serving our very own Dancing Fish Paella giving us the opportunity to streamline food service\, simplify check out\, and allow you to pre-purchase your plate here with your reservations online. As always\, all beverages will be available separately for purchase at the event. \nDancing Fish Paella Mixta: Chicken Thigh\, Traditional Sofrito\, Spanish Chorizo\, Penn Cove Mussels\, Gulf Prawns (shell-free this time)\, and Seasonal Vegetables $25/plate (plus $4 gratuity to take care of our Paella Chefs and Staff). Live music by Kristo Allred! \nWe’re excited to have Kristo return to the Monday Night stage after an incredible performance a few weeks back! Kristo Allred is a guitarist\, singer and songwriter who weaves heartfelt performances inspired by the storytelling traditions of artists like James Taylor\, Crosby\, Stills & Nash\, Dashboard Confessional and Iron & Wine. \nMAKE RESERVATIONS! https://dancingfishvineyards.orderport.net/product-details/0640/3242025-… \nFor questions or more information regarding this event\nplease call 360-632-4190 or email us at info@dancingfishvineyards.com \nDancing Fish Vineyards   1953 Newman Road\, Freeland
URL:https://visitlangley.com/events/monday-dinner-music-paella-by-dancing-fish-live-music-by-kristo-allred
LOCATION:Barn – Dancing Fish Vineyards\, 1953 Newman Rd\, Freeland\, WA\, 98249\, United States
CATEGORIES:Live Music,Member Events
ATTACH;FMTTYPE=image/jpeg:https://visitlangley.com/wp-content/uploads/2025/03/Dancing-Fish-Farm-Barn.jpg
GEO:48.014584;-122.511135
X-APPLE-STRUCTURED-LOCATION;VALUE=URI;X-ADDRESS=Barn – Dancing Fish Vineyards 1953 Newman Rd Freeland WA 98249 United States;X-APPLE-RADIUS=500;X-TITLE=1953 Newman Rd:geo:-122.511135,48.014584
END:VEVENT
END:VCALENDAR