BEGIN:VCALENDAR
VERSION:2.0
PRODID:-//Langley Chamber of Commerce - ECPv6.15.20//NONSGML v1.0//EN
CALSCALE:GREGORIAN
METHOD:PUBLISH
X-WR-CALNAME:Langley Chamber of Commerce
X-ORIGINAL-URL:https://visitlangley.com
X-WR-CALDESC:Events for Langley Chamber of Commerce
REFRESH-INTERVAL;VALUE=DURATION:PT1H
X-Robots-Tag:noindex
X-PUBLISHED-TTL:PT1H
BEGIN:VTIMEZONE
TZID:America/Los_Angeles
BEGIN:DAYLIGHT
TZOFFSETFROM:-0800
TZOFFSETTO:-0700
TZNAME:PDT
DTSTART:20240310T100000
END:DAYLIGHT
BEGIN:STANDARD
TZOFFSETFROM:-0700
TZOFFSETTO:-0800
TZNAME:PST
DTSTART:20241103T090000
END:STANDARD
BEGIN:DAYLIGHT
TZOFFSETFROM:-0800
TZOFFSETTO:-0700
TZNAME:PDT
DTSTART:20250309T100000
END:DAYLIGHT
BEGIN:STANDARD
TZOFFSETFROM:-0700
TZOFFSETTO:-0800
TZNAME:PST
DTSTART:20251102T090000
END:STANDARD
BEGIN:DAYLIGHT
TZOFFSETFROM:-0800
TZOFFSETTO:-0700
TZNAME:PDT
DTSTART:20260308T100000
END:DAYLIGHT
BEGIN:STANDARD
TZOFFSETFROM:-0700
TZOFFSETTO:-0800
TZNAME:PST
DTSTART:20261101T090000
END:STANDARD
END:VTIMEZONE
BEGIN:VEVENT
DTSTART;TZID=America/Los_Angeles:20250117T173000
DTEND;TZID=America/Los_Angeles:20250117T193000
DTSTAMP:20260420T220620
CREATED:20250116T202659Z
LAST-MODIFIED:20250116T202659Z
UID:10001401-1737135000-1737142200@visitlangley.com
SUMMARY:Live Music at the Braeburn
DESCRIPTION:We’re pleased to announce we’ll be hosting some amazing local musicians for live music during Friday Night Suppers this month! \nWe’re kicking it off with the talented singer songwriter\, Autumn North\, on January 17th from 5:30-7:30 p.m. Then on January 31st from 5:30-7:30 p.m. we’re welcoming back world renowned impressionist guitarist Andre Feriante. \nWe will be serving our classic Supper menu from 4:30-8:00pm\nwith additional seasonal small plates\, beer & wine\, winter cocktails and a full bar. \nHope you’ll join us in celebrating these local talents\nand the wonderful music they share with us! \nOur Supper menu can be found here:\nhttps://www.braeburnlangley.com/supper \nCurrent Hours of Operation:\nWednesday – Monday 9:00am-3:00pm for breakfast & lunch\nThursday – Saturday 4:30pm-8:00pm for Supper\nClosed Tuesdays \nThe Braeburn \n197 2nd Street\, Langley \nhttps://www.braeburnlangley.com
URL:https://visitlangley.com/events/live-music-at-the-braeburn/2025-01-17
LOCATION:The Braeburn\, 197 Second Street\, Langley\, WA\, 98260\, United States
CATEGORIES:Live Music,Member Events
ATTACH;FMTTYPE=image/jpeg:https://visitlangley.com/wp-content/uploads/2025/01/braeburnoutside.jpg
GEO:48.039921;-122.407677
X-APPLE-STRUCTURED-LOCATION;VALUE=URI;X-ADDRESS=The Braeburn 197 Second Street Langley WA 98260 United States;X-APPLE-RADIUS=500;X-TITLE=197 Second Street:geo:-122.407677,48.039921
END:VEVENT
BEGIN:VEVENT
DTSTART;TZID=America/Los_Angeles:20250117T173000
DTEND;TZID=America/Los_Angeles:20250117T193000
DTSTAMP:20260420T220620
CREATED:20250116T204000Z
LAST-MODIFIED:20250116T204000Z
UID:10001405-1737135000-1737142200@visitlangley.com
SUMMARY:Friday Night Music @ Dancing Fish: Jilian Linklater
DESCRIPTION:Friday Night Music at Dancing Fish: Jilian Linklater feat. The Swirlhood Band \nFriday\, January 17th  ~  5:30 – 7:30 p.m. \nJilian Linklater is back at Dancing Fish Vineyards with her stunning vocals and guitar\, this time playing alongside the Swirlhood Band. Read on to learn more about these talented musicians. \nMAKE RESERVATIONS!\nhttps://dancingfishvineyards.orderport.net/wines/Events \nJilian Linklater is joined by the Swirlhood Band. Seattle based indie/folk duo Swirlhood is the shared universe of songwriters Bethany Gray and Madeline Privott. Journey into a world that sees the common as commendable\, the ordinary as ornate. Where ripples of milky guitar and pointed melodies spill out of ancient wounds. From the Mexican border to the remote wilderness of Alaska\, these two have logged hundreds of hours exploring strange and silly\, beautiful and boring. Thanks to their lyrical fortitude\, delicate harmonies and simple choreography\, we have a glimpse into the unknown territory of Swirlhood. \nThis event is by reservation only and includes a shared appetizer board served to your table. A portion of the $25 admission fee will go to Whidbey Island Nourishes (WIN). Also\, the vineyard lights turn on at 4:45 pm sharp! \nPlease be aware that due to limited seating capacity in the Dancing Fish Barn\, some patrons may be assigned to larger communal tables. Alternatively\, if you have friends who are also attending this event\, please let us know via text/phone (360-632-4190) in advance of the performance so we can seat you at the same table. \nDancing Fish Vineyards \n1953 Newman Road\, Freeland \n(360) 632-4190 \ninfo@dancingfishvineyards.com
URL:https://visitlangley.com/events/friday-night-music-dancing-fish-jilian-linklater
LOCATION:Dancing Fish Vineyard\, 1953 Newman Road\, Freeland\, WA\, 98249
CATEGORIES:Live Music,Member Events
ATTACH;FMTTYPE=image/jpeg:https://visitlangley.com/wp-content/uploads/2025/01/JilianLinklater.jpg
GEO:48.009537;-122.525983
X-APPLE-STRUCTURED-LOCATION;VALUE=URI;X-ADDRESS=Dancing Fish Vineyard 1953 Newman Road Freeland WA 98249;X-APPLE-RADIUS=500;X-TITLE=1953 Newman Road:geo:-122.525983,48.009537
END:VEVENT
BEGIN:VEVENT
DTSTART;TZID=America/Los_Angeles:20250117T193000
DTEND;TZID=America/Los_Angeles:20250117T213000
DTSTAMP:20260420T220621
CREATED:20250102T221425Z
LAST-MODIFIED:20250102T221425Z
UID:10001389-1737142200-1737149400@visitlangley.com
SUMMARY:Whidbey Island Film Festival January 17-26
DESCRIPTION:Join Us for the 2025 Whidbey Island Film Festival:\nIn Glorious Black and White! \nStep back in time and immerse yourself in the timeless elegance of black and white cinema at the Whidbey Island Film Festival! Back for two weeks\, from January 17th to January 26th\, 2025\, we invite you to experience a curated selection of classic films! \nWeek One: January 17-19\nPaper Moon\nJanuary 17\, 7:30 p.m. \nJane Eyre\nJanuary 18\, 2 p.m. \nRaging Bull\nJanuary 18\, 7:30 PM \nPinky\nJanuary 19\, 2 p.m. \nTo Kill a Mockingbird\nJanuary 19\, 7:30 p.m. \nWeek Two: January 23-26\nEd Wood\nJanuary 23\, 7:30 p.m. \nPleasantville\nJanuary 24\, 7:30 p.m. \nAnatomy of a Murder\nJanuary 25\, 2 p.m. \nThe Innocents\nJanuary 25\, 7:30 p.m. \nYoung Frankenstein\nJanuary 26\, 7:30 p.m.\nClosing Night \n(360) 221-8268 \nBox Office Hours: Tuesday – Friday | 12:00 PM – 5:30 PM \nThe Art of the Score Concert\nJanuary 26th | 2:00 PM \nExperience the magic of cinema like never before at the Whidbey Island Film Festival! We’re thrilled to present the Art of the Score concert\, showcasing iconic music. Enjoy a captivating performance by the talented James Hinkley and some familiar faces\, bringing these beloved scores to life.\nDon’t miss this unforgettable event! \n 
URL:https://visitlangley.com/events/whidbey-island-film-festival-january-17-26/2025-01-17
LOCATION:Whidbey Island Center for the Arts\, Camano Avenue\, Langley\, WA\, 98260\, United States
CATEGORIES:Member Events
ATTACH;FMTTYPE=image/jpeg:https://visitlangley.com/wp-content/uploads/2025/01/Mockingbird.jpg
GEO:48.0343689;-122.4023281
X-APPLE-STRUCTURED-LOCATION;VALUE=URI;X-ADDRESS=Whidbey Island Center for the Arts Camano Avenue Langley WA 98260 United States;X-APPLE-RADIUS=500;X-TITLE=Camano Avenue:geo:-122.4023281,48.0343689
END:VEVENT
END:VCALENDAR