BEGIN:VCALENDAR
VERSION:2.0
PRODID:-//Langley Chamber of Commerce - ECPv6.15.20//NONSGML v1.0//EN
CALSCALE:GREGORIAN
METHOD:PUBLISH
X-WR-CALNAME:Langley Chamber of Commerce
X-ORIGINAL-URL:https://visitlangley.com
X-WR-CALDESC:Events for Langley Chamber of Commerce
REFRESH-INTERVAL;VALUE=DURATION:PT1H
X-Robots-Tag:noindex
X-PUBLISHED-TTL:PT1H
BEGIN:VTIMEZONE
TZID:America/Los_Angeles
BEGIN:DAYLIGHT
TZOFFSETFROM:-0800
TZOFFSETTO:-0700
TZNAME:PDT
DTSTART:20240310T100000
END:DAYLIGHT
BEGIN:STANDARD
TZOFFSETFROM:-0700
TZOFFSETTO:-0800
TZNAME:PST
DTSTART:20241103T090000
END:STANDARD
BEGIN:DAYLIGHT
TZOFFSETFROM:-0800
TZOFFSETTO:-0700
TZNAME:PDT
DTSTART:20250309T100000
END:DAYLIGHT
BEGIN:STANDARD
TZOFFSETFROM:-0700
TZOFFSETTO:-0800
TZNAME:PST
DTSTART:20251102T090000
END:STANDARD
BEGIN:DAYLIGHT
TZOFFSETFROM:-0800
TZOFFSETTO:-0700
TZNAME:PDT
DTSTART:20260308T100000
END:DAYLIGHT
BEGIN:STANDARD
TZOFFSETFROM:-0700
TZOFFSETTO:-0800
TZNAME:PST
DTSTART:20261101T090000
END:STANDARD
END:VTIMEZONE
BEGIN:VEVENT
DTSTART;TZID=America/Los_Angeles:20250110T173000
DTEND;TZID=America/Los_Angeles:20250110T193000
DTSTAMP:20260421T172130
CREATED:20241227T222029Z
LAST-MODIFIED:20241227T222029Z
UID:10001384-1736530200-1736537400@visitlangley.com
SUMMARY:Dancing Fish Presents Open Road
DESCRIPTION:Friday\, January 10\,  5:30 – 7:30 p.m.\nOpen Road is a Whidbey Island band delivering a compelling mix of original songs\, rhythmic covers\, and timeless folk ballads\, all performed with remarkable artistry and depth. Their sound blends woodwinds and electric guitar into a richly layered musical tapestry\, drawing inspiration from a diverse range of influences including folk\, blues\, rock\, and more.\nWith heartfelt lyrics that speak to today’s audiences\, they capture the spirit of the open road and the shared human journey. Whether performing upbeat rhythms or soulful ballads\, their music resonates with dynamic storytelling\, relatable themes\, and unforgettable melodies.\nThis event is by reservation only and includes a shared appetizer board served to your table. A portion of the $25 admission fee will go to Whidbey Island Nourishes (WIN).\nMAKE RESERVATIONS!\nhttps://dancingfishvineyards.orderport.net/wines/Events\nPlease be aware that due to limited seating capacity in the Dancing Fish Barn\, some patrons may be assigned to larger communal tables. Alternatively\, if you have friends who are also attending this event\, please let us know via text/phone (360-632-4190) or email (info@dancingfishvineyards.com) in advance of the performance so we can seat you at the same table.\nDancing Fish Vineyards
URL:https://visitlangley.com/events/dancing-fish-presents-open-road
CATEGORIES:Live Music,Member Events
ATTACH;FMTTYPE=image/jpeg:https://visitlangley.com/wp-content/uploads/2024/12/OpenRoad.jpg
END:VEVENT
BEGIN:VEVENT
DTSTART;TZID=America/Los_Angeles:20250110T173000
DTEND;TZID=America/Los_Angeles:20250110T193000
DTSTAMP:20260421T172130
CREATED:20250102T215138Z
LAST-MODIFIED:20250102T215138Z
UID:10001386-1736530200-1736537400@visitlangley.com
SUMMARY:Dancing Fish Presents Open Road
DESCRIPTION:Dancing Fish Presents Open Road \nFriday\, January 10. 5:30 – 7:30 p.m. \nOpen Road is a Whidbey Island band delivering a compelling mix of original songs\, rhythmic covers\, and timeless folk ballads\, all performed with remarkable artistry and depth. Their sound blends woodwinds and electric guitar into a richly layered musical tapestry\, drawing inspiration from a diverse range of influences including folk\, blues\, rock\, and more.\nWith heartfelt lyrics that speak to today’s audiences\, they capture the spirit of the open road and the shared human journey. Whether performing upbeat rhythms or soulful ballads\, their music resonates with dynamic storytelling\, relatable themes\, and unforgettable melodies.\nThis event is by reservation only and includes a shared appetizer board served to your table. A portion of the $25 admission fee will go to Whidbey Island Nourishes (WIN).\nMAKE RESERVATIONS!\nhttps://dancingfishvineyards.orderport.net/wines/Events\nPlease be aware that due to limited seating capacity in the Dancing Fish Barn\, some patrons may be assigned to larger communal tables. Alternatively\, if you have friends who are also attending this event\, please let us know via text/phone (360-632-4190) or email (info@dancingfishvineyards.com) in advance of the performance so we can seat you at the same table.
URL:https://visitlangley.com/events/dancing-fish-presents-open-road-2
LOCATION:Dancing Fish Vineyard\, 1953 Newman Road\, Freeland\, WA\, 98249
CATEGORIES:Live Music,Member Events
ATTACH;FMTTYPE=image/jpeg:https://visitlangley.com/wp-content/uploads/2025/01/OpenRoad.jpg
GEO:48.009537;-122.525983
X-APPLE-STRUCTURED-LOCATION;VALUE=URI;X-ADDRESS=Dancing Fish Vineyard 1953 Newman Road Freeland WA 98249;X-APPLE-RADIUS=500;X-TITLE=1953 Newman Road:geo:-122.525983,48.009537
END:VEVENT
END:VCALENDAR