BEGIN:VCALENDAR
VERSION:2.0
PRODID:-//Langley Chamber of Commerce - ECPv6.15.20//NONSGML v1.0//EN
CALSCALE:GREGORIAN
METHOD:PUBLISH
X-ORIGINAL-URL:https://visitlangley.com
X-WR-CALDESC:Events for Langley Chamber of Commerce
REFRESH-INTERVAL;VALUE=DURATION:PT1H
X-Robots-Tag:noindex
X-PUBLISHED-TTL:PT1H
BEGIN:VTIMEZONE
TZID:America/Los_Angeles
BEGIN:DAYLIGHT
TZOFFSETFROM:-0800
TZOFFSETTO:-0700
TZNAME:PDT
DTSTART:20240310T100000
END:DAYLIGHT
BEGIN:STANDARD
TZOFFSETFROM:-0700
TZOFFSETTO:-0800
TZNAME:PST
DTSTART:20241103T090000
END:STANDARD
BEGIN:DAYLIGHT
TZOFFSETFROM:-0800
TZOFFSETTO:-0700
TZNAME:PDT
DTSTART:20250309T100000
END:DAYLIGHT
BEGIN:STANDARD
TZOFFSETFROM:-0700
TZOFFSETTO:-0800
TZNAME:PST
DTSTART:20251102T090000
END:STANDARD
BEGIN:DAYLIGHT
TZOFFSETFROM:-0800
TZOFFSETTO:-0700
TZNAME:PDT
DTSTART:20260308T100000
END:DAYLIGHT
BEGIN:STANDARD
TZOFFSETFROM:-0700
TZOFFSETTO:-0800
TZNAME:PST
DTSTART:20261101T090000
END:STANDARD
END:VTIMEZONE
BEGIN:VEVENT
DTSTART;TZID=America/Los_Angeles:20250105T140000
DTEND;TZID=America/Los_Angeles:20250105T160000
DTSTAMP:20260421T180843
CREATED:20250102T215519Z
LAST-MODIFIED:20250102T215519Z
UID:10001387-1736085600-1736092800@visitlangley.com
SUMMARY:Cello / Piano with Gideon Freudmann and Sheila Weidendorf @ WICA
DESCRIPTION:Cello / Piano with Gideon Freudmann and Sheila Weidendorf\nSunday\, January 5\,  2 p.m. \nCelloPiano is a new collaboration between cellist Gideon Freudmann & pianist Sheila Weidendorf. We play both original and improvisational music while exploring the possibilities of our combined musical lexicons. This musical journey is replete with sweetness\, whimsy\, joy\, pathos\, and the possibility of surprise. We hope you enjoy the fruits of our collaboration as much as we are enjoying the process! (And stay tuned for news of our forthcoming debut CelloPiano recording!)About Us: \nGideon Freudmann began studying cello at age 8 and almost immediately tried his hand at composition. His early attempts were … ambitious. As he gained a grasp of fundamentals like time and key signatures\, voicing\, and harmony\, he expanded his solo cello forays to duets\, string ensembles\, and later pieces for ensembles including guitar\, ukulele\, mandolin\, steel drum\, and various western and world instruments. He has published a catalog of his string compositions and is excited to be writing and reworking pieces for cello and piano. Gideon has toured 4 continents\, recorded 25 albums\, scored several modern films\, and performed live soundtracks for classic silent films. \nSheila Weidendorf inherited an old Cable Wellington upright grand piano at about age 6 and simply started playing it\, exploring the sounds she heard from the stereo and her rural environment. She started studying in earnest at age 9. Significant injury derailed her studies and her career\, though she did earn her B.A. in Music from the University of Minnesota School of Music. After a 20 year hiatus from playing\, Music returned a few years ago. She now performs regularly with RASA 3 4 5 (her classical ensemble)\, Trio Improviso (an improvisational ensemble)\, and many musicians from around the globe. She has only performed on 2 continents (insert wink here!) is on two recording collaborations\, and just came out with her first solo album of improvisational keyboard meditations. Her Trio Improviso is working on their first album\, likely to be released in early 2025. \nWICA Star: $45 | Standard: $30 | Youth 18 and Under: Free
URL:https://visitlangley.com/events/cello-piano-with-gideon-freudmann-and-sheila-weidendorf-wica
LOCATION:Whidbey Island Center for the Arts\, Camano Avenue\, Langley\, WA\, 98260\, United States
CATEGORIES:Live Music,Member Events
ATTACH;FMTTYPE=image/jpeg:https://visitlangley.com/wp-content/uploads/2025/01/GideonFreudmanCello.jpg
GEO:48.0343689;-122.4023281
X-APPLE-STRUCTURED-LOCATION;VALUE=URI;X-ADDRESS=Whidbey Island Center for the Arts Camano Avenue Langley WA 98260 United States;X-APPLE-RADIUS=500;X-TITLE=Camano Avenue:geo:-122.4023281,48.0343689
END:VEVENT
END:VCALENDAR