BEGIN:VCALENDAR
VERSION:2.0
PRODID:-//Langley Chamber of Commerce - ECPv6.15.20//NONSGML v1.0//EN
CALSCALE:GREGORIAN
METHOD:PUBLISH
X-WR-CALNAME:Langley Chamber of Commerce
X-ORIGINAL-URL:https://visitlangley.com
X-WR-CALDESC:Events for Langley Chamber of Commerce
REFRESH-INTERVAL;VALUE=DURATION:PT1H
X-Robots-Tag:noindex
X-PUBLISHED-TTL:PT1H
BEGIN:VTIMEZONE
TZID:America/Los_Angeles
BEGIN:DAYLIGHT
TZOFFSETFROM:-0800
TZOFFSETTO:-0700
TZNAME:PDT
DTSTART:20230312T100000
END:DAYLIGHT
BEGIN:STANDARD
TZOFFSETFROM:-0700
TZOFFSETTO:-0800
TZNAME:PST
DTSTART:20231105T090000
END:STANDARD
BEGIN:DAYLIGHT
TZOFFSETFROM:-0800
TZOFFSETTO:-0700
TZNAME:PDT
DTSTART:20240310T100000
END:DAYLIGHT
BEGIN:STANDARD
TZOFFSETFROM:-0700
TZOFFSETTO:-0800
TZNAME:PST
DTSTART:20241103T090000
END:STANDARD
BEGIN:DAYLIGHT
TZOFFSETFROM:-0800
TZOFFSETTO:-0700
TZNAME:PDT
DTSTART:20250309T100000
END:DAYLIGHT
BEGIN:STANDARD
TZOFFSETFROM:-0700
TZOFFSETTO:-0800
TZNAME:PST
DTSTART:20251102T090000
END:STANDARD
END:VTIMEZONE
BEGIN:VEVENT
DTSTART;TZID=America/Los_Angeles:20241210T183000
DTEND;TZID=America/Los_Angeles:20241210T193000
DTSTAMP:20260425T033309
CREATED:20241127T212902Z
LAST-MODIFIED:20241213T234352Z
UID:10001350-1733855400-1733859000@visitlangley.com
SUMMARY:Weekly Trauma-Informed Yoga Nidra Class
DESCRIPTION:Yoga Nidra (or Yogic Sleep) gives my nervous system a break from worries or stresses\, helps me let go of whatever is weighing heavy on me\, and provides deep rest & restoration. It’s my go to for supporting my nervous system…and immune system.\nTrauma-Informed Yoga Nidra Class every Tuesday began November 12\, 6:30-7:30 p.m. in the Whidbey Island Yoga space in the Porter Building in Langley. \nNo experience necessary. If you can lie comfortably on the floor on a yoga mat with a pillow under your knees and covered in a blanket\, then you can do Yoga Nidra. \nWe’ll begin by breathing together and doing a few Vagus Nerve exercises before getting comfortable for Yogic Sleep. Bring your own mat & props to be supremely comfortable\, but there are a few at the studio to use if you don’t have any.\nThis class is donation based with a suggested donation of $15\, but $0 is required to attend. For more information or questions\, contact Vanessa at vanessa@mavenalchemy.com or text 512-934-1917. \n 
URL:https://visitlangley.com/events/weekly-trauma-informed-yoga-nidra-class/2024-12-10
LOCATION:Porter Building\, Anthes Avenue\, Langley\, 98260\, United States
CATEGORIES:Member Events
ATTACH;FMTTYPE=image/jpeg:https://visitlangley.com/wp-content/uploads/2024/12/MavenAlchemyHeadshot.jpg
ORGANIZER;CN="Maven Alchemy":MAILTO:Laurenmakesmusics@gmail.com
END:VEVENT
END:VCALENDAR