BEGIN:VCALENDAR
VERSION:2.0
PRODID:-//Langley Chamber of Commerce - ECPv6.15.20//NONSGML v1.0//EN
CALSCALE:GREGORIAN
METHOD:PUBLISH
X-ORIGINAL-URL:https://visitlangley.com
X-WR-CALDESC:Events for Langley Chamber of Commerce
REFRESH-INTERVAL;VALUE=DURATION:PT1H
X-Robots-Tag:noindex
X-PUBLISHED-TTL:PT1H
BEGIN:VTIMEZONE
TZID:America/Los_Angeles
BEGIN:DAYLIGHT
TZOFFSETFROM:-0800
TZOFFSETTO:-0700
TZNAME:PDT
DTSTART:20230312T100000
END:DAYLIGHT
BEGIN:STANDARD
TZOFFSETFROM:-0700
TZOFFSETTO:-0800
TZNAME:PST
DTSTART:20231105T090000
END:STANDARD
BEGIN:DAYLIGHT
TZOFFSETFROM:-0800
TZOFFSETTO:-0700
TZNAME:PDT
DTSTART:20240310T100000
END:DAYLIGHT
BEGIN:STANDARD
TZOFFSETFROM:-0700
TZOFFSETTO:-0800
TZNAME:PST
DTSTART:20241103T090000
END:STANDARD
BEGIN:DAYLIGHT
TZOFFSETFROM:-0800
TZOFFSETTO:-0700
TZNAME:PDT
DTSTART:20250309T100000
END:DAYLIGHT
BEGIN:STANDARD
TZOFFSETFROM:-0700
TZOFFSETTO:-0800
TZNAME:PST
DTSTART:20251102T090000
END:STANDARD
END:VTIMEZONE
BEGIN:VEVENT
DTSTART;TZID=America/Los_Angeles:20240518T100000
DTEND;TZID=America/Los_Angeles:20240518T113000
DTSTAMP:20260423T055025
CREATED:20240601T223510Z
LAST-MODIFIED:20240601T223510Z
UID:10000721-1716026400-1716031800@visitlangley.com
SUMMARY:Langley Walking Tour with Bob Waterman
DESCRIPTION:Join local South Whidbey historian\, Bob Waterman on one of his popular walking tours of Langley. Whether you’ve lived on South Whidbey your entire life\, are a new resident\, or just visiting\, Langley’s colorful history and stories about early residents come alive on this enjoyable walking tour. \nTours start at 10:00am and last for about two hours and begin at the South Whidbey Historical Museum located at 312 Second Street Langley\, WA 98260. Tours are limited to 10 participants and take place rain or shine. Comfortable walking shoes and a bottle of water are highly recommended. \nAll ticket sales benefit the South Whidbey Historical Society.
URL:https://visitlangley.com/events/langley-walking-tour-with-bob-waterman/2024-05-18
LOCATION:South Whidbey Historical Society\, 312 Second St\, Langley\, WA\, 98260
CATEGORIES:Community Events,Member Events
ATTACH;FMTTYPE=image/jpeg:https://visitlangley.com/wp-content/uploads/2024/06/south-whidbey-historical-society-walking-tour.jpg
ORGANIZER;CN="South Whidbey Historical Society":MAILTO:SWHMuseum@gmail.com
END:VEVENT
END:VCALENDAR