BEGIN:VCALENDAR
VERSION:2.0
PRODID:-//Langley Chamber of Commerce - ECPv6.15.20//NONSGML v1.0//EN
CALSCALE:GREGORIAN
METHOD:PUBLISH
X-ORIGINAL-URL:https://visitlangley.com
X-WR-CALDESC:Events for Langley Chamber of Commerce
REFRESH-INTERVAL;VALUE=DURATION:PT1H
X-Robots-Tag:noindex
X-PUBLISHED-TTL:PT1H
BEGIN:VTIMEZONE
TZID:America/Los_Angeles
BEGIN:DAYLIGHT
TZOFFSETFROM:-0800
TZOFFSETTO:-0700
TZNAME:PDT
DTSTART:20220313T100000
END:DAYLIGHT
BEGIN:STANDARD
TZOFFSETFROM:-0700
TZOFFSETTO:-0800
TZNAME:PST
DTSTART:20221106T090000
END:STANDARD
BEGIN:DAYLIGHT
TZOFFSETFROM:-0800
TZOFFSETTO:-0700
TZNAME:PDT
DTSTART:20230312T100000
END:DAYLIGHT
BEGIN:STANDARD
TZOFFSETFROM:-0700
TZOFFSETTO:-0800
TZNAME:PST
DTSTART:20231105T090000
END:STANDARD
BEGIN:DAYLIGHT
TZOFFSETFROM:-0800
TZOFFSETTO:-0700
TZNAME:PDT
DTSTART:20240310T100000
END:DAYLIGHT
BEGIN:STANDARD
TZOFFSETFROM:-0700
TZOFFSETTO:-0800
TZNAME:PST
DTSTART:20241103T090000
END:STANDARD
END:VTIMEZONE
BEGIN:VEVENT
DTSTART;TZID=America/Los_Angeles:20231231T193000
DTEND;TZID=America/Los_Angeles:20231231T213000
DTSTAMP:20260421T000344
CREATED:20231122T043328Z
LAST-MODIFIED:20241031T041856Z
UID:10000357-1704051000-1704058200@visitlangley.com
SUMMARY:Seattle International Comedy New Year’s Eve Show
DESCRIPTION:The best of the best stand-up comics from the annual comedy competition come back for a night of laughter and hilarity as they finish the year with a punchline! In what has become a regular event on New Year’s Eve at WICA\, this stand up comedy show is sure to leave you walking away with a smile on your face.
URL:https://visitlangley.com/events/seattle-international-comedy-new-years-eve-show
LOCATION:Whidbey Island Center for the Arts\, Langley\, 98260\, United States
CATEGORIES:Holiday by the Sea,Member Events
ATTACH;FMTTYPE=image/jpeg:https://visitlangley.com/wp-content/uploads/2023/11/SeattleComedy_Banner.jpg
GEO:48.0362993;-122.4039713
END:VEVENT
END:VCALENDAR