BEGIN:VCALENDAR
VERSION:2.0
PRODID:-//Langley Chamber of Commerce - ECPv6.15.20//NONSGML v1.0//EN
CALSCALE:GREGORIAN
METHOD:PUBLISH
X-WR-CALNAME:Langley Chamber of Commerce
X-ORIGINAL-URL:https://visitlangley.com
X-WR-CALDESC:Events for Langley Chamber of Commerce
REFRESH-INTERVAL;VALUE=DURATION:PT1H
X-Robots-Tag:noindex
X-PUBLISHED-TTL:PT1H
BEGIN:VTIMEZONE
TZID:America/Los_Angeles
BEGIN:DAYLIGHT
TZOFFSETFROM:-0800
TZOFFSETTO:-0700
TZNAME:PDT
DTSTART:20220313T100000
END:DAYLIGHT
BEGIN:STANDARD
TZOFFSETFROM:-0700
TZOFFSETTO:-0800
TZNAME:PST
DTSTART:20221106T090000
END:STANDARD
BEGIN:DAYLIGHT
TZOFFSETFROM:-0800
TZOFFSETTO:-0700
TZNAME:PDT
DTSTART:20230312T100000
END:DAYLIGHT
BEGIN:STANDARD
TZOFFSETFROM:-0700
TZOFFSETTO:-0800
TZNAME:PST
DTSTART:20231105T090000
END:STANDARD
BEGIN:DAYLIGHT
TZOFFSETFROM:-0800
TZOFFSETTO:-0700
TZNAME:PDT
DTSTART:20240310T100000
END:DAYLIGHT
BEGIN:STANDARD
TZOFFSETFROM:-0700
TZOFFSETTO:-0800
TZNAME:PST
DTSTART:20241103T090000
END:STANDARD
END:VTIMEZONE
BEGIN:VEVENT
DTSTART;TZID=America/Los_Angeles:20231221T160000
DTEND;TZID=America/Los_Angeles:20231221T210000
DTSTAMP:20260423T104253
CREATED:20231122T043327Z
LAST-MODIFIED:20231122T052805Z
UID:10000355-1703174400-1703192400@visitlangley.com
SUMMARY:Winter Solstice Party
DESCRIPTION:
URL:https://visitlangley.com/events/winter-solstice-party
CATEGORIES:Holiday by the Sea
ATTACH;FMTTYPE=image/jpeg:https://visitlangley.com/wp-content/uploads/2023/11/Hogwarts-Solstice-e1700627999203.jpeg
END:VEVENT
BEGIN:VEVENT
DTSTART;TZID=America/Los_Angeles:20231221T193000
DTEND;TZID=America/Los_Angeles:20231221T220000
DTSTAMP:20260423T104253
CREATED:20231205T225110Z
LAST-MODIFIED:20241031T041909Z
UID:10000386-1703187000-1703196000@visitlangley.com
SUMMARY:Solstice Under the WICA Star!
DESCRIPTION:A Concert of Winter music featuring vocalist Ada Faith-Feyma\, with special guests\, Trio Improviso:  Linda Vogt\, Violin; Andre Feriante\, Guitar and Sheila Weidendorf\, Piano \nCelebrate the season with music and starshine on the WICA mainstage. \nTickets:\nWICA Star: $45\nStandard: $30\nby request to box office: $20 \nWhidbey Island Center for the Arts\n565 Camano Avenue\, Langley\nwww.wicaonline.org
URL:https://visitlangley.com/events/solstice-under-the-wica-star
CATEGORIES:Holiday by the Sea,Member Events
ATTACH;FMTTYPE=image/jpeg:https://visitlangley.com/wp-content/uploads/2023/12/wicasolstice.jpg
END:VEVENT
END:VCALENDAR