BEGIN:VCALENDAR
VERSION:2.0
PRODID:-//Langley Chamber of Commerce - ECPv6.15.20//NONSGML v1.0//EN
CALSCALE:GREGORIAN
METHOD:PUBLISH
X-WR-CALNAME:Langley Chamber of Commerce
X-ORIGINAL-URL:https://visitlangley.com
X-WR-CALDESC:Events for Langley Chamber of Commerce
REFRESH-INTERVAL;VALUE=DURATION:PT1H
X-Robots-Tag:noindex
X-PUBLISHED-TTL:PT1H
BEGIN:VTIMEZONE
TZID:America/Los_Angeles
BEGIN:DAYLIGHT
TZOFFSETFROM:-0800
TZOFFSETTO:-0700
TZNAME:PDT
DTSTART:20220313T100000
END:DAYLIGHT
BEGIN:STANDARD
TZOFFSETFROM:-0700
TZOFFSETTO:-0800
TZNAME:PST
DTSTART:20221106T090000
END:STANDARD
BEGIN:DAYLIGHT
TZOFFSETFROM:-0800
TZOFFSETTO:-0700
TZNAME:PDT
DTSTART:20230312T100000
END:DAYLIGHT
BEGIN:STANDARD
TZOFFSETFROM:-0700
TZOFFSETTO:-0800
TZNAME:PST
DTSTART:20231105T090000
END:STANDARD
BEGIN:DAYLIGHT
TZOFFSETFROM:-0800
TZOFFSETTO:-0700
TZNAME:PDT
DTSTART:20240310T100000
END:DAYLIGHT
BEGIN:STANDARD
TZOFFSETFROM:-0700
TZOFFSETTO:-0800
TZNAME:PST
DTSTART:20241103T090000
END:STANDARD
END:VTIMEZONE
BEGIN:VEVENT
DTSTART;TZID=America/Los_Angeles:20231220T193000
DTEND;TZID=America/Los_Angeles:20231220T210000
DTSTAMP:20260425T033242
CREATED:20231122T043252Z
LAST-MODIFIED:20241031T041942Z
UID:10000361-1703100600-1703106000@visitlangley.com
SUMMARY:Falstaff in Love\, WICA Theater Series
DESCRIPTION:Sir John Falstaff—a lazy\, gluttonous\, boastful\, selfish\, lying\, debauched old knight—is universally beloved as one of William Shakespeare’s greatest creations. But how did Falstaff get to be Falstaff? What was he like as a young man? How did he become a knight? How did he meet young Prince Hal? And most importantly\, was he ever truly in love? Find out in this hilarious prequel to the Shakespeare’s Henry IV plays\, commissioned by the highly respected Oregon Shakespeare Festival and premiering in full production at Whidbey Island Center for the Arts just in time for the holidays.
URL:https://visitlangley.com/events/falstaff-in-love-wica-theater-series/2023-12-20
LOCATION:Whidbey Island Center for the Arts\, Langley\, 98260\, United States
CATEGORIES:Holiday by the Sea,Member Events
ATTACH;FMTTYPE=image/jpeg:https://visitlangley.com/wp-content/uploads/2023/11/Falstaff_Banner.jpg
GEO:48.0362993;-122.4039713
END:VEVENT
END:VCALENDAR