BEGIN:VCALENDAR
VERSION:2.0
PRODID:-//Langley Chamber of Commerce - ECPv6.15.20//NONSGML v1.0//EN
CALSCALE:GREGORIAN
METHOD:PUBLISH
X-WR-CALNAME:Langley Chamber of Commerce
X-ORIGINAL-URL:https://visitlangley.com
X-WR-CALDESC:Events for Langley Chamber of Commerce
REFRESH-INTERVAL;VALUE=DURATION:PT1H
X-Robots-Tag:noindex
X-PUBLISHED-TTL:PT1H
BEGIN:VTIMEZONE
TZID:America/Los_Angeles
BEGIN:DAYLIGHT
TZOFFSETFROM:-0800
TZOFFSETTO:-0700
TZNAME:PDT
DTSTART:20220313T100000
END:DAYLIGHT
BEGIN:STANDARD
TZOFFSETFROM:-0700
TZOFFSETTO:-0800
TZNAME:PST
DTSTART:20221106T090000
END:STANDARD
BEGIN:DAYLIGHT
TZOFFSETFROM:-0800
TZOFFSETTO:-0700
TZNAME:PDT
DTSTART:20230312T100000
END:DAYLIGHT
BEGIN:STANDARD
TZOFFSETFROM:-0700
TZOFFSETTO:-0800
TZNAME:PST
DTSTART:20231105T090000
END:STANDARD
BEGIN:DAYLIGHT
TZOFFSETFROM:-0800
TZOFFSETTO:-0700
TZNAME:PDT
DTSTART:20240310T100000
END:DAYLIGHT
BEGIN:STANDARD
TZOFFSETFROM:-0700
TZOFFSETTO:-0800
TZNAME:PST
DTSTART:20241103T090000
END:STANDARD
END:VTIMEZONE
BEGIN:VEVENT
DTSTART;VALUE=DATE:20231117
DTEND;VALUE=DATE:20231219
DTSTAMP:20260422T144520
CREATED:20231121T221844Z
LAST-MODIFIED:20241112T205319Z
UID:10000014-1700200800-1702879199@visitlangley.com
SUMMARY:Holiday Ginger Bread Challenge
DESCRIPTION:Holiday Gingerbread Challenge Accepting Entries \nNov. 22th – December 17th @ 11 a.m. is the LAST CHANCE to Deliver your entry to Coupeville Library \nOfficial Judging Saturday\, Dec. 17th \nWinners Announced Sunday\,Dec.18th (At1p.m.) \nAt Island Cost Museum in conjunction with Red Ticket Drawing \nLast Day to Pick-up Saturday\, Dec. 31st At Coupeville Library 788 NW Alexander St. (360) 678-4911
URL:https://visitlangley.com/events/holiday-ginger-bread-challenge
LOCATION:Coupville Library\, 788 NW Alexander St\, Coupeville\, 98239\, United States
CATEGORIES:Holiday by the Sea
ATTACH;FMTTYPE=image/jpeg:https://visitlangley.com/wp-content/uploads/2023/11/gingerbread.jpeg
GEO:48.2193433;-122.688477
X-APPLE-STRUCTURED-LOCATION;VALUE=URI;X-ADDRESS=Coupville Library 788 NW Alexander St Coupeville 98239 United States;X-APPLE-RADIUS=500;X-TITLE=788 NW Alexander St:geo:-122.688477,48.2193433
END:VEVENT
BEGIN:VEVENT
DTSTART;VALUE=DATE:20231122
DTEND;VALUE=DATE:20231219
DTSTAMP:20260422T144520
CREATED:20231122T043327Z
LAST-MODIFIED:20241030T193129Z
UID:10000354-1700632800-1702879199@visitlangley.com
SUMMARY:Red Ticket Raffle Drawing
DESCRIPTION:During the holiday season\, keep it local by shopping at participating merchants. Earn tickets for every $20 you spend for a chance to win big at the annual Red Ticket Drawing!
URL:https://visitlangley.com/events/red-ticket-raffle-drawing
ATTACH;FMTTYPE=image/jpeg:https://visitlangley.com/wp-content/uploads/2023/11/How-Should-I-Distribute-My-Raffle-Tickets-ftr.jpg
END:VEVENT
BEGIN:VEVENT
DTSTART;TZID=America/Los_Angeles:20231210T100000
DTEND;TZID=America/Los_Angeles:20231210T160000
DTSTAMP:20260422T144520
CREATED:20231205T221940Z
LAST-MODIFIED:20231205T221940Z
UID:10000377-1702202400-1702224000@visitlangley.com
SUMMARY:Model Trains at Cascadia Meadows
DESCRIPTION:Cascadia Meadows at the Little Brown Church proudly presents its 2nd Annual Holiday Model Train Exhibition the first two weekends in December!\nDecember 2\, 3\, 9 & 10\, 10 a.m. – 4 p.m. \nTrain operations provided by PNW On30 Modular Group. \nAlso included this year are Sarah Santosa’s 1/12th scale Christmas Dollhouse Miniatures as seen on HGTV’s The Biggest Little Christmas Showdown\, around the City of Langley\, and on @ https://www.instagram.com/little.big.ballydidean/ on Instagram.\nThis event is also a fundraiser for Good Cheer Food Bank. \nAll visitors are invited to consider bringing a cash or food donation for local families. Good Cheer has expressed a need for hearty soups\, stews\, and chilis. \nAlso\, Santa will be here on Sunday\, December 10\, 10 a.m.- 4 pm.. \nAll are welcome\, and we hope to see you there!
URL:https://visitlangley.com/events/model-trains-at-cascadia-meadows/2023-12-10
LOCATION:Cascadia Meadows at The Little Brown Church\, 7041 Maxwelton Rd.\, Clinton\, 98263\, United States
CATEGORIES:Holiday by the Sea
ATTACH;FMTTYPE=image/jpeg:https://visitlangley.com/wp-content/uploads/2023/12/model-train.jpg
GEO:47.9543542;-122.4376282
X-APPLE-STRUCTURED-LOCATION;VALUE=URI;X-ADDRESS=Cascadia Meadows at The Little Brown Church 7041 Maxwelton Rd. Clinton 98263 United States;X-APPLE-RADIUS=500;X-TITLE=7041 Maxwelton Rd.:geo:-122.4376282,47.9543542
END:VEVENT
BEGIN:VEVENT
DTSTART;TZID=America/Los_Angeles:20231210T140000
DTEND;TZID=America/Los_Angeles:20231210T153000
DTSTAMP:20260422T144520
CREATED:20231205T223738Z
LAST-MODIFIED:20231205T223738Z
UID:10000381-1702216800-1702222200@visitlangley.com
SUMMARY:Whidbey Children's Theater Presents Rudolph the Red Nosed Reindeer
DESCRIPTION:On a very special Christmas eve\, a young reindeer – laughed at for his looks and unsure of whether he’ll ever fit in – runs away from home desperate to find a place where he’ll be accepted for who he is. Like in any good adventure\, Rudolph meets and is accompanied by another misfit\, Hermey the hopeful dentist. Together they encounter fearful frights and moments of revelation. Eventually their journey brings them back home\, where they discover that not only were they missed but are\, indeed\, needed – quirks and all – to save the day. \nPerformances:\nFriday\, Saturday December 8\, 9 @ 7 p.m.\nSunday\, December 10 @ 2 p.m.
URL:https://visitlangley.com/events/whidbey-childrens-theater-presents-rudolph-the-red-nosed-reindeer/2023-12-10
LOCATION:Whidbey Children’s Theater\, 723 Camano Avenue\, Langley\, WA\, 98260\, United States
CATEGORIES:Seasonal Events
ATTACH;FMTTYPE=image/jpeg:https://visitlangley.com/wp-content/uploads/2023/12/86479c4a-712e-3ee8-b1d2-fdde2c69e301.jpg
GEO:48.0354233;-122.4030475
X-APPLE-STRUCTURED-LOCATION;VALUE=URI;X-ADDRESS=Whidbey Children’s Theater 723 Camano Avenue Langley WA 98260 United States;X-APPLE-RADIUS=500;X-TITLE=723 Camano Avenue:geo:-122.4030475,48.0354233
END:VEVENT
BEGIN:VEVENT
DTSTART;TZID=America/Los_Angeles:20231210T140000
DTEND;TZID=America/Los_Angeles:20231210T170000
DTSTAMP:20260422T144520
CREATED:20231122T043252Z
LAST-MODIFIED:20231124T202942Z
UID:10000366-1702216800-1702227600@visitlangley.com
SUMMARY:The Nutcracker – Whidbey Island Dance Theater
DESCRIPTION:Whidbey Island Dance Theater presents The Nutcracker\, which will run Friday\, December 8 through Sunday\, December. 17 this year at South Whidbey High School Performing Arts Center\, 5675 Maxwelton Rd. in Langley.
URL:https://visitlangley.com/events/the-nutcracker-whidbey-island-dance-theater/2023-12-10
LOCATION:South Whidbey High School\, Maxwelton Road\, Langley\, WA\, 98260\, United States
CATEGORIES:Holiday by the Sea
ATTACH;FMTTYPE=image/jpeg:https://visitlangley.com/wp-content/uploads/2023/11/Clipboard02.jpg
GEO:48.0110092;-122.4101367
X-APPLE-STRUCTURED-LOCATION;VALUE=URI;X-ADDRESS=South Whidbey High School Maxwelton Road Langley WA 98260 United States;X-APPLE-RADIUS=500;X-TITLE=Maxwelton Road:geo:-122.4101367,48.0110092
END:VEVENT
BEGIN:VEVENT
DTSTART;TZID=America/Los_Angeles:20231210T150000
DTEND;TZID=America/Los_Angeles:20231210T170000
DTSTAMP:20260422T144520
CREATED:20231122T043310Z
LAST-MODIFIED:20241030T193138Z
UID:10000358-1702220400-1702227600@visitlangley.com
SUMMARY:A Celtic Christmas with the Beggar Boys
DESCRIPTION:Warm up your holiday season as The Beggar Boys bring traditional Christmas music from Ireland\, Scotland\, and Wales to the Pacific Northwest. The ethereal voice of Abigail Lennox blends with fiddles\, whistle\, and guitar to create the Beggar Boys’ signature blend of traditional songs and tunes and powerful originals.. This festive program will also feature Larry Young’s dramatic storytelling and live Irish step dancing – a perfect family holiday treat. \nSt. Augustine’s in the Woods\, Freeland WA
URL:https://visitlangley.com/events/a-celtic-christmas-with-the-beggar-boys/2023-12-10
ATTACH;FMTTYPE=image/jpeg:https://visitlangley.com/wp-content/uploads/2023/11/https___cdn.evbuc_.com_images_611103229_463001547462_1_original.jpg
END:VEVENT
BEGIN:VEVENT
DTSTART;TZID=America/Los_Angeles:20231210T160000
DTEND;TZID=America/Los_Angeles:20231210T170000
DTSTAMP:20260422T144520
CREATED:20231205T224713Z
LAST-MODIFIED:20231205T224713Z
UID:10000384-1702224000-1702227600@visitlangley.com
SUMMARY:The Blue Danube Series: The Waters Project
DESCRIPTION:The Blue Danube Series: The Waters is a unique interdisciplinary art collaboration that is the brainchild of Alexandra Steiner to create awareness about the importance of water in our lives. The project brings together the talents of two accomplished artists\, Brooke Lizotte\, an American composer and musician\, and Alexandra Steiner\, an Evolution and Environment Biologist\, and Artist from Austria. The project combines Steiner’s stunning water paintings with Lizotte’s beautiful musical compositions to create a powerful audio-visual experience that explores the different phases of water and the impact of human intervention on our world’s water resources. \nThe Blue Danube Series: The Waters is not just a passive art installation. It is an immersive audiovisual experience that invites the audience to explore the different facets of water. The performance takes the audience on a journey through the different phases of water\, from mist to ice to the power of tidal waves\, and ends with the fury of wildfires. The paintings and music work together to create a meditative environment that allows the audience to fully immerse themselves in the nature of water.
URL:https://visitlangley.com/events/the-blue-danube-series-the-waters-project
LOCATION:OutCast Black Box Theater\, 819 Camano Avenue\, Langley\, WA\, 98260\, United States
ATTACH;FMTTYPE=image/jpeg:https://visitlangley.com/wp-content/uploads/2023/12/water.jpg
GEO:48.0328083;-122.4021093
X-APPLE-STRUCTURED-LOCATION;VALUE=URI;X-ADDRESS=OutCast Black Box Theater 819 Camano Avenue Langley WA 98260 United States;X-APPLE-RADIUS=500;X-TITLE=819 Camano Avenue:geo:-122.4021093,48.0328083
END:VEVENT
BEGIN:VEVENT
DTSTART;TZID=America/Los_Angeles:20231210T160000
DTEND;TZID=America/Los_Angeles:20231210T190000
DTSTAMP:20260422T144520
CREATED:20231122T043309Z
LAST-MODIFIED:20231124T202356Z
UID:10000350-1702224000-1702234800@visitlangley.com
SUMMARY:Light up your Holidays at Fort Casey
DESCRIPTION:Event Date: December 9\,  4 – 7 p.m.\n\nEvent location: Fort Casey State Park\n\n\n\n\n\n\n\n\n\n\n\n\n\nJoin us as we light up the Admiralty Head Lighthouse at Fort Casey State Park!\nBring your family and friends to roast marshmallows\, listen to holiday music and get your picture taken with Santa. There will be children’s activities and a scavenger hunt. This is a family-friendly fun and free event.
URL:https://visitlangley.com/events/light-up-your-holidays-at-fort-casey
LOCATION:Fort Casey\, Fort Casey State Park\, Coupeville\, United States
CATEGORIES:Holiday by the Sea
ATTACH;FMTTYPE=image/jpeg:https://visitlangley.com/wp-content/uploads/2023/11/AdmiraltyHeadLighthouseHoliday.jpg
GEO:48.2198208;-122.6862804
X-APPLE-STRUCTURED-LOCATION;VALUE=URI;X-ADDRESS=Fort Casey Fort Casey State Park Coupeville United States;X-APPLE-RADIUS=500;X-TITLE=Fort Casey State Park:geo:-122.6862804,48.2198208
END:VEVENT
BEGIN:VEVENT
DTSTART;TZID=America/Los_Angeles:20231210T170000
DTEND;TZID=America/Los_Angeles:20231210T190000
DTSTAMP:20260422T144520
CREATED:20231205T224315Z
LAST-MODIFIED:20241030T193120Z
UID:10000383-1702227600-1702234800@visitlangley.com
SUMMARY:Charcuterie Fundraiser for Habitat for Humanity @ Dancing Fish
DESCRIPTION:Join us this holiday season as Habitat for Humanity of Island County partners with Shaycuterie and special charcuterie classes offer you the opportunity to learn the art of creating stunning charcuterie boards\, just in time for festive gatherings and celebrations. \nExperience the joy of crafting beautifully arranged platters filled with an array of delectable cheeses\, cured meats\, fresh fruits\, and artisanal accompaniments. But there’s more to these classes than just culinary delight; your participation directly contributes to building homes and hope for families in need. \nBy joining our charcuterie classes\, you’ll not only hone your skills in the fine art of charcuterie board assembly but also make a meaningful impact on the lives of others. This holiday season\, let’s come together\, savor the spirit of giving\, and help Habitat for Humanity of Island County create brighter futures one board at a time. Join us for a heartwarming and palate-pleasing experience that truly embodies Dancing Fish Winery as we present an exciting and delicious way to give back to the community. \nDecember 10\, 5-7 p.m.\n$80 – $130 \nDancing Fish Vineyards\nNewman Road\, Freeland\nwww.dancingfishvineyards.com
URL:https://visitlangley.com/events/charcuterie-fundraiser-for-habitat-for-humanity-dancing-fish
LOCATION:Dancing Fish Vineyards\, 1953 Newman Rd\, Freeland\, WA\, 98249
CATEGORIES:Member Events
ATTACH;FMTTYPE=image/jpeg:https://visitlangley.com/wp-content/uploads/2023/12/shark-cuterie.jpg
GEO:48.014584;-122.511135
X-APPLE-STRUCTURED-LOCATION;VALUE=URI;X-ADDRESS=Dancing Fish Vineyards 1953 Newman Rd Freeland WA 98249;X-APPLE-RADIUS=500;X-TITLE=1953 Newman Rd:geo:-122.511135,48.014584
END:VEVENT
END:VCALENDAR