BEGIN:VCALENDAR
VERSION:2.0
PRODID:-//Langley Chamber of Commerce - ECPv6.15.20//NONSGML v1.0//EN
CALSCALE:GREGORIAN
METHOD:PUBLISH
X-WR-CALNAME:Langley Chamber of Commerce
X-ORIGINAL-URL:https://visitlangley.com
X-WR-CALDESC:Events for Langley Chamber of Commerce
REFRESH-INTERVAL;VALUE=DURATION:PT1H
X-Robots-Tag:noindex
X-PUBLISHED-TTL:PT1H
BEGIN:VTIMEZONE
TZID:America/Los_Angeles
BEGIN:DAYLIGHT
TZOFFSETFROM:-0800
TZOFFSETTO:-0700
TZNAME:PDT
DTSTART:20220313T100000
END:DAYLIGHT
BEGIN:STANDARD
TZOFFSETFROM:-0700
TZOFFSETTO:-0800
TZNAME:PST
DTSTART:20221106T090000
END:STANDARD
BEGIN:DAYLIGHT
TZOFFSETFROM:-0800
TZOFFSETTO:-0700
TZNAME:PDT
DTSTART:20230312T100000
END:DAYLIGHT
BEGIN:STANDARD
TZOFFSETFROM:-0700
TZOFFSETTO:-0800
TZNAME:PST
DTSTART:20231105T090000
END:STANDARD
BEGIN:DAYLIGHT
TZOFFSETFROM:-0800
TZOFFSETTO:-0700
TZNAME:PDT
DTSTART:20240310T100000
END:DAYLIGHT
BEGIN:STANDARD
TZOFFSETFROM:-0700
TZOFFSETTO:-0800
TZNAME:PST
DTSTART:20241103T090000
END:STANDARD
END:VTIMEZONE
BEGIN:VEVENT
DTSTART;VALUE=DATE:20231117
DTEND;VALUE=DATE:20231219
DTSTAMP:20260421T191032
CREATED:20231121T221844Z
LAST-MODIFIED:20241112T205319Z
UID:10000014-1700200800-1702879199@visitlangley.com
SUMMARY:Holiday Ginger Bread Challenge
DESCRIPTION:Holiday Gingerbread Challenge Accepting Entries \nNov. 22th – December 17th @ 11 a.m. is the LAST CHANCE to Deliver your entry to Coupeville Library \nOfficial Judging Saturday\, Dec. 17th \nWinners Announced Sunday\,Dec.18th (At1p.m.) \nAt Island Cost Museum in conjunction with Red Ticket Drawing \nLast Day to Pick-up Saturday\, Dec. 31st At Coupeville Library 788 NW Alexander St. (360) 678-4911
URL:https://visitlangley.com/events/holiday-ginger-bread-challenge
LOCATION:Coupville Library\, 788 NW Alexander St\, Coupeville\, 98239\, United States
CATEGORIES:Holiday by the Sea
ATTACH;FMTTYPE=image/jpeg:https://visitlangley.com/wp-content/uploads/2023/11/gingerbread.jpeg
GEO:48.2193433;-122.688477
X-APPLE-STRUCTURED-LOCATION;VALUE=URI;X-ADDRESS=Coupville Library 788 NW Alexander St Coupeville 98239 United States;X-APPLE-RADIUS=500;X-TITLE=788 NW Alexander St:geo:-122.688477,48.2193433
END:VEVENT
BEGIN:VEVENT
DTSTART;VALUE=DATE:20231122
DTEND;VALUE=DATE:20231219
DTSTAMP:20260421T191032
CREATED:20231122T043327Z
LAST-MODIFIED:20241030T193129Z
UID:10000354-1700632800-1702879199@visitlangley.com
SUMMARY:Red Ticket Raffle Drawing
DESCRIPTION:During the holiday season\, keep it local by shopping at participating merchants. Earn tickets for every $20 you spend for a chance to win big at the annual Red Ticket Drawing!
URL:https://visitlangley.com/events/red-ticket-raffle-drawing
ATTACH;FMTTYPE=image/jpeg:https://visitlangley.com/wp-content/uploads/2023/11/How-Should-I-Distribute-My-Raffle-Tickets-ftr.jpg
END:VEVENT
BEGIN:VEVENT
DTSTART;TZID=America/Los_Angeles:20231203T090000
DTEND;TZID=America/Los_Angeles:20231205T160000
DTSTAMP:20260421T191032
CREATED:20231121T230808Z
LAST-MODIFIED:20231122T061049Z
UID:10000020-1701594000-1701792000@visitlangley.com
SUMMARY:Country Christmas at the Fair
DESCRIPTION:Shop this unique holiday boutique of handcrafted gifts\, art\, and collectibles from local artists and vendors.
URL:https://visitlangley.com/events/country-christmas-at-the-fair/2023-12-03
LOCATION:Whidbey Island Fairgrounds and Events Center\, Fair Grounds & Event Center\, Langley\, Wa\, 98260
CATEGORIES:Holiday by the Sea
ATTACH;FMTTYPE=image/jpeg:https://visitlangley.com/wp-content/uploads/2023/11/251782233_4816510828381214_8716769855196674132_n.jpg
GEO:48.0318432;-122.4026331
X-APPLE-STRUCTURED-LOCATION;VALUE=URI;X-ADDRESS=Whidbey Island Fairgrounds and Events Center Fair Grounds & Event Center Langley Wa 98260;X-APPLE-RADIUS=500;X-TITLE=Fair Grounds & Event Center:geo:-122.4026331,48.0318432
END:VEVENT
BEGIN:VEVENT
DTSTART;TZID=America/Los_Angeles:20231205T080000
DTEND;TZID=America/Los_Angeles:20231205T170000
DTSTAMP:20260421T191032
CREATED:20231205T230316Z
LAST-MODIFIED:20241030T193452Z
UID:10000390-1701763200-1701795600@visitlangley.com
SUMMARY:Seabiscuit Bakery & Company Holiday Market in the Woods
DESCRIPTION:Wander into the woods on Sunday\, December 17th for our 2nd annual Seabiscuit Bakery & Co Holiday Market! Sip on warm beverages\, nosh on savory bites and Seabiscuit sweets and shop one-of-a-kind gifts from local makers.\nBrowse a curated selection of jewelry\, gifts made with repurposed materials\, woodwork\, tea\, hand-forged knives\, pottery\, soaps\, candles\, textiles\, leather craft\, food\, cider\, mead and much\, much more – all from amazing local artists\, makers and producers!\nMark your calendars for our magical Holiday Market in the Woods\nand click through the link below for more info and to RSVP:\nwww.seabiscuitbakery.com/upcoming-events/#HolidayMarket \nSeabiscuit Bakery\n3228 Lake Leo Way\, Langley\n360-321-2290
URL:https://visitlangley.com/events/seabiscuit-bakery-company-holiday-market-in-the-woods
LOCATION:Seabiscuit Bakery\, 3228 Lake Leo Way\, Langley\, 98263\, United States
ATTACH;FMTTYPE=image/jpeg:https://visitlangley.com/wp-content/uploads/2023/12/tree.jpg
GEO:48.0164042;-122.4394519
X-APPLE-STRUCTURED-LOCATION;VALUE=URI;X-ADDRESS=Seabiscuit Bakery 3228 Lake Leo Way Langley 98263 United States;X-APPLE-RADIUS=500;X-TITLE=3228 Lake Leo Way:geo:-122.4394519,48.0164042
END:VEVENT
END:VCALENDAR