BEGIN:VCALENDAR
VERSION:2.0
PRODID:-//Langley Chamber of Commerce - ECPv6.15.20//NONSGML v1.0//EN
CALSCALE:GREGORIAN
METHOD:PUBLISH
X-ORIGINAL-URL:https://visitlangley.com
X-WR-CALDESC:Events for Langley Chamber of Commerce
REFRESH-INTERVAL;VALUE=DURATION:PT1H
X-Robots-Tag:noindex
X-PUBLISHED-TTL:PT1H
BEGIN:VTIMEZONE
TZID:America/Los_Angeles
BEGIN:DAYLIGHT
TZOFFSETFROM:-0800
TZOFFSETTO:-0700
TZNAME:PDT
DTSTART:20220313T100000
END:DAYLIGHT
BEGIN:STANDARD
TZOFFSETFROM:-0700
TZOFFSETTO:-0800
TZNAME:PST
DTSTART:20221106T090000
END:STANDARD
BEGIN:DAYLIGHT
TZOFFSETFROM:-0800
TZOFFSETTO:-0700
TZNAME:PDT
DTSTART:20230312T100000
END:DAYLIGHT
BEGIN:STANDARD
TZOFFSETFROM:-0700
TZOFFSETTO:-0800
TZNAME:PST
DTSTART:20231105T090000
END:STANDARD
BEGIN:DAYLIGHT
TZOFFSETFROM:-0800
TZOFFSETTO:-0700
TZNAME:PDT
DTSTART:20240310T100000
END:DAYLIGHT
BEGIN:STANDARD
TZOFFSETFROM:-0700
TZOFFSETTO:-0800
TZNAME:PST
DTSTART:20241103T090000
END:STANDARD
BEGIN:DAYLIGHT
TZOFFSETFROM:-0800
TZOFFSETTO:-0700
TZNAME:PDT
DTSTART:20250309T100000
END:DAYLIGHT
BEGIN:STANDARD
TZOFFSETFROM:-0700
TZOFFSETTO:-0800
TZNAME:PST
DTSTART:20251102T090000
END:STANDARD
BEGIN:DAYLIGHT
TZOFFSETFROM:-0800
TZOFFSETTO:-0700
TZNAME:PDT
DTSTART:20260308T100000
END:DAYLIGHT
BEGIN:STANDARD
TZOFFSETFROM:-0700
TZOFFSETTO:-0800
TZNAME:PST
DTSTART:20261101T090000
END:STANDARD
END:VTIMEZONE
BEGIN:VEVENT
DTSTART;TZID=America/Los_Angeles:20251109T130000
DTEND;TZID=America/Los_Angeles:20251109T160000
DTSTAMP:20260421T195746
CREATED:20251024T203932Z
LAST-MODIFIED:20251024T203932Z
UID:10002238-1762693200-1762704000@visitlangley.com
SUMMARY:Free Event: Thelma Screening & Elder‑Fraud Q&A
DESCRIPTION:Free Event: Thelma Screening & Elder‑Fraud Q&A \nIsland Senior Resources and The Clyde Theater have paired up\nto create an afternoon of FREE entertainment and conversation. \nEnjoy the film ‘Thelma’\, a comedy-drama about a 93-year-old woman who exposes a scammer and sets out to reclaim what was taken from her. After the film\, join a community conversation with Jeremy Morris\, Asst. Attorney General for Medicare Fraud Control of WA State\, that will help you and your loved ones avoid the same harm. \nCan’t make it at 1p.m. for the movie?\nStop by at 2:30p.m. to join the community conversation. \nBring a neighbor and forward this to anyone who could benefit from this conversation.\nSeating is limited. First come\, first served. \nSunday\, November 9th  ~  1 – 4 p.m. \nThe Clyde Theater: 217 1st St. Langley \nIsland Senior Resources
URL:https://visitlangley.com/events/free-event-thelma-screening-elder%e2%80%91fraud-qa
LOCATION:The Clyde Theatre\, 217 First Street\, Langley\, WA\, 98260\, United States
CATEGORIES:Member Events
ATTACH;FMTTYPE=image/jpeg:https://visitlangley.com/wp-content/uploads/2025/10/ClydeThelma.jpg
GEO:48.0405782;-122.409049
X-APPLE-STRUCTURED-LOCATION;VALUE=URI;X-ADDRESS=The Clyde Theatre 217 First Street Langley WA 98260 United States;X-APPLE-RADIUS=500;X-TITLE=217 First Street:geo:-122.409049,48.0405782
END:VEVENT
BEGIN:VEVENT
DTSTART;TZID=America/Los_Angeles:20250604T080000
DTEND;TZID=America/Los_Angeles:20250604T170000
DTSTAMP:20260421T195746
CREATED:20250604T222655Z
LAST-MODIFIED:20250604T222655Z
UID:10001626-1749024000-1749056400@visitlangley.com
SUMMARY:Orcas: Life in Black & White
DESCRIPTION:A Sealife Productions Film by Florian Graner – held over for an additional showing after 3 sold out shows. \nLike the orca\, this movie is powerful and intense but also emotional and packed with details.\nLocal filmmaker and marine biologist Florian Graner takes you deep into the world of orcas. The film introduces orcas from around the world and focuses on two coexisting orca cultures right here in the Salish Sea. \nThe differences between resident orcas depending on salmon\, and transient orcas thriving on marine mammals become clear in this movie as well as why the two ecotypes don’t interact. Family clans and how they operate on their daily journeys and hunts are shown with breathtaking detail while introducing the personalities of individual whales. \nThe film also focuses on the outlook of the different ecotypes. It is a story of both environmental policy success and failure lived through the life of these magnificent top predators. The film reflects on how humans interact with orcas and how we steward the environments we share.\nThe movie is a must-see for anyone who loves orcas and the natural world and for those who enjoy stories of intimacy\, family and community.
URL:https://visitlangley.com/events/orcas-life-in-black-white
LOCATION:The Clyde Theatre\, 217 First Street\, Langley\, WA\, 98260\, United States
CATEGORIES:Community Events
ATTACH;FMTTYPE=image/png:https://visitlangley.com/wp-content/uploads/2025/06/Screenshot-2025-06-04-152144.png
ORGANIZER;CN="Orca Network":MAILTO:info@orcanetwork.org
GEO:48.0405782;-122.409049
X-APPLE-STRUCTURED-LOCATION;VALUE=URI;X-ADDRESS=The Clyde Theatre 217 First Street Langley WA 98260 United States;X-APPLE-RADIUS=500;X-TITLE=217 First Street:geo:-122.409049,48.0405782
END:VEVENT
BEGIN:VEVENT
DTSTART;TZID=America/Los_Angeles:20241031T190000
DTEND;TZID=America/Los_Angeles:20241031T210000
DTSTAMP:20260421T195746
CREATED:20241031T044737Z
LAST-MODIFIED:20241031T044750Z
UID:10001293-1730401200-1730408400@visitlangley.com
SUMMARY:The Clyde-Halloween Spooky Stories
DESCRIPTION:You’re invited to gather ’round for an evening of haunting stories and cultural connection at the Clyde Theatre in Langley on Halloween night. Renowned Indigenous storytellers Johnny Moses and Pamela SeaMonster will share Coast Salish traditional stories and some haunting truth! Doors open at 7 p.m.\, stories begin 7:30 p.m. All donations support People of the Confluence\, a 501(c)3 organization empowering Indigenous-led community programs.
URL:https://visitlangley.com/events/the-clyde-halloween-spooky-stories
LOCATION:The Clyde Theatre\, 217 First Street\, Langley\, WA\, 98260\, United States
CATEGORIES:Member Events
ATTACH;FMTTYPE=image/jpeg:https://visitlangley.com/wp-content/uploads/2024/10/clyde-halloween.jpg
GEO:48.0405782;-122.409049
X-APPLE-STRUCTURED-LOCATION;VALUE=URI;X-ADDRESS=The Clyde Theatre 217 First Street Langley WA 98260 United States;X-APPLE-RADIUS=500;X-TITLE=217 First Street:geo:-122.409049,48.0405782
END:VEVENT
BEGIN:VEVENT
DTSTART;TZID=America/Los_Angeles:20231209T130000
DTEND;TZID=America/Los_Angeles:20231209T143000
DTSTAMP:20260421T195746
CREATED:20231205T224007Z
LAST-MODIFIED:20231205T230614Z
UID:10000382-1702126800-1702132200@visitlangley.com
SUMMARY:"Elf" @ the Clyde with Porter Whidbey Insurance
DESCRIPTION:Let’s bring in the holiday spirit with our annual holiday movie! This year’s free showing is 2003’s “Elf”\, at the Clyde Theatre in Langley. Saturday\, December 9 at 1 p.m\, doors open at Noon. After the movie there will be a raffle drawing for some cool prizes!\nWe hope to see you there!
URL:https://visitlangley.com/events/elf-the-clyde-with-porter-whidbey-insurance
LOCATION:The Clyde Theatre\, 217 First Street\, Langley\, WA\, 98260\, United States
CATEGORIES:Holiday by the Sea
ATTACH;FMTTYPE=image/png:https://visitlangley.com/wp-content/uploads/2023/12/elf.png
GEO:48.0405782;-122.409049
X-APPLE-STRUCTURED-LOCATION;VALUE=URI;X-ADDRESS=The Clyde Theatre 217 First Street Langley WA 98260 United States;X-APPLE-RADIUS=500;X-TITLE=217 First Street:geo:-122.409049,48.0405782
END:VEVENT
END:VCALENDAR