BEGIN:VCALENDAR
VERSION:2.0
PRODID:-//Langley Chamber of Commerce - ECPv6.15.20//NONSGML v1.0//EN
CALSCALE:GREGORIAN
METHOD:PUBLISH
X-ORIGINAL-URL:https://visitlangley.com
X-WR-CALDESC:Events for Langley Chamber of Commerce
REFRESH-INTERVAL;VALUE=DURATION:PT1H
X-Robots-Tag:noindex
X-PUBLISHED-TTL:PT1H
BEGIN:VTIMEZONE
TZID:America/Los_Angeles
BEGIN:DAYLIGHT
TZOFFSETFROM:-0800
TZOFFSETTO:-0700
TZNAME:PDT
DTSTART:20250309T100000
END:DAYLIGHT
BEGIN:STANDARD
TZOFFSETFROM:-0700
TZOFFSETTO:-0800
TZNAME:PST
DTSTART:20251102T090000
END:STANDARD
BEGIN:DAYLIGHT
TZOFFSETFROM:-0800
TZOFFSETTO:-0700
TZNAME:PDT
DTSTART:20260308T100000
END:DAYLIGHT
BEGIN:STANDARD
TZOFFSETFROM:-0700
TZOFFSETTO:-0800
TZNAME:PST
DTSTART:20261101T090000
END:STANDARD
BEGIN:DAYLIGHT
TZOFFSETFROM:-0800
TZOFFSETTO:-0700
TZNAME:PDT
DTSTART:20270314T100000
END:DAYLIGHT
BEGIN:STANDARD
TZOFFSETFROM:-0700
TZOFFSETTO:-0800
TZNAME:PST
DTSTART:20271107T090000
END:STANDARD
END:VTIMEZONE
BEGIN:VEVENT
DTSTART;TZID=America/Los_Angeles:20260306T170000
DTEND;TZID=America/Los_Angeles:20260306T190000
DTSTAMP:20260421T032125
CREATED:20260214T223825Z
LAST-MODIFIED:20260214T223825Z
UID:10002397-1772816400-1772823600@visitlangley.com
SUMMARY:Poetry Open Mic Night
DESCRIPTION:Join us for another Poetry Open Mic Night hosted by the Commons Café & Books.\nWe welcome all forms of original work\, or works in progress to be shared in this inclusive space. Share through spoken word\, sing (with acoustic instruments if you want) or collaborate with someone and read each other’s poems. There is no one definition to poetry 🙂\nFirst Friday\, March 6th 2026\n5PM-7PM\nThe Commons Café & Books\n124 Second Street\, Langley\, WA 98260
URL:https://visitlangley.com/events/poetry-open-mic-night-2
LOCATION:SW Commons\, 124 Second Street\, Langley\, WA\, 98260\, United States
CATEGORIES:Community Events
ATTACH;FMTTYPE=image/jpeg:https://visitlangley.com/wp-content/uploads/2026/02/Poster-march-scaled.jpg
GEO:48.0401836;-122.4079079
X-APPLE-STRUCTURED-LOCATION;VALUE=URI;X-ADDRESS=SW Commons 124 Second Street Langley WA 98260 United States;X-APPLE-RADIUS=500;X-TITLE=124 Second Street:geo:-122.4079079,48.0401836
END:VEVENT
BEGIN:VEVENT
DTSTART;TZID=America/Los_Angeles:20260206T170000
DTEND;TZID=America/Los_Angeles:20260206T190000
DTSTAMP:20260421T032125
CREATED:20260117T184326Z
LAST-MODIFIED:20260117T184326Z
UID:10002360-1770397200-1770404400@visitlangley.com
SUMMARY:Poetry Open Mic Night
DESCRIPTION:Join us for another monthly Poetry Open Mic Night! We’re back together at the Commons Café & Books in downtown Langley. Welcome to all folks and all walks of life to share their words in any form: singer-songwriter\, poetry\, spoken word\, or collaborate with each other. \nPlease share only original works or works-in-progress. \nHead in early to grab a seat and a hot beverage before the Commons closes up for the night.
URL:https://visitlangley.com/events/poetry-open-mic-night
LOCATION:SW Commons\, 124 Second Street\, Langley\, WA\, 98260\, United States
CATEGORIES:Community Events
ATTACH;FMTTYPE=image/jpeg:https://visitlangley.com/wp-content/uploads/2026/01/Feb6poetry-scaled.jpg
GEO:48.0401836;-122.4079079
X-APPLE-STRUCTURED-LOCATION;VALUE=URI;X-ADDRESS=SW Commons 124 Second Street Langley WA 98260 United States;X-APPLE-RADIUS=500;X-TITLE=124 Second Street:geo:-122.4079079,48.0401836
END:VEVENT
BEGIN:VEVENT
DTSTART;TZID=America/Los_Angeles:20260109T160000
DTEND;TZID=America/Los_Angeles:20260109T180000
DTSTAMP:20260421T032125
CREATED:20260105T214130Z
LAST-MODIFIED:20260105T214130Z
UID:10002348-1767974400-1767981600@visitlangley.com
SUMMARY:
DESCRIPTION:Join us for our rescheduled Poetry Night at Commons Café & Books. This intimate\, unplugged gathering welcomes writers\, poets\, singer-songwriters\, and the poet-curious alike for an evening centered on the written word. \nParticipants are invited to share original poetry\, lyrics\, spoken word\, or short prose\, whether polished pieces or works in progress. Expect an open\, supportive atmosphere where thoughts\, musings\, rants\, and raves are encouraged and creativity takes the lead. A little Q&A for those who want to share their inspiration! \nNot ready to share? You’re just as welcome to come listen\, relax\, and enjoy a hot beverage and snacks while taking in the evening’s offerings. \nMany thanks to Commons Café & Books for hosting and providing the perfect cozy backdrop for a night of creative expression.
URL:https://visitlangley.com/events/34693
LOCATION:SW Commons\, 124 Second Street\, Langley\, WA\, 98260\, United States
ATTACH;FMTTYPE=image/jpeg:https://visitlangley.com/wp-content/uploads/2026/01/1000053097-scaled.jpg
GEO:48.0401836;-122.4079079
X-APPLE-STRUCTURED-LOCATION;VALUE=URI;X-ADDRESS=SW Commons 124 Second Street Langley WA 98260 United States;X-APPLE-RADIUS=500;X-TITLE=124 Second Street:geo:-122.4079079,48.0401836
END:VEVENT
END:VCALENDAR