BEGIN:VCALENDAR
VERSION:2.0
PRODID:-//Langley Chamber of Commerce - ECPv6.15.20//NONSGML v1.0//EN
CALSCALE:GREGORIAN
METHOD:PUBLISH
X-WR-CALNAME:Langley Chamber of Commerce
X-ORIGINAL-URL:https://visitlangley.com
X-WR-CALDESC:Events for Langley Chamber of Commerce
REFRESH-INTERVAL;VALUE=DURATION:PT1H
X-Robots-Tag:noindex
X-PUBLISHED-TTL:PT1H
BEGIN:VTIMEZONE
TZID:America/Los_Angeles
BEGIN:DAYLIGHT
TZOFFSETFROM:-0800
TZOFFSETTO:-0700
TZNAME:PDT
DTSTART:20250309T100000
END:DAYLIGHT
BEGIN:STANDARD
TZOFFSETFROM:-0700
TZOFFSETTO:-0800
TZNAME:PST
DTSTART:20251102T090000
END:STANDARD
BEGIN:DAYLIGHT
TZOFFSETFROM:-0800
TZOFFSETTO:-0700
TZNAME:PDT
DTSTART:20260308T100000
END:DAYLIGHT
BEGIN:STANDARD
TZOFFSETFROM:-0700
TZOFFSETTO:-0800
TZNAME:PST
DTSTART:20261101T090000
END:STANDARD
BEGIN:DAYLIGHT
TZOFFSETFROM:-0800
TZOFFSETTO:-0700
TZNAME:PDT
DTSTART:20270314T100000
END:DAYLIGHT
BEGIN:STANDARD
TZOFFSETFROM:-0700
TZOFFSETTO:-0800
TZNAME:PST
DTSTART:20271107T090000
END:STANDARD
END:VTIMEZONE
BEGIN:VEVENT
DTSTART;TZID=America/Los_Angeles:20260425T190000
DTEND;TZID=America/Los_Angeles:20260425T210000
DTSTAMP:20260421T183024
CREATED:20260411T190114Z
LAST-MODIFIED:20260411T190114Z
UID:10002470-1777143600-1777150800@visitlangley.com
SUMMARY:Greg Beck @ Ott & Hunter April 25
DESCRIPTION:Ott & Hunter Winery Tasting Room Presents \nGreg Beck Quartet \nSaturday\, April 25th @ 7 p.m. \n$25 \nGet ready for a night of funky and groovy jazz as the fantastic Greg Beck Quartet hits the stage in Ott & Hunter’s intimate cabaret room! This stellar ensemble brings together some of Whidbey Island’s finest musical talent for an unforgettable evening of world-class jazz. \nLed by the masterful Greg Beck on guitar\, the quartet features: Troy Chapman on bass (and guitar)\, laying down rich\, rhythmic textures; Gary Way on piano\, adding elegance and flair; And special guest Jerry Garcia on drums\, bringing the funk and fire to the groove. Whether you’re a longtime jazz lover or just discovering the magic\, this is a night you won’t want to miss. Come experience the soulful synergy and infectious energy that make this group a standout in the local music scene. \nGreg started playing guitar in his early teens and went on to study music and theory at the Cornish School of Music in Seattle. In the music community\, he is known as a well-rounded\, highly experienced player. His passion for music was fired by such diverse influences as jazz/funk guitarist Howard Roberts\, grooves by Freddie King and Ray Charles\, jazz masters Wes Montgomery\, Kenny Burrell\, and a long list leading to varied contemporary artists. As a member of the Viceroys\, Greg was inducted into the Northwest Hall of Fame. On Whidbey Island\, he is a member of the swing jazz ensemble\, Trio Nouveau\, and lead guitarist for the Latin Band\, Bahia. \nTickets are available for purchase online at\nhttps://otthunter.orderport.net/wines/Events \nOtt & Hunter Winery Tasting Room  204 1st Street\, Langley   http://otthunter.com
URL:https://visitlangley.com/events/greg-beck-ott-hunter-april-25
LOCATION:Ott & Hunter Tasting Room\, 204 1st Street\, Langley\, WA\, 98260\, United States
CATEGORIES:Live Music,Member Events
ATTACH;FMTTYPE=image/jpeg:https://visitlangley.com/wp-content/uploads/2026/04/GregBeck.jpg
ORGANIZER;CN="Ott & Hunter Tasting Room":MAILTO:info@otthunterwines.com
GEO:48.0409015;-122.4082782
X-APPLE-STRUCTURED-LOCATION;VALUE=URI;X-ADDRESS=Ott & Hunter Tasting Room 204 1st Street Langley WA 98260 United States;X-APPLE-RADIUS=500;X-TITLE=204 1st Street:geo:-122.4082782,48.0409015
END:VEVENT
END:VCALENDAR