BEGIN:VCALENDAR
VERSION:2.0
PRODID:-//Langley Chamber of Commerce - ECPv6.15.20//NONSGML v1.0//EN
CALSCALE:GREGORIAN
METHOD:PUBLISH
X-WR-CALNAME:Langley Chamber of Commerce
X-ORIGINAL-URL:https://visitlangley.com
X-WR-CALDESC:Events for Langley Chamber of Commerce
REFRESH-INTERVAL;VALUE=DURATION:PT1H
X-Robots-Tag:noindex
X-PUBLISHED-TTL:PT1H
BEGIN:VTIMEZONE
TZID:America/Los_Angeles
BEGIN:DAYLIGHT
TZOFFSETFROM:-0800
TZOFFSETTO:-0700
TZNAME:PDT
DTSTART:20230312T100000
END:DAYLIGHT
BEGIN:STANDARD
TZOFFSETFROM:-0700
TZOFFSETTO:-0800
TZNAME:PST
DTSTART:20231105T090000
END:STANDARD
BEGIN:DAYLIGHT
TZOFFSETFROM:-0800
TZOFFSETTO:-0700
TZNAME:PDT
DTSTART:20240310T100000
END:DAYLIGHT
BEGIN:STANDARD
TZOFFSETFROM:-0700
TZOFFSETTO:-0800
TZNAME:PST
DTSTART:20241103T090000
END:STANDARD
BEGIN:DAYLIGHT
TZOFFSETFROM:-0800
TZOFFSETTO:-0700
TZNAME:PDT
DTSTART:20250309T100000
END:DAYLIGHT
BEGIN:STANDARD
TZOFFSETFROM:-0700
TZOFFSETTO:-0800
TZNAME:PST
DTSTART:20251102T090000
END:STANDARD
END:VTIMEZONE
BEGIN:VEVENT
DTSTART;TZID=America/Los_Angeles:20240704T120000
DTEND;TZID=America/Los_Angeles:20240704T143000
DTSTAMP:20260422T105129
CREATED:20231207T002204Z
LAST-MODIFIED:20240601T203307Z
UID:10000402-1720094400-1720103400@visitlangley.com
SUMMARY:Maxwelton Fourth of July Parade
DESCRIPTION:Don’t miss this family fun and very Whidbey event! The parade typically begins at the intersection of Maxwelton and Swede Hill roads and proceeds down Maxwelton Road\, ending at Dave Mackie Park\, where food and commemorative buttons are available for purchase and classic family games can be played in the park. Walking down to the Parade route is encouraged though it is a long walk downhill. Free shuttle service is available and runs from Cascadia Meadows at the Little Brown Church from 10:30-12:00 and from the parade from 1:00-2:30. Learn more about Transportation. Anyone can be in the parade\, learn more about parade registration. \n10:30 am\nRegistration opens\nShuttle service begins \n12:00 pm\nRegistration closes\nShuttle service pauses\nParade starts \n12:30 pm\nParade concludes\nFlag raising & national anthem\nFood and games at Dave Mackie Park \n1:00 pm\nShuttle service resumes \n2:30 pm\nShuttle service ends
URL:https://visitlangley.com/events/maxwelton-fourth-of-july-parade
LOCATION:Maxwelton Rd\, Maxwelton Rd\, Clinton\, WA\, 98236
CATEGORIES:Annual Events
ATTACH;FMTTYPE=image/webp:https://visitlangley.com/wp-content/uploads/2023/12/maxwelton-fourth-of-july-parade.webp
END:VEVENT
END:VCALENDAR