BEGIN:VCALENDAR
VERSION:2.0
PRODID:-//Langley Chamber of Commerce - ECPv6.15.20//NONSGML v1.0//EN
CALSCALE:GREGORIAN
METHOD:PUBLISH
X-ORIGINAL-URL:https://visitlangley.com
X-WR-CALDESC:Events for Langley Chamber of Commerce
REFRESH-INTERVAL;VALUE=DURATION:PT1H
X-Robots-Tag:noindex
X-PUBLISHED-TTL:PT1H
BEGIN:VTIMEZONE
TZID:America/Los_Angeles
BEGIN:DAYLIGHT
TZOFFSETFROM:-0800
TZOFFSETTO:-0700
TZNAME:PDT
DTSTART:20230312T100000
END:DAYLIGHT
BEGIN:STANDARD
TZOFFSETFROM:-0700
TZOFFSETTO:-0800
TZNAME:PST
DTSTART:20231105T090000
END:STANDARD
BEGIN:DAYLIGHT
TZOFFSETFROM:-0800
TZOFFSETTO:-0700
TZNAME:PDT
DTSTART:20240310T100000
END:DAYLIGHT
BEGIN:STANDARD
TZOFFSETFROM:-0700
TZOFFSETTO:-0800
TZNAME:PST
DTSTART:20241103T090000
END:STANDARD
BEGIN:DAYLIGHT
TZOFFSETFROM:-0800
TZOFFSETTO:-0700
TZNAME:PDT
DTSTART:20250309T100000
END:DAYLIGHT
BEGIN:STANDARD
TZOFFSETFROM:-0700
TZOFFSETTO:-0800
TZNAME:PST
DTSTART:20251102T090000
END:STANDARD
END:VTIMEZONE
BEGIN:VEVENT
DTSTART;TZID=America/Los_Angeles:20240306T080000
DTEND;TZID=America/Los_Angeles:20240306T170000
DTSTAMP:20260423T000202
CREATED:20240305T213812Z
LAST-MODIFIED:20241031T041801Z
UID:10000522-1709712000-1709744400@visitlangley.com
SUMMARY:Island Senior Resources Community Forum on Aging
DESCRIPTION:Community Forum on Aging  When you speak\, we listen. Join Island  Senior Resources Community Forum to envision the next decade of aging in Whidbey Island.
URL:https://visitlangley.com/events/community-forum-on-aging
LOCATION:ISR Bayview\, 14594 SR 525\, langley\, WA\, 98260\, United States
CATEGORIES:Community Events,Member Events
ATTACH;FMTTYPE=image/jpeg:https://visitlangley.com/wp-content/uploads/2024/03/aae0db11-0601-245b-7f07-c83c1151dea2.jpeg
GEO:48.003098;-122.4587988
X-APPLE-STRUCTURED-LOCATION;VALUE=URI;X-ADDRESS=ISR Bayview 14594 SR 525 langley WA 98260 United States;X-APPLE-RADIUS=500;X-TITLE=14594 SR 525:geo:-122.4587988,48.003098
END:VEVENT
END:VCALENDAR