BEGIN:VCALENDAR
VERSION:2.0
PRODID:-//Langley Chamber of Commerce - ECPv6.15.20//NONSGML v1.0//EN
CALSCALE:GREGORIAN
METHOD:PUBLISH
X-ORIGINAL-URL:https://visitlangley.com
X-WR-CALDESC:Events for Langley Chamber of Commerce
REFRESH-INTERVAL;VALUE=DURATION:PT1H
X-Robots-Tag:noindex
X-PUBLISHED-TTL:PT1H
BEGIN:VTIMEZONE
TZID:America/Los_Angeles
BEGIN:DAYLIGHT
TZOFFSETFROM:-0800
TZOFFSETTO:-0700
TZNAME:PDT
DTSTART:20230312T100000
END:DAYLIGHT
BEGIN:STANDARD
TZOFFSETFROM:-0700
TZOFFSETTO:-0800
TZNAME:PST
DTSTART:20231105T090000
END:STANDARD
BEGIN:DAYLIGHT
TZOFFSETFROM:-0800
TZOFFSETTO:-0700
TZNAME:PDT
DTSTART:20240310T100000
END:DAYLIGHT
BEGIN:STANDARD
TZOFFSETFROM:-0700
TZOFFSETTO:-0800
TZNAME:PST
DTSTART:20241103T090000
END:STANDARD
BEGIN:DAYLIGHT
TZOFFSETFROM:-0800
TZOFFSETTO:-0700
TZNAME:PDT
DTSTART:20250309T100000
END:DAYLIGHT
BEGIN:STANDARD
TZOFFSETFROM:-0700
TZOFFSETTO:-0800
TZNAME:PST
DTSTART:20251102T090000
END:STANDARD
END:VTIMEZONE
BEGIN:VEVENT
DTSTART;TZID=America/Los_Angeles:20240816T170000
DTEND;TZID=America/Los_Angeles:20240816T180000
DTSTAMP:20260419T071052
CREATED:20240816T215218Z
LAST-MODIFIED:20240816T215218Z
UID:10001156-1723827600-1723831200@visitlangley.com
SUMMARY:Whidbey Island Music Festival - Yoga in the Barn
DESCRIPTION:If you are looking for a way to relax\, recharge and restore join us for the final Yoga in the Barn of the summer. Relax and stretch to the sumptuous resonance of French baroque harpsichord music. Accessible for all levels (and beginners!) this class is great way to experience movement combined with your favorite French Baroque music – all in the unique atmosphere of a historic barn. You’ll leave blissed out\, grounded and ready to enjoy the weekend. Curious to learn more? See what it was like last year. Start your weekend right and experience music in motion.\n\nBeck Diamond\, yoga instructor\nHenry Lebedinsky\, harpsichord
URL:https://visitlangley.com/events/whidbey-island-music-festival-yoga-in-the-barn
LOCATION:Coupeville Barn\, 556 Fort Casey Rd\, Coupeville\, WA\, 98239\, United States
ATTACH;FMTTYPE=image/jpeg:https://visitlangley.com/wp-content/uploads/2024/08/event-wimusicfestival-yoga-barn.jpeg
END:VEVENT
END:VCALENDAR