BEGIN:VCALENDAR
VERSION:2.0
PRODID:-//Langley Chamber of Commerce - ECPv6.15.20//NONSGML v1.0//EN
CALSCALE:GREGORIAN
METHOD:PUBLISH
X-WR-CALNAME:Langley Chamber of Commerce
X-ORIGINAL-URL:https://visitlangley.com
X-WR-CALDESC:Events for Langley Chamber of Commerce
REFRESH-INTERVAL;VALUE=DURATION:PT1H
X-Robots-Tag:noindex
X-PUBLISHED-TTL:PT1H
BEGIN:VTIMEZONE
TZID:America/Los_Angeles
BEGIN:DAYLIGHT
TZOFFSETFROM:-0800
TZOFFSETTO:-0700
TZNAME:PDT
DTSTART:20230312T100000
END:DAYLIGHT
BEGIN:STANDARD
TZOFFSETFROM:-0700
TZOFFSETTO:-0800
TZNAME:PST
DTSTART:20231105T090000
END:STANDARD
BEGIN:DAYLIGHT
TZOFFSETFROM:-0800
TZOFFSETTO:-0700
TZNAME:PDT
DTSTART:20240310T100000
END:DAYLIGHT
BEGIN:STANDARD
TZOFFSETFROM:-0700
TZOFFSETTO:-0800
TZNAME:PST
DTSTART:20241103T090000
END:STANDARD
BEGIN:DAYLIGHT
TZOFFSETFROM:-0800
TZOFFSETTO:-0700
TZNAME:PDT
DTSTART:20250309T100000
END:DAYLIGHT
BEGIN:STANDARD
TZOFFSETFROM:-0700
TZOFFSETTO:-0800
TZNAME:PST
DTSTART:20251102T090000
END:STANDARD
END:VTIMEZONE
BEGIN:VEVENT
DTSTART;TZID=America/Los_Angeles:20241122T173000
DTEND;TZID=America/Los_Angeles:20241122T193000
DTSTAMP:20260421T102405
CREATED:20241102T222449Z
LAST-MODIFIED:20241102T222649Z
UID:10001296-1732296600-1732303800@visitlangley.com
SUMMARY:Dancing Fish Vineyard Live Music – Those Guys
DESCRIPTION:Singer/songwriter/guitarist John Hribernick and singer/percussionist Kristi Barnes have been performing together as Those Guys since 2011. In addition to John’s original songs\, they play an eclectic yet familiar mix of popular tunes\, with a wide-ranging song list featuring harmony-laden pop (Beatles\, Indigo Girls)\, blues (Lucinda Williams\, Taj Mahal)\, folk rock (Jack Johnson\, John Mayer)\, protest rock (Green Day\, Cranberries)\, power ballads (Linda Ronstadt\, Pat Benatar)\, alternative (Radiohead\, Barenaked Ladies)\, and much more. \nThis event is by reservation only and comes with a shared appetizer board served to your table. A portion of the $25 admission fee will go to Whidbey Island Nourishes (WIN). \nPlease be aware that due to limited seating capacity in the Dancing Fish Barn\, some patrons may be assigned to larger communal tables. Alternatively\, if you have friends who are also attending this event\, please let us know via text/phone (360-632-4190) or email (info@dancingfishvineyards.com) in advance of the performance so we can seat you at the same table. \nPhoto: Dennis Browne
URL:https://visitlangley.com/events/dancing-fish-vineyard-live-music-those-guys
LOCATION:Barn – Dancing Fish Vineyards\, 1953 Newman Rd\, Freeland\, WA\, 98249\, United States
CATEGORIES:Community Events,Live Music,Member Events
ATTACH;FMTTYPE=image/jpeg:https://visitlangley.com/wp-content/uploads/2024/11/DSC_2816-Edit-scaled.jpeg
GEO:48.014584;-122.511135
X-APPLE-STRUCTURED-LOCATION;VALUE=URI;X-ADDRESS=Barn – Dancing Fish Vineyards 1953 Newman Rd Freeland WA 98249 United States;X-APPLE-RADIUS=500;X-TITLE=1953 Newman Rd:geo:-122.511135,48.014584
END:VEVENT
END:VCALENDAR