BEGIN:VCALENDAR
VERSION:2.0
PRODID:-//Langley Chamber of Commerce - ECPv6.15.20//NONSGML v1.0//EN
CALSCALE:GREGORIAN
METHOD:PUBLISH
X-WR-CALNAME:Langley Chamber of Commerce
X-ORIGINAL-URL:https://visitlangley.com
X-WR-CALDESC:Events for Langley Chamber of Commerce
REFRESH-INTERVAL;VALUE=DURATION:PT1H
X-Robots-Tag:noindex
X-PUBLISHED-TTL:PT1H
BEGIN:VTIMEZONE
TZID:America/Los_Angeles
BEGIN:DAYLIGHT
TZOFFSETFROM:-0800
TZOFFSETTO:-0700
TZNAME:PDT
DTSTART:20230312T100000
END:DAYLIGHT
BEGIN:STANDARD
TZOFFSETFROM:-0700
TZOFFSETTO:-0800
TZNAME:PST
DTSTART:20231105T090000
END:STANDARD
BEGIN:DAYLIGHT
TZOFFSETFROM:-0800
TZOFFSETTO:-0700
TZNAME:PDT
DTSTART:20240310T100000
END:DAYLIGHT
BEGIN:STANDARD
TZOFFSETFROM:-0700
TZOFFSETTO:-0800
TZNAME:PST
DTSTART:20241103T090000
END:STANDARD
BEGIN:DAYLIGHT
TZOFFSETFROM:-0800
TZOFFSETTO:-0700
TZNAME:PDT
DTSTART:20250309T100000
END:DAYLIGHT
BEGIN:STANDARD
TZOFFSETFROM:-0700
TZOFFSETTO:-0800
TZNAME:PST
DTSTART:20251102T090000
END:STANDARD
BEGIN:DAYLIGHT
TZOFFSETFROM:-0800
TZOFFSETTO:-0700
TZNAME:PDT
DTSTART:20260308T100000
END:DAYLIGHT
BEGIN:STANDARD
TZOFFSETFROM:-0700
TZOFFSETTO:-0800
TZNAME:PST
DTSTART:20261101T090000
END:STANDARD
BEGIN:DAYLIGHT
TZOFFSETFROM:-0800
TZOFFSETTO:-0700
TZNAME:PDT
DTSTART:20270314T100000
END:DAYLIGHT
BEGIN:STANDARD
TZOFFSETFROM:-0700
TZOFFSETTO:-0800
TZNAME:PST
DTSTART:20271107T090000
END:STANDARD
END:VTIMEZONE
BEGIN:VEVENT
DTSTART;TZID=America/Los_Angeles:20260123T190000
DTEND;TZID=America/Los_Angeles:20260123T210000
DTSTAMP:20260424T115127
CREATED:20260102T203310Z
LAST-MODIFIED:20260102T203310Z
UID:10002344-1769194800-1769202000@visitlangley.com
SUMMARY:In the Bleak Midwinter w/ Saratoga Orchestra
DESCRIPTION:Whidbey’s Saratoga Orchestra Presents “In the Bleak Midwinter” \nChamber Music for Reflection and Repose \nFollowing the rush of the holiday season\, In the Bleak Midwinter invites audiences to pause\, breathe\, and recenter through an evening of reflective chamber music. \nFriday\, January 23rd @ 7 p.m.\nUnitarian Universalist Congregation of Whidbey Island (UUCWI)\n20103 SR 525 – Freeland\n$25 Suggested Donation \nThis thoughtfully curated program features music of the season by Debussy\, Poulenc\, Vaughan Williams\, Fanny Mendelssohn\, Holst\, Sting\, Bruckner\, Over the Rhine\, Schubert and spoken word offering warmth\, stillness\, and spiritual grounding in the heart of winter. \nPerformers include Karen Heather\, Melanie Lowey\, Susan Baer\, Eileen Soskin\, Robert Finke\, Erica Montgomery\, Rickey Barnett\, Amber Gauthier\, and the Aureate Trombones\, bringing together a rich blend of instrumental voices in an intimate chamber setting. \nAll are welcome to attend and experience an evening designed\nfor reflection\, repose\, and musical beauty.\nMore information at: www.sowhidbey.com \n360) 929-3045
URL:https://visitlangley.com/events/in-the-bleak-midwinter-w-saratoga-orchestra
LOCATION:Unitarian Universalist Congregation Of Whidbey Island\, Hwy 525\, Freeland\, WA\, United States
CATEGORIES:Live Music,Member Events
ATTACH;FMTTYPE=image/png:https://visitlangley.com/wp-content/uploads/2026/01/BleakMidwwinter.png
GEO:48.0075773;-122.5261595
X-APPLE-STRUCTURED-LOCATION;VALUE=URI;X-ADDRESS=Unitarian Universalist Congregation Of Whidbey Island Hwy 525 Freeland WA United States;X-APPLE-RADIUS=500;X-TITLE=Hwy 525:geo:-122.5261595,48.0075773
END:VEVENT
BEGIN:VEVENT
DTSTART;TZID=America/Los_Angeles:20251004T120000
DTEND;TZID=America/Los_Angeles:20251004T180000
DTSTAMP:20260424T115127
CREATED:20250913T193445Z
LAST-MODIFIED:20250913T193445Z
UID:10001889-1759579200-1759600800@visitlangley.com
SUMMARY:Oktoberfest @ Greenbank Farm
DESCRIPTION:Oktoberfest at Greenbank Farm’s Main Barn October 4\, Noon-6 p.m. +21 event (ID Required). \nJoin Whidbey’s Saratoga Orchestra’s Oompah Sisters who will play polkas\, marches and the Chicken Dance!
URL:https://visitlangley.com/events/oktoberfest-greenbank-farm
LOCATION:Greenbank Farm
CATEGORIES:Live Music,Member Events,Seasonal Events
ATTACH;FMTTYPE=image/png:https://visitlangley.com/wp-content/uploads/2025/09/Oktobe.png
GEO:48.106919;-122.574052
END:VEVENT
BEGIN:VEVENT
DTSTART;TZID=America/Los_Angeles:20250518T140000
DTEND;TZID=America/Los_Angeles:20250518T160000
DTSTAMP:20260424T115127
CREATED:20250425T211718Z
LAST-MODIFIED:20250425T211718Z
UID:10001541-1747576800-1747584000@visitlangley.com
SUMMARY:Saratoga Orchestra Presents Reel Music
DESCRIPTION:Saratoga Orchestra Presents Reel Music from Stage to Screen \nMay 17\, 7 p.m.\nOak Harbor High School \nMay 18\, 2 p.m.\nSouth Whidbey High School \nTICKETS:\n$30 Adults\n$25 Seniors (65+)/Military\nStudents 17 and under FREE \nAvailable locally at:\nClick Music – Oak Harbor\nbayleaf – Coupeville\nBiercuterie – Freeland\nMoonraker Books – Langley \nONLINE TIX @ www.sowhidbey.com \n  \n\n\n\n\n\n\n\n\n\n\n\n  \n​
URL:https://visitlangley.com/events/saratoga-orchestra-presents-reel-music/2025-05-18
CATEGORIES:Live Music,Member Events
ATTACH;FMTTYPE=image/png:https://visitlangley.com/wp-content/uploads/2025/04/Saratoga-Orchestra-Logo.jpg.png
END:VEVENT
BEGIN:VEVENT
DTSTART;TZID=America/Los_Angeles:20250517T190000
DTEND;TZID=America/Los_Angeles:20250517T210000
DTSTAMP:20260424T115127
CREATED:20250425T211718Z
LAST-MODIFIED:20250425T211718Z
UID:10001540-1747508400-1747515600@visitlangley.com
SUMMARY:Saratoga Orchestra Presents Reel Music
DESCRIPTION:Saratoga Orchestra Presents Reel Music from Stage to Screen \nMay 17\, 7 p.m.\nOak Harbor High School \nMay 18\, 2 p.m.\nSouth Whidbey High School \nTICKETS:\n$30 Adults\n$25 Seniors (65+)/Military\nStudents 17 and under FREE \nAvailable locally at:\nClick Music – Oak Harbor\nbayleaf – Coupeville\nBiercuterie – Freeland\nMoonraker Books – Langley \nONLINE TIX @ www.sowhidbey.com \n  \n\n\n\n\n\n\n\n\n\n\n\n  \n​
URL:https://visitlangley.com/events/saratoga-orchestra-presents-reel-music/2025-05-17
CATEGORIES:Live Music,Member Events
ATTACH;FMTTYPE=image/png:https://visitlangley.com/wp-content/uploads/2025/04/Saratoga-Orchestra-Logo.jpg.png
END:VEVENT
BEGIN:VEVENT
DTSTART;TZID=America/Los_Angeles:20250413T140000
DTEND;TZID=America/Los_Angeles:20250413T160000
DTSTAMP:20260424T115127
CREATED:20250328T212959Z
LAST-MODIFIED:20250328T212959Z
UID:10001480-1744552800-1744560000@visitlangley.com
SUMMARY:Rhythms of Nature with Saratoga Orchestra
DESCRIPTION:Whidbey’s Saratoga Orchestra presents the 4th annual Rhythms of Nature Concert–Percussion\, Prose and Poetry\, an inspiring afternoon of chamber music and spoken word performances.
URL:https://visitlangley.com/events/rhythms-of-nature-with-saratoga-orchestra
LOCATION:Greenbank Farm
ATTACH;FMTTYPE=image/jpeg:https://visitlangley.com/wp-content/uploads/2025/03/SararogaOrchestraOverheadShot.jpg
GEO:48.106919;-122.574052
END:VEVENT
BEGIN:VEVENT
DTSTART;TZID=America/Los_Angeles:20250308T190000
DTEND;TZID=America/Los_Angeles:20250308T210000
DTSTAMP:20260424T115127
CREATED:20250212T225448Z
LAST-MODIFIED:20250212T225448Z
UID:10001426-1741460400-1741467600@visitlangley.com
SUMMARY:Nature (Re)Awaken Concert with Saratoga Orchestra
DESCRIPTION:As we anticipate the coming spring weather\, join the professional musicians of the Saratoga Orchestra for a vibrant program celebrating the beauty and rebirth of nature. The concert\, entitled Nature (Re)Awaken\, invites audiences to experience music inspired by the colorful and lively spirit of springtime’s blooming season. \nMarch 8th @ 7 p.m. South Whidbey High School\nMarch 9th @ 2 .p.m Oak Harbor High School \nFeatured works include:\n• Louise Farrenc’s Overture No. 1: A rarely performed piece by one of the 19th century’s most gifted composers.\n• Samuel Coleridge-Taylor’s Idyll: A short\, lyrical composition for full orchestra\, bringing a sense of tranquility and grace.\n• Joe Jaxson’s Through the Bay\, A new work from an emerging composer\, inspired by the artist’s experience riding the ferry across the waters of Puget Sound.\n• Antonín Dvořák’s Symphony No. 8: An epically splendid work showcasing the beauty of nature through rich orchestration and melody. \nTicket Information:\n• Adults: $30\n• Seniors (65+) and Military: $25\n• Students (17 and under): Free \nTickets are available for purchase at local vendors:\n• Moonraker Books in Langley • Biercuterie in Freeland • bayleaf in Coupeville • Click Music in Oak Harbor \nTickets may also be purchased online\, and additional information\ncan be found at www.sowhidbey.com or by calling 360-929-3045. \nSaratoga Orchestra of Whidbey Island
URL:https://visitlangley.com/events/nature-reawaken-concert-with-saratoga-orchestra
LOCATION:South Whidbey High School\, 5675 Maxwelton Road\, Langley\, WA\, 98260\, United States
CATEGORIES:Live Music,Member Events
ATTACH;FMTTYPE=image/jpeg:https://visitlangley.com/wp-content/uploads/2025/02/naturereawaken.jpg
GEO:48.004623;-122.409955
X-APPLE-STRUCTURED-LOCATION;VALUE=URI;X-ADDRESS=South Whidbey High School 5675 Maxwelton Road Langley WA 98260 United States;X-APPLE-RADIUS=500;X-TITLE=5675 Maxwelton Road:geo:-122.409955,48.004623
END:VEVENT
BEGIN:VEVENT
DTSTART;TZID=America/Los_Angeles:20241207T140000
DTEND;TZID=America/Los_Angeles:20241207T160000
DTSTAMP:20260424T115127
CREATED:20241123T212729Z
LAST-MODIFIED:20241123T212729Z
UID:10001346-1733580000-1733587200@visitlangley.com
SUMMARY:Whidbey’s Saratoga Orchestra Celebrates the Season with Music
DESCRIPTION:Celebrate the season with the professional musicians of Whidbey’s Saratoga Orchestra and music director\, Anna Edwards\, at the annual A Very Merry Whidbey Christmas. This treasured holiday tradition\, held on Saturday\, December 7 at 2 p.m. in the Coupeville High School Commons\, will feature a program of traditional carols\, timeless holiday classics and many\, many surprises. \nFeaturing an eclectic mix\, everything from Vivaldi to Disney with lots of audience participation\, the works on the program include Samuel Coleridge-Taylor’s “Christmas Overture”\, music from Disney’s Frozen\, A Charlie Brown Christmas plus sing-along opportunities from Handel’s Messiah\, including “Hallelujah Chorus”. \nJoining the orchestra will be special guest Tekla Cunningham\, baroque violinist and founder of the popular Whidbey Island Music Festival\, performing the “Winter” sections from Antonio Vivaldi’s Four Seasons. Also performing is vocalist Deirdre Fairfax with longtime music collaborator\, Kevin Johnson\, adding a contemporary take on beloved Christmas tunes. Students from local school instrumental programs will also be joining the orchestra as part of Saratoga Orchestra’s Talent Development Program. \nIn the spirit of giving\, A Toys for Tots donation box will be on site during the concert for attendees to bring a new and unwrapped toy. Toys for Tots\, a 76-year national charitable Program run by the U.S. Marine Corps Reserve\, provides happiness and hope to children in need during each Christmas holiday season and beyond. \nThis concert is graciously sponsored by Coupeville Festival Association\, Front Street Realty/Janet Burchfield and Hearing Health Services/Dr. Kristine Jarrell. \nTickets are $30 Adult\, $25 Seniors/Military and free for students 17 and under. Local ticket outlets include bayleaf – Coupeville\, Click Music – Oak Harbor\, Moonraker Books – Langley and Biercuterie – Freeland. Online tickets and more information may be found at www.sowhidbey.com or 360-929-3045.
URL:https://visitlangley.com/events/whidbeys-saratoga-orchestra-celebrates-the-season-with-music
CATEGORIES:Live Music,Member Events,Seasonal Events
ATTACH;FMTTYPE=image/jpeg:https://visitlangley.com/wp-content/uploads/2024/11/SaratogaOrchestraChristmas2024.jpg
END:VEVENT
END:VCALENDAR