BEGIN:VCALENDAR
VERSION:2.0
PRODID:-//Langley Chamber of Commerce - ECPv6.15.20//NONSGML v1.0//EN
CALSCALE:GREGORIAN
METHOD:PUBLISH
X-ORIGINAL-URL:https://visitlangley.com
X-WR-CALDESC:Events for Langley Chamber of Commerce
REFRESH-INTERVAL;VALUE=DURATION:PT1H
X-Robots-Tag:noindex
X-PUBLISHED-TTL:PT1H
BEGIN:VTIMEZONE
TZID:America/Los_Angeles
BEGIN:DAYLIGHT
TZOFFSETFROM:-0800
TZOFFSETTO:-0700
TZNAME:PDT
DTSTART:20240310T100000
END:DAYLIGHT
BEGIN:STANDARD
TZOFFSETFROM:-0700
TZOFFSETTO:-0800
TZNAME:PST
DTSTART:20241103T090000
END:STANDARD
BEGIN:DAYLIGHT
TZOFFSETFROM:-0800
TZOFFSETTO:-0700
TZNAME:PDT
DTSTART:20250309T100000
END:DAYLIGHT
BEGIN:STANDARD
TZOFFSETFROM:-0700
TZOFFSETTO:-0800
TZNAME:PST
DTSTART:20251102T090000
END:STANDARD
BEGIN:DAYLIGHT
TZOFFSETFROM:-0800
TZOFFSETTO:-0700
TZNAME:PDT
DTSTART:20260308T100000
END:DAYLIGHT
BEGIN:STANDARD
TZOFFSETFROM:-0700
TZOFFSETTO:-0800
TZNAME:PST
DTSTART:20261101T090000
END:STANDARD
BEGIN:DAYLIGHT
TZOFFSETFROM:-0800
TZOFFSETTO:-0700
TZNAME:PDT
DTSTART:20270314T100000
END:DAYLIGHT
BEGIN:STANDARD
TZOFFSETFROM:-0700
TZOFFSETTO:-0800
TZNAME:PST
DTSTART:20271107T090000
END:STANDARD
END:VTIMEZONE
BEGIN:VEVENT
DTSTART;TZID=America/Los_Angeles:20260328T170000
DTEND;TZID=America/Los_Angeles:20260328T190000
DTSTAMP:20260420T234411
CREATED:20260313T185103Z
LAST-MODIFIED:20260313T185103Z
UID:10002424-1774717200-1774724400@visitlangley.com
SUMMARY:The Dead Guise @ Greenbank Farm
DESCRIPTION:The Dead Guise Band Honors Bob Weir \nSaturday\, March 28th @ 6 p.m.\nDoors open at 5 \nGreenbank Farm \nThe Dead Guise Band Honors Bob Weir at the beautiful Greenbank Farm. \nBeer\, Wine\, & Cidery Drinks available.\nTickets ($20) available both at the door and in advance.\nFor advance ticket sales\, use this link: https://greenbank-farm-wine-shop.square.site/ \nThe Dead Guise Band \nthedeadguiseband@gmail.com
URL:https://visitlangley.com/events/the-dead-guise-greenbank-farm
LOCATION:Greenbank Farm
CATEGORIES:Live Music,Member Events
ATTACH;FMTTYPE=image/png:https://visitlangley.com/wp-content/uploads/2026/03/DeadGuise@Greenbank.png
GEO:48.106919;-122.574052
END:VEVENT
BEGIN:VEVENT
DTSTART;TZID=America/Los_Angeles:20251231T190000
DTEND;TZID=America/Los_Angeles:20251231T220000
DTSTAMP:20260420T234411
CREATED:20251203T225155Z
LAST-MODIFIED:20251203T225508Z
UID:10002312-1767207600-1767218400@visitlangley.com
SUMMARY:New Year's Eve with The Dead Guise
DESCRIPTION:New Years Eve @ Greenbank Farm \nThe popular Grateful Dead tribute band\, the Dead Guise\, perform a holiday concert\n7 – 10 p.m. in the Greenbank Farm barn. \nRing in the new year with a toast timed with the 9 p.m. East Coast ball drop! All ages welcome. \nWhidbey Island’s own The Dead Guise Band will be playing Greenbank Farm on New Year’s Eve December 31\, 2025. Lift your spirits and your glass to the upcoming New Year! Ticket price includes a complimentary glass of alcoholic or non-alcoholic sparkling wine for the ball drop toast. Kids under 16 get in free with a paying adult.
URL:https://visitlangley.com/events/new-years-eve-with-the-dead-guise
LOCATION:Greenbank Farm
CATEGORIES:Live Music,Member Events
ATTACH;FMTTYPE=image/jpeg:https://visitlangley.com/wp-content/uploads/2025/12/DeadGuiise.jpg
GEO:48.106919;-122.574052
END:VEVENT
BEGIN:VEVENT
DTSTART;TZID=America/Los_Angeles:20251017T190000
DTEND;TZID=America/Los_Angeles:20251017T210000
DTSTAMP:20260420T234411
CREATED:20251003T193114Z
LAST-MODIFIED:20251010T214422Z
UID:10002195-1760727600-1760734800@visitlangley.com
SUMMARY:Dead Guise at Greenbank Farm October 17
DESCRIPTION:  \nLive Music\nGreenbank Farm Barn\nFri\, Oct 17\n  \nThe Greenbank Farm Wine Shop presents an evening of music with the Grateful Dead tribute band Dead Guise!
URL:https://visitlangley.com/events/32614
LOCATION:Greenbank Farm
CATEGORIES:Live Music,Member Events
ATTACH;FMTTYPE=image/jpeg:https://visitlangley.com/wp-content/uploads/2025/10/DeadGuise.jpg
GEO:48.106919;-122.574052
END:VEVENT
END:VCALENDAR