BEGIN:VCALENDAR
VERSION:2.0
PRODID:-//Langley Chamber of Commerce - ECPv6.15.20//NONSGML v1.0//EN
CALSCALE:GREGORIAN
METHOD:PUBLISH
X-WR-CALNAME:Langley Chamber of Commerce
X-ORIGINAL-URL:https://visitlangley.com
X-WR-CALDESC:Events for Langley Chamber of Commerce
REFRESH-INTERVAL;VALUE=DURATION:PT1H
X-Robots-Tag:noindex
X-PUBLISHED-TTL:PT1H
BEGIN:VTIMEZONE
TZID:America/Los_Angeles
BEGIN:DAYLIGHT
TZOFFSETFROM:-0800
TZOFFSETTO:-0700
TZNAME:PDT
DTSTART:20230312T100000
END:DAYLIGHT
BEGIN:STANDARD
TZOFFSETFROM:-0700
TZOFFSETTO:-0800
TZNAME:PST
DTSTART:20231105T090000
END:STANDARD
BEGIN:DAYLIGHT
TZOFFSETFROM:-0800
TZOFFSETTO:-0700
TZNAME:PDT
DTSTART:20240310T100000
END:DAYLIGHT
BEGIN:STANDARD
TZOFFSETFROM:-0700
TZOFFSETTO:-0800
TZNAME:PST
DTSTART:20241103T090000
END:STANDARD
BEGIN:DAYLIGHT
TZOFFSETFROM:-0800
TZOFFSETTO:-0700
TZNAME:PDT
DTSTART:20250309T100000
END:DAYLIGHT
BEGIN:STANDARD
TZOFFSETFROM:-0700
TZOFFSETTO:-0800
TZNAME:PST
DTSTART:20251102T090000
END:STANDARD
BEGIN:DAYLIGHT
TZOFFSETFROM:-0800
TZOFFSETTO:-0700
TZNAME:PDT
DTSTART:20260308T100000
END:DAYLIGHT
BEGIN:STANDARD
TZOFFSETFROM:-0700
TZOFFSETTO:-0800
TZNAME:PST
DTSTART:20261101T090000
END:STANDARD
END:VTIMEZONE
BEGIN:VEVENT
DTSTART;TZID=America/Los_Angeles:20250611T180000
DTEND;TZID=America/Los_Angeles:20250611T200000
DTSTAMP:20260422T052903
CREATED:20250527T223757Z
LAST-MODIFIED:20250611T221810Z
UID:10001612-1749664800-1749672000@visitlangley.com
SUMMARY:Bayview Corner Street Dance: Janie Cribbs & the T. Rust Band
DESCRIPTION:Get ready to dance the night away! The first Bayview Corner Street Dance kicks off on Tuesday\, June 11th\, with live music by Janie Cribbs & the T. Rust Band. This free\, family-friendly event happens every other Wednesday\, so mark your calendars! Enjoy an evening of fun and community outside the historic Bayview Cash Store\, with food\, beer\, and wine available for purchase. Fulla Za mobile pizza food truck will be at this first dance! Don’t forget to explore all the fantastic Bayview businesses like Eat Salinity Seafood & More\, Taproom @ Bayview Corner\, and Japonica while you’re there. See you on the dance floor!
URL:https://visitlangley.com/events/bayview-corner-street-dance
LOCATION:Bayview Cash Store\, Bayview Corner\, Langley\, 98260\, United States
CATEGORIES:Community Events,Live Music,Seasonal Events
ATTACH;FMTTYPE=image/png:https://visitlangley.com/wp-content/uploads/2025/05/Screenshot-2025-05-27-153124.png
ORGANIZER;CN="Goosefoot":MAILTO:lauren@goosefoot.org
GEO:48.0071861;-122.461373
X-APPLE-STRUCTURED-LOCATION;VALUE=URI;X-ADDRESS=Bayview Cash Store Bayview Corner Langley 98260 United States;X-APPLE-RADIUS=500;X-TITLE=Bayview Corner:geo:-122.461373,48.0071861
END:VEVENT
BEGIN:VEVENT
DTSTART;TZID=America/Los_Angeles:20240904T180000
DTEND;TZID=America/Los_Angeles:20240904T200000
DTSTAMP:20260422T052903
CREATED:20240601T192444Z
LAST-MODIFIED:20241106T004529Z
UID:10000711-1725472800-1725480000@visitlangley.com
SUMMARY:Bayview Corner Street Dance - Doctor Savage
DESCRIPTION:Doctor Savage is brewing up the funkiest concoction. Featuring the talents of some of the Pacific Northwest’s finest musicians\, including Joanna Cook on vocals\, Keegan Harshman on bass\, Eric Vanderbilt Matthews on keyboard/sax\, and more. This band is sure to get your toes tappin’\, booty shakin’\, and keep the party going! \nStreet Dances are every other Wednesday—June 12 through September 4—from 6 to 8 PM at the Bayview Cash Store\, 5603 Bayview Road. Rain or shine! Beer\, wine\, and soft drinks are available for purchase\, pick up food from the Taproom or Chef in the Black Bandana\, and picnic dinners are welcome. All members of the community and visitors are invited to these free\, family friendly celebrations.
URL:https://visitlangley.com/events/bayview-corner-street-dance-doctor-savage
LOCATION:Bayview Corner\, 5603 Bayview Road\, Langley\, WA\, 98260
CATEGORIES:Live Music
ATTACH;FMTTYPE=image/jpeg:https://visitlangley.com/wp-content/uploads/2024/06/bayview-corner-street-doc-savage.jpg
ORGANIZER;CN="Goosefoot":MAILTO:lauren@goosefoot.org
END:VEVENT
BEGIN:VEVENT
DTSTART;TZID=America/Los_Angeles:20240821T180000
DTEND;TZID=America/Los_Angeles:20240821T200000
DTSTAMP:20260422T052903
CREATED:20240601T192247Z
LAST-MODIFIED:20240601T221742Z
UID:10000710-1724263200-1724270400@visitlangley.com
SUMMARY:Bayview Corner Street Dance - PETE
DESCRIPTION:PETE is the quintessential Whidbey Island garage band\, performing rock & blues dance music and American groove music. The band is comprised of Goosefoot’s own Fredde Butterworth on drums\, Dave Draper and Tom Hoeflich on guitar\, Marc Strader on bass\, with special guests David Licastro on guitar and Danny Ward on sax. \nStreet Dances are every other Wednesday—June 12 through September 4—from 6 to 8 PM at the Bayview Cash Store\, 5603 Bayview Road. Rain or shine! Beer\, wine\, and soft drinks are available for purchase\, pick up food from the Taproom or Chef in the Black Bandana\, and picnic dinners are welcome. All members of the community and visitors are invited to these free\, family friendly celebrations.
URL:https://visitlangley.com/events/bayview-corner-street-dance-pete
LOCATION:Bayview Corner\, 5603 Bayview Road\, Langley\, WA\, 98260
ATTACH;FMTTYPE=image/png:https://visitlangley.com/wp-content/uploads/2024/06/bayview-corner-street-pete.png
ORGANIZER;CN="Goosefoot":MAILTO:lauren@goosefoot.org
END:VEVENT
BEGIN:VEVENT
DTSTART;TZID=America/Los_Angeles:20240807T180000
DTEND;TZID=America/Los_Angeles:20240807T200000
DTSTAMP:20260422T052903
CREATED:20240601T192118Z
LAST-MODIFIED:20240601T201740Z
UID:10000709-1723053600-1723060800@visitlangley.com
SUMMARY:Bayview Corner Street Dance - Western Heroes
DESCRIPTION:Western Heroes have been providing original dance music to the Whidbey Island community for 14 years. From polka to punk\, their diverse collection of songs are played with one goal in mind: to get people up and moving. Michael and David Licastro provide vocals and guitar\, Lorraine Newland on bass and vocals\, David Malony on drums\, and Larry Neubauer on keyboard and vocals. \nStreet Dances are every other Wednesday—June 12 through September 4—from 6 to 8 PM at the Bayview Cash Store\, 5603 Bayview Road. Rain or shine! Beer\, wine\, and soft drinks are available for purchase\, pick up food from the Taproom or Chef in the Black Bandana\, and picnic dinners are welcome. All members of the community and visitors are invited to these free\, family friendly celebrations.
URL:https://visitlangley.com/events/bayview-corner-street-dance-western-heroes
LOCATION:Bayview Corner\, 5603 Bayview Road\, Langley\, WA\, 98260
ATTACH;FMTTYPE=image/jpeg:https://visitlangley.com/wp-content/uploads/2024/06/bayview-corner-street-western-heroes.jpg
ORGANIZER;CN="Goosefoot":MAILTO:lauren@goosefoot.org
END:VEVENT
BEGIN:VEVENT
DTSTART;TZID=America/Los_Angeles:20240724T180000
DTEND;TZID=America/Los_Angeles:20240724T200000
DTSTAMP:20260422T052903
CREATED:20240601T191919Z
LAST-MODIFIED:20240601T201650Z
UID:10000708-1721844000-1721851200@visitlangley.com
SUMMARY:Bayview Corner Street Dance - Rubitano Marimba
DESCRIPTION:Rubatano Marimba offers heart-warming and dance-inducing Zimbabwean style marimba. Tanya Boyd\, Paul Hayes\, Kerry Holland\, Dana Moffett\, Micah Petrich\, Leslie Breeden\, Diana Chamrad\, Dyanne Harshman\, Warner Scheyer and Tillie Scruton will be joined by special guest musicians from Zimbabwe. \nStreet Dances are every other Wednesday—June 12 through September 4—from 6 to 8 PM at the Bayview Cash Store\, 5603 Bayview Road. Rain or shine! Beer\, wine\, and soft drinks are available for purchase\, pick up food from the Taproom or Chef in the Black Bandana\, and picnic dinners are welcome. All members of the community and visitors are invited to these free\, family friendly celebrations.
URL:https://visitlangley.com/events/bayview-corner-street-dance-rubitano-marimba
LOCATION:Bayview Corner\, 5603 Bayview Road\, Langley\, WA\, 98260
ATTACH;FMTTYPE=image/jpeg:https://visitlangley.com/wp-content/uploads/2024/06/bayview-corner-street-dance-rubitano-marimba.jpg
ORGANIZER;CN="Goosefoot":MAILTO:lauren@goosefoot.org
END:VEVENT
BEGIN:VEVENT
DTSTART;TZID=America/Los_Angeles:20240710T180000
DTEND;TZID=America/Los_Angeles:20240710T200000
DTSTAMP:20260422T052903
CREATED:20240601T191713Z
LAST-MODIFIED:20240601T201608Z
UID:10000707-1720634400-1720641600@visitlangley.com
SUMMARY:Bayview Corner Street Dance - Nick Mardon Trio
DESCRIPTION:The Nick Mardon Trio is a blues-rock power trio from Seattle\, led by Nick Mardon on guitar and vocals\, Adin Pennington on bass and vocals\, and Andy Emery on drums. Their music blends the sounds of 60s and 70s blues-rock power trios with the Seattle sound of the 1990s.
URL:https://visitlangley.com/events/bayview-corner-street-dance-nick-mardon-trio
LOCATION:Bayview Corner\, 5603 Bayview Road\, Langley\, WA\, 98260
CATEGORIES:Annual Events,Community Events,Member Events
ATTACH;FMTTYPE=image/png:https://visitlangley.com/wp-content/uploads/2024/06/bayview-corner-street-dance-nick-mardo-trio.png
ORGANIZER;CN="Goosefoot":MAILTO:lauren@goosefoot.org
END:VEVENT
BEGIN:VEVENT
DTSTART;TZID=America/Los_Angeles:20240626T180000
DTEND;TZID=America/Los_Angeles:20240626T200000
DTSTAMP:20260422T052903
CREATED:20240601T191404Z
LAST-MODIFIED:20240601T201527Z
UID:10000706-1719424800-1719432000@visitlangley.com
SUMMARY:Bayview Corner Street Dance - Ross-a-Conn
DESCRIPTION:ROSSaCONN is an eclectic mix of danceable instrumental originals\, blending funk\, African\, reggae rock and life influences. Stephan Ross on bass\, Eric Nightsong Conn on guitar\, and Rachman Ross on drums keep it upbeat and fun.
URL:https://visitlangley.com/events/bayview-corner-street-dance-ross-a-conn
LOCATION:Bayview Corner\, 5603 Bayview Road\, Langley\, WA\, 98260
CATEGORIES:Annual Events,Community Events,Member Events
ATTACH;FMTTYPE=image/jpeg:https://visitlangley.com/wp-content/uploads/2024/06/bayview-corner-street-dance-ross-a-con.jpg
ORGANIZER;CN="Goosefoot":MAILTO:lauren@goosefoot.org
END:VEVENT
BEGIN:VEVENT
DTSTART;TZID=America/Los_Angeles:20240612T180000
DTEND;TZID=America/Los_Angeles:20240612T200000
DTSTAMP:20260422T052903
CREATED:20240601T191126Z
LAST-MODIFIED:20240601T201457Z
UID:10000705-1718215200-1718222400@visitlangley.com
SUMMARY:Bayview Corner Street Dance - Wax Lips
DESCRIPTION:Wax Lips kicks off the 2024 Bayview Corner Summer Street Dance series. Blending a fusion of classic rock\, punk rock\, blues\, psychedelic rock and more\, they put on a show that will be sure to get you moving and grooving! Expect a wide range of upbeat original music as well as covers of The Beatles\, Tom Petty\, Fleetwood Mac\, and other popular artists. Members of the band live all over Washington State\, but all are South Whidbey High School alumni: Brady Willis\, lead vocals & rhythm guitar; Asher Thorn\, lead guitar; Nick Simmons\, drums; Jacob Breedan\, bass; and Isaac Ramos\, keyboard & vocals.
URL:https://visitlangley.com/events/bayview-corner-street-dance-wax-lips
LOCATION:Bayview Corner\, 5603 Bayview Road\, Langley\, WA\, 98260
CATEGORIES:Annual Events,Community Events,Member Events
ATTACH;FMTTYPE=image/jpeg:https://visitlangley.com/wp-content/uploads/2024/06/bayview-corner-street-dance-wax-lips.jpg
ORGANIZER;CN="Goosefoot":MAILTO:lauren@goosefoot.org
END:VEVENT
END:VCALENDAR