BEGIN:VCALENDAR
VERSION:2.0
PRODID:-//Langley Chamber of Commerce - ECPv6.15.20//NONSGML v1.0//EN
CALSCALE:GREGORIAN
METHOD:PUBLISH
X-ORIGINAL-URL:https://visitlangley.com
X-WR-CALDESC:Events for Langley Chamber of Commerce
REFRESH-INTERVAL;VALUE=DURATION:PT1H
X-Robots-Tag:noindex
X-PUBLISHED-TTL:PT1H
BEGIN:VTIMEZONE
TZID:America/Los_Angeles
BEGIN:DAYLIGHT
TZOFFSETFROM:-0800
TZOFFSETTO:-0700
TZNAME:PDT
DTSTART:20240310T100000
END:DAYLIGHT
BEGIN:STANDARD
TZOFFSETFROM:-0700
TZOFFSETTO:-0800
TZNAME:PST
DTSTART:20241103T090000
END:STANDARD
BEGIN:DAYLIGHT
TZOFFSETFROM:-0800
TZOFFSETTO:-0700
TZNAME:PDT
DTSTART:20250309T100000
END:DAYLIGHT
BEGIN:STANDARD
TZOFFSETFROM:-0700
TZOFFSETTO:-0800
TZNAME:PST
DTSTART:20251102T090000
END:STANDARD
BEGIN:DAYLIGHT
TZOFFSETFROM:-0800
TZOFFSETTO:-0700
TZNAME:PDT
DTSTART:20260308T100000
END:DAYLIGHT
BEGIN:STANDARD
TZOFFSETFROM:-0700
TZOFFSETTO:-0800
TZNAME:PST
DTSTART:20261101T090000
END:STANDARD
END:VTIMEZONE
BEGIN:VEVENT
DTSTART;TZID=America/Los_Angeles:20251130T100000
DTEND;TZID=America/Los_Angeles:20251130T150000
DTSTAMP:20260421T015440
CREATED:20251010T213419Z
LAST-MODIFIED:20251014T204521Z
UID:10002225-1764496800-1764514800@visitlangley.com
SUMMARY:Holiday Market at Coffee at Dawn
DESCRIPTION:Holiday Market at Coffee at Dawn \nSunday\, November 30th  ~  10 a.m. – 3 p.m. \nCoffee at Dawn\n5331 S Crawford Road Langley \nA variety of handmade\, quality art and locally made goods.\nIncluding blacksmithing\, birdhouses\, pottery\, baskets\, jewelry\,\nsoaps\, gourmet mushrooms\, brooms\, candles\, and more.\nPlus free hot cider and drip coffee. \n 
URL:https://visitlangley.com/events/holiday-market-at-coffee-at-dawn
LOCATION:Coffee at Dawn\, 5331 Crawford Rd\,\, Langley\, 98260\, United States
CATEGORIES:Member Events,Seasonal Events
ATTACH;FMTTYPE=image/jpeg:https://visitlangley.com/wp-content/uploads/2025/10/CoffeeatDawnHolidayMarket.jpg
END:VEVENT
END:VCALENDAR